Workbook

Sheet Raport
C2: RM. | E2: Budżet IT
E3: =IF(Parametry!$G$5="","Uzupełnij nazwę firmy w Parametrach",Parametry!$G$5)&" / "&IF(Parametry!$G$6="","",Parametry!$G$6) -> Firma modelowa / 2027
E4: PRZYKŁAD HIPOTETYCZNY | I4: ="Wariant: "&Parametry!$G$9 -> Wariant: Bazowy
C5: ="Stan na: "&IF(ISNUMBER(Parametry!$G$10),TEXT(Parametry!$G$10,"yyyy-mm-dd"),"—")&" | Właściciel: "&IF(Parametry!$G$14="","—",Parametry!$G$14) -> Stan na: yyyy-06-30 | Właściciel: IT owner
C6: Plan roczny (PLN) | G6: Wykonanie okresu (PLN) | K6: Prognoza roku (PLN)
C7: =IF(AND(Model!$E$5=1,COUNTA(Plan!$C$9:$C$38)>0,SUM(Plan!$X$9:$X$38)=0),SUM(Plan!$I$9:$I$38),"") -> 1232000 | G7: =IF(AND(AND(Model!$E$5=1,COUNTA(Plan!$C$9:$C$38)>0,SUM(Plan!$X$9:$X$38)=0),SUM(ERP!$O$9:$O$1008)=0),SUM(Model!$G$9:$G$368),"") -> 627000 | K7: =IF(Model!$E$6=1,SUM(Model!$L$9:$L$368),"") -> 1141200
C10: Odchylenie prognozy | G10: =IF(AND(ISNUMBER(C7),ISNUMBER(K7)),K7-C7,"") -> -90800 | I10: =IF(AND(ISNUMBER(C7),ISNUMBER(K7)),IF(C7=0,"n.a.",(K7-C7)/C7),"") -> -0.073701299
C12: =IF(Model!$E$5=0,"Uzupełnij rok, okres i wariant w Parametrach",IF(COUNTA(Plan!$C$9:$C$38)=0,"Wprowadź plan i mapowanie danych",IF(Model!$I$5>0,"Popraw błędy źródeł. Szczegóły w Kontroli.",IF(Model!$M$5>0,"Uzupełnij prognozę niezakontraktowaną lub korekty wariantu","Prognoza kompletna. Odchylenie dodatnie oznacza przekroczenie planu.")))) -> Prognoza kompletna. Odchylenie dodatnie oznacza przekroczenie planu.
C14: PLN bez VAT. Zamknięte miesiące: wykonanie. Pozostałe: otwarte zobowiązania i prognoza niezakontraktowana.
C16: Miesiąc | D16: Plan PLN | E16: Wykonanie / prognoza | F16: Odchylenie PLN
C17: Sty | D17: =IF(ISNUMBER($C$7),SUMIFS(Model!$F$9:$F$368,Model!$E$9:$E$368,DATE(Parametry!$G$6,1,1)),"") -> 208000 | E17: =IF(Model!$E$6=1,SUMIFS(Model!$L$9:$L$368,Model!$E$9:$E$368,DATE(Parametry!$G$6,1,1)),"") -> 184000 | F17: =IF(AND(ISNUMBER(D17),ISNUMBER(E17)),E17-D17,"") -> -24000
C18: Lut | D18: =IF(ISNUMBER($C$7),SUMIFS(Model!$F$9:$F$368,Model!$E$9:$E$368,DATE(Parametry!$G$6,2,1)),"") -> 64000 | E18: =IF(Model!$E$6=1,SUMIFS(Model!$L$9:$L$368,Model!$E$9:$E$368,DATE(Parametry!$G$6,2,1)),"") -> 64000 | F18: =IF(AND(ISNUMBER(D18),ISNUMBER(E18)),E18-D18,"") -> 0
C19: Mar | D19: =IF(ISNUMBER($C$7),SUMIFS(Model!$F$9:$F$368,Model!$E$9:$E$368,DATE(Parametry!$G$6,3,1)),"") -> 124000 | E19: =IF(Model!$E$6=1,SUMIFS(Model!$L$9:$L$368,Model!$E$9:$E$368,DATE(Parametry!$G$6,3,1)),"") -> 128000 | F19: =IF(AND(ISNUMBER(D19),ISNUMBER(E19)),E19-D19,"") -> 4000
C20: Kwi | D20: =IF(ISNUMBER($C$7),SUMIFS(Model!$F$9:$F$368,Model!$E$9:$E$368,DATE(Parametry!$G$6,4,1)),"") -> 104000 | E20: =IF(Model!$E$6=1,SUMIFS(Model!$L$9:$L$368,Model!$E$9:$E$368,DATE(Parametry!$G$6,4,1)),"") -> 104000 | F20: =IF(AND(ISNUMBER(D20),ISNUMBER(E20)),E20-D20,"") -> 0
C21: Maj | D21: =IF(ISNUMBER($C$7),SUMIFS(Model!$F$9:$F$368,Model!$E$9:$E$368,DATE(Parametry!$G$6,5,1)),"") -> 82000 | E21: =IF(Model!$E$6=1,SUMIFS(Model!$L$9:$L$368,Model!$E$9:$E$368,DATE(Parametry!$G$6,5,1)),"") -> 82000 | F21: =IF(AND(ISNUMBER(D21),ISNUMBER(E21)),E21-D21,"") -> 0
C22: Cze | D22: =IF(ISNUMBER($C$7),SUMIFS(Model!$F$9:$F$368,Model!$E$9:$E$368,DATE(Parametry!$G$6,6,1)),"") -> 64000 | E22: =IF(Model!$E$6=1,SUMIFS(Model!$L$9:$L$368,Model!$E$9:$E$368,DATE(Parametry!$G$6,6,1)),"") -> 65000 | F22: =IF(AND(ISNUMBER(D22),ISNUMBER(E22)),E22-D22,"") -> 1000
C23: Lip | D23: =IF(ISNUMBER($C$7),SUMIFS(Model!$F$9:$F$368,Model!$E$9:$E$368,DATE(Parametry!$G$6,7,1)),"") -> 64000 | E23: =IF(Model!$E$6=1,SUMIFS(Model!$L$9:$L$368,Model!$E$9:$E$368,DATE(Parametry!$G$6,7,1)),"") -> 91200 | F23: =IF(AND(ISNUMBER(D23),ISNUMBER(E23)),E23-D23,"") -> 27200
C24: Sie | D24: =IF(ISNUMBER($C$7),SUMIFS(Model!$F$9:$F$368,Model!$E$9:$E$368,DATE(Parametry!$G$6,8,1)),"") -> 64000 | E24: =IF(Model!$E$6=1,SUMIFS(Model!$L$9:$L$368,Model!$E$9:$E$368,DATE(Parametry!$G$6,8,1)),"") -> 65200 | F24: =IF(AND(ISNUMBER(D24),ISNUMBER(E24)),E24-D24,"") -> 1200
C25: Wrz | D25: =IF(ISNUMBER($C$7),SUMIFS(Model!$F$9:$F$368,Model!$E$9:$E$368,DATE(Parametry!$G$6,9,1)),"") -> 144000 | E25: =IF(Model!$E$6=1,SUMIFS(Model!$L$9:$L$368,Model!$E$9:$E$368,DATE(Parametry!$G$6,9,1)),"") -> 145200 | F25: =IF(AND(ISNUMBER(D25),ISNUMBER(E25)),E25-D25,"") -> 1200
C26: Paź | D26: =IF(ISNUMBER($C$7),SUMIFS(Model!$F$9:$F$368,Model!$E$9:$E$368,DATE(Parametry!$G$6,10,1)),"") -> 76000 | E26: =IF(Model!$E$6=1,SUMIFS(Model!$L$9:$L$368,Model!$E$9:$E$368,DATE(Parametry!$G$6,10,1)),"") -> 77200 | F26: =IF(AND(ISNUMBER(D26),ISNUMBER(E26)),E26-D26,"") -> 1200
C27: Lis | D27: =IF(ISNUMBER($C$7),SUMIFS(Model!$F$9:$F$368,Model!$E$9:$E$368,DATE(Parametry!$G$6,11,1)),"") -> 154000 | E27: =IF(Model!$E$6=1,SUMIFS(Model!$L$9:$L$368,Model!$E$9:$E$368,DATE(Parametry!$G$6,11,1)),"") -> 65200 | F27: =IF(AND(ISNUMBER(D27),ISNUMBER(E27)),E27-D27,"") -> -88800
C28: Gru | D28: =IF(ISNUMBER($C$7),SUMIFS(Model!$F$9:$F$368,Model!$E$9:$E$368,DATE(Parametry!$G$6,12,1)),"") -> 84000 | E28: =IF(Model!$E$6=1,SUMIFS(Model!$L$9:$L$368,Model!$E$9:$E$368,DATE(Parametry!$G$6,12,1)),"") -> 70200 | F28: =IF(AND(ISNUMBER(D28),ISNUMBER(E28)),E28-D28,"") -> -13800
C32: Zobowiązania, odnowienia i alokacja na biznes
C34: Otwarte do końca roku (PLN) | G34: =IF(Model!$E$6=1,SUMIFS(Umowy!$N$9:$N$108,Umowy!$O$9:$O$108,">0",Umowy!$O$9:$O$108,"<=12"),"") -> 262000 | J34: Jednostka biznesowa | K34: Prognoza PLN | L34: Udział
C35: Otwarte poza rokiem (PLN) | G35: =IF(Model!$E$6=1,SUM(Umowy!$N$9:$N$108)-G34,"") -> 90000 | J35: =Parametry!G29 -> Produkcja | K35: =IF(Model!$E$6=1,SUM(Alokacja!$N$9:$N$38),"") -> 602880 | L35: =IF(AND(ISNUMBER(K35),ISNUMBER($K$7)),IF($K$7=0,"n.a.",K35/$K$7),"") -> 0.52828601
C36: Przeterminowane etapy | G36: =IF(Model!$E$5=1,COUNTIFS(Umowy!$G$9:$G$108,">0",Umowy!$G$9:$G$108,"<="&Parametry!$G$10,Umowy!$N$9:$N$108,">0"),"") -> 1 | J36: =Parametry!H29 -> Logistyka | K36: =IF(Model!$E$6=1,SUM(Alokacja!$O$9:$O$38),"") -> 334640 | L36: =IF(AND(ISNUMBER(K36),ISNUMBER($K$7)),IF($K$7=0,"n.a.",K36/$K$7),"") -> 0.29323519
C37: Odnowienia do przeglądu | G37: =COUNTIFS(Umowy!$R$9:$R$108,"Sprawdź odnowienie")+COUNTIFS(Umowy!$R$9:$R$108,"Brak terminu decyzji") -> 0 | J37: =Parametry!I29 -> Sprzedaż | K37: =IF(Model!$E$6=1,SUM(Alokacja!$P$9:$P$38),"") -> 119120 | L37: =IF(AND(ISNUMBER(K37),ISNUMBER($K$7)),IF($K$7=0,"n.a.",K37/$K$7),"") -> 0.10438135
J38: =Parametry!J29 -> Administracja | K38: =IF(Model!$E$6=1,SUM(Alokacja!$Q$9:$Q$38),"") -> 84560 | L38: =IF(AND(ISNUMBER(K38),ISNUMBER($K$7)),IF($K$7=0,"n.a.",K38/$K$7),"") -> 0.074097441
C41: Decyzje i uzgodnienia
C43: Decyzja / temat | D43: Uzasadnienie | E43: Właściciel | F43: Termin | G43: Status
C44: Etap MES w kolejnym roku | D44: 90 000 PLN poza rokiem | E44: Applications | F44: 46583 | G44: Do decyzji
C45: Rozliczenie umowy ERP | D45: 26 000 PLN otwarte | E45: Applications | F45: 46578 | G45: W toku
C46: Odchylenie sieci | D46: 4 000 PLN ponad plan | E46: Infrastructure | F46: 46588 | G46: Do decyzji
C49: Alokacja roczna opiera się na kluczach w Parametrach. Pełny TCO wymaga dodatkowo kosztów cyklu życia.
C51: Rafał Mokrowiecki mokrowiecki.pl M2 v1.0 2026-11-01

Sheet Parametry
C2: Parametry i klucze
C3: PRZYKŁAD HIPOTETYCZNY. Dane nie opisują rzeczywistej firmy.
C4: Wariant: | D4: =Parametry!$G$9 -> Bazowy
C5: Firma | G5: Firma modelowa | H5: PLN bez VAT. Rok kalendarzowy.
C6: Rok budżetu | G6: 2027
C7: Zamknięte miesiące (0–12) | G7: 6
C8: Wariant (1–3) | G8: 1 | H8: Wariant zmienia tylko przyszłą część niezakontraktowaną.
C9: Aktywny wariant | G9: =IF(AND(ISNUMBER(G8),G8>=1,G8<=3,G8=INT(G8)),CHOOSE(G8,"Bazowy","Wzrost kosztów","Ograniczenie zakresu"),"") -> Bazowy
C10: Data raportu | G10: =IF(AND(ISNUMBER(G6),G6>=2000,G6<=2100,G6=INT(G6),ISNUMBER(G7),G7>=0,G7<=12,G7=INT(G7)),DATE(G6,G7+1,1)-1,"") -> 46568
C11: Przegląd odnowień: dni | G11: 90
C12: Kontrola importu: wiersze | G12: 36
C13: Kontrola importu: suma PLN | G13: 627000
C14: Właściciel raportu | G14: IT owner
C15: Kolor akcentowy | G15: #FF4A1F
H17: =IF($G$6="","",DATE($G$6,1,1)) -> 46388 | I17: =IF($G$6="","",DATE($G$6,2,1)) -> 46419 | J17: =IF($G$6="","",DATE($G$6,3,1)) -> 46447 | K17: =IF($G$6="","",DATE($G$6,4,1)) -> 46478 | L17: =IF($G$6="","",DATE($G$6,5,1)) -> 46508 | M17: =IF($G$6="","",DATE($G$6,6,1)) -> 46539 | N17: =IF($G$6="","",DATE($G$6,7,1)) -> 46569 | O17: =IF($G$6="","",DATE($G$6,8,1)) -> 46600 | P17: =IF($G$6="","",DATE($G$6,9,1)) -> 46631 | Q17: =IF($G$6="","",DATE($G$6,10,1)) -> 46661 | R17: =IF($G$6="","",DATE($G$6,11,1)) -> 46692 | S17: =IF($G$6="","",DATE($G$6,12,1)) -> 46722
C18: Utrzymanie: aktywna korekta | H18: =IF($G$9="","",IF(CHOOSE($G$8,ISBLANK(H19),ISBLANK(H20),ISBLANK(H21)),"",IF(ISNUMBER(CHOOSE($G$8,H19,H20,H21)),CHOOSE($G$8,H19,H20,H21),""))) -> 0 | I18: =IF($G$9="","",IF(CHOOSE($G$8,ISBLANK(I19),ISBLANK(I20),ISBLANK(I21)),"",IF(ISNUMBER(CHOOSE($G$8,I19,I20,I21)),CHOOSE($G$8,I19,I20,I21),""))) -> 0 | J18: =IF($G$9="","",IF(CHOOSE($G$8,ISBLANK(J19),ISBLANK(J20),ISBLANK(J21)),"",IF(ISNUMBER(CHOOSE($G$8,J19,J20,J21)),CHOOSE($G$8,J19,J20,J21),""))) -> 0 | K18: =IF($G$9="","",IF(CHOOSE($G$8,ISBLANK(K19),ISBLANK(K20),ISBLANK(K21)),"",IF(ISNUMBER(CHOOSE($G$8,K19,K20,K21)),CHOOSE($G$8,K19,K20,K21),""))) -> 0 | L18: =IF($G$9="","",IF(CHOOSE($G$8,ISBLANK(L19),ISBLANK(L20),ISBLANK(L21)),"",IF(ISNUMBER(CHOOSE($G$8,L19,L20,L21)),CHOOSE($G$8,L19,L20,L21),""))) -> 0 | M18: =IF($G$9="","",IF(CHOOSE($G$8,ISBLANK(M19),ISBLANK(M20),ISBLANK(M21)),"",IF(ISNUMBER(CHOOSE($G$8,M19,M20,M21)),CHOOSE($G$8,M19,M20,M21),""))) -> 0 | N18: =IF($G$9="","",IF(CHOOSE($G$8,ISBLANK(N19),ISBLANK(N20),ISBLANK(N21)),"",IF(ISNUMBER(CHOOSE($G$8,N19,N20,N21)),CHOOSE($G$8,N19,N20,N21),""))) -> 0 | O18: =IF($G$9="","",IF(CHOOSE($G$8,ISBLANK(O19),ISBLANK(O20),ISBLANK(O21)),"",IF(ISNUMBER(CHOOSE($G$8,O19,O20,O21)),CHOOSE($G$8,O19,O20,O21),""))) -> 0 | ... S18: =IF($G$9="","",IF(CHOOSE($G$8,ISBLANK(S19),ISBLANK(S20),ISBLANK(S21)),"",IF(ISNUMBER(CHOOSE($G$8,S19,S20,S21)),CHOOSE($G$8,S19,S20,S21),""))) -> 0
C19: Bazowy | H19: 0 | I19: 0 | J19: 0 | K19: 0 | L19: 0 | M19: 0 | N19: 0 | O19: 0 | P19: 0 | Q19: 0 | R19: 0 | S19: 0
C20: Wzrost kosztów | H20: 0.08 | I20: 0.08 | J20: 0.08 | K20: 0.08 | L20: 0.08 | M20: 0.08 | N20: 0.08 | O20: 0.08 | P20: 0.08 | Q20: 0.08 | R20: 0.08 | S20: 0.08
C21: Ograniczenie zakresu | H21: -0.1 | I21: -0.1 | J21: -0.1 | K21: -0.1 | L21: -0.1 | M21: -0.1 | N21: -0.1 | O21: -0.1 | P21: -0.1 | Q21: -0.1 | R21: -0.1 | S21: -0.1
C24: Rozwój: aktywna korekta | H24: =IF($G$9="","",IF(CHOOSE($G$8,ISBLANK(H25),ISBLANK(H26),ISBLANK(H27)),"",IF(ISNUMBER(CHOOSE($G$8,H25,H26,H27)),CHOOSE($G$8,H25,H26,H27),""))) -> 0 | I24: =IF($G$9="","",IF(CHOOSE($G$8,ISBLANK(I25),ISBLANK(I26),ISBLANK(I27)),"",IF(ISNUMBER(CHOOSE($G$8,I25,I26,I27)),CHOOSE($G$8,I25,I26,I27),""))) -> 0 | J24: =IF($G$9="","",IF(CHOOSE($G$8,ISBLANK(J25),ISBLANK(J26),ISBLANK(J27)),"",IF(ISNUMBER(CHOOSE($G$8,J25,J26,J27)),CHOOSE($G$8,J25,J26,J27),""))) -> 0 | K24: =IF($G$9="","",IF(CHOOSE($G$8,ISBLANK(K25),ISBLANK(K26),ISBLANK(K27)),"",IF(ISNUMBER(CHOOSE($G$8,K25,K26,K27)),CHOOSE($G$8,K25,K26,K27),""))) -> 0 | L24: =IF($G$9="","",IF(CHOOSE($G$8,ISBLANK(L25),ISBLANK(L26),ISBLANK(L27)),"",IF(ISNUMBER(CHOOSE($G$8,L25,L26,L27)),CHOOSE($G$8,L25,L26,L27),""))) -> 0 | M24: =IF($G$9="","",IF(CHOOSE($G$8,ISBLANK(M25),ISBLANK(M26),ISBLANK(M27)),"",IF(ISNUMBER(CHOOSE($G$8,M25,M26,M27)),CHOOSE($G$8,M25,M26,M27),""))) -> 0 | N24: =IF($G$9="","",IF(CHOOSE($G$8,ISBLANK(N25),ISBLANK(N26),ISBLANK(N27)),"",IF(ISNUMBER(CHOOSE($G$8,N25,N26,N27)),CHOOSE($G$8,N25,N26,N27),""))) -> 0 | O24: =IF($G$9="","",IF(CHOOSE($G$8,ISBLANK(O25),ISBLANK(O26),ISBLANK(O27)),"",IF(ISNUMBER(CHOOSE($G$8,O25,O26,O27)),CHOOSE($G$8,O25,O26,O27),""))) -> 0 | ... S24: =IF($G$9="","",IF(CHOOSE($G$8,ISBLANK(S25),ISBLANK(S26),ISBLANK(S27)),"",IF(ISNUMBER(CHOOSE($G$8,S25,S26,S27)),CHOOSE($G$8,S25,S26,S27),""))) -> 0
C25: Bazowy | H25: 0 | I25: 0 | J25: 0 | K25: 0 | L25: 0 | M25: 0 | N25: 0 | O25: 0 | P25: 0 | Q25: 0 | R25: 0 | S25: 0
C26: Wzrost kosztów | H26: 0.15 | I26: 0.15 | J26: 0.15 | K26: 0.15 | L26: 0.15 | M26: 0.15 | N26: 0.15 | O26: 0.15 | P26: 0.15 | Q26: 0.15 | R26: 0.15 | S26: 0.15
C27: Ograniczenie zakresu | H27: -0.2 | I27: -0.2 | J27: -0.2 | K27: -0.2 | L27: -0.2 | M27: -0.2 | N27: -0.2 | O27: -0.2 | P27: -0.2 | Q27: -0.2 | R27: -0.2 | S27: -0.2
C29: Jednostki biznesowe | G29: Produkcja | H29: Logistyka | I29: Sprzedaż | J29: Administracja
C32: Klucze alokacji: liczby jednostek, nie gotowe procenty
C34: ID | D34: Nazwa | E34: Jednostka klucza | F34: Podstawa i okres | G34: =G29 -> Produkcja | H34: =H29 -> Logistyka | I34: =I29 -> Sprzedaż | J34: =J29 -> Administracja | K34: Suma | L34: Błędy
C35: PROD | D35: Produkcja bezpośrednio | E35: Przypisanie bezpośrednie | F35: Przykład, 2027 | G35: 1 | H35: 0 | I35: 0 | J35: 0 | K35: =IF(C35="","",SUM(G35:J35)) -> 1 | L35: =IF(C35="",0,IF(OR(COUNTIFS($C$35:$C$46,C35)<>1,D35="",E35="",F35="",COUNT(G35:J35)<>4,MIN(G35:J35)<0,K35<=0),1,0)) -> 0
C36: LOG | D36: Logistyka bezpośrednio | E36: Przypisanie bezpośrednie | F36: Przykład, 2027 | G36: 0 | H36: 1 | I36: 0 | J36: 0 | K36: =IF(C36="","",SUM(G36:J36)) -> 1 | L36: =IF(C36="",0,IF(OR(COUNTIFS($C$35:$C$46,C36)<>1,D36="",E36="",F36="",COUNT(G36:J36)<>4,MIN(G36:J36)<0,K36<=0),1,0)) -> 0
C37: USERS | D37: Użytkownicy | E37: Liczba użytkowników | F37: Przykład, 2027 | G37: 120 | H37: 40 | I37: 30 | J37: 10 | K37: =IF(C37="","",SUM(G37:J37)) -> 200 | L37: =IF(C37="",0,IF(OR(COUNTIFS($C$35:$C$46,C37)<>1,D37="",E37="",F37="",COUNT(G37:J37)<>4,MIN(G37:J37)<0,K37<=0),1,0)) -> 0
C38: ERP | D38: Wykorzystanie ERP | E38: Udział wykorzystania | F38: Przykład, 2027 | G38: 70 | H38: 20 | I38: 5 | J38: 5 | K38: =IF(C38="","",SUM(G38:J38)) -> 100 | L38: =IF(C38="",0,IF(OR(COUNTIFS($C$35:$C$46,C38)<>1,D38="",E38="",F38="",COUNT(G38:J38)<>4,MIN(G38:J38)<0,K38<=0),1,0)) -> 0
C39: STORAGE | D39: Zasoby danych | E39: Wolumen danych | F39: Przykład, 2027 | G39: 65 | H39: 20 | I39: 10 | J39: 5 | K39: =IF(C39="","",SUM(G39:J39)) -> 100 | L39: =IF(C39="",0,IF(OR(COUNTIFS($C$35:$C$46,C39)<>1,D39="",E39="",F39="",COUNT(G39:J39)<>4,MIN(G39:J39)<0,K39<=0),1,0)) -> 0
C40: ASSETS | D40: Urządzenia | E40: Liczba urządzeń | F40: Przykład, 2027 | G40: 90 | H40: 20 | I40: 20 | J40: 20 | K40: =IF(C40="","",SUM(G40:J40)) -> 150 | L40: =IF(C40="",0,IF(OR(COUNTIFS($C$35:$C$46,C40)<>1,D40="",E40="",F40="",COUNT(G40:J40)<>4,MIN(G40:J40)<0,K40<=0),1,0)) -> 0
C41: HOURS | D41: Nakład pracy IT | E41: Godziny wsparcia | F41: Przykład, 2027 | G41: 40 | H41: 20 | I41: 10 | J41: 10 | K41: =IF(C41="","",SUM(G41:J41)) -> 80 | L41: =IF(C41="",0,IF(OR(COUNTIFS($C$35:$C$46,C41)<>1,D41="",E41="",F41="",COUNT(G41:J41)<>4,MIN(G41:J41)<0,K41<=0),1,0)) -> 0
K42: =IF(C42="","",SUM(G42:J42)) | L42: =IF(C42="",0,IF(OR(COUNTIFS($C$35:$C$46,C42)<>1,D42="",E42="",F42="",COUNT(G42:J42)<>4,MIN(G42:J42)<0,K42<=0),1,0)) -> 0
K43: =IF(C43="","",SUM(G43:J43)) | L43: =IF(C43="",0,IF(OR(COUNTIFS($C$35:$C$46,C43)<>1,D43="",E43="",F43="",COUNT(G43:J43)<>4,MIN(G43:J43)<0,K43<=0),1,0)) -> 0
K44: =IF(C44="","",SUM(G44:J44)) | L44: =IF(C44="",0,IF(OR(COUNTIFS($C$35:$C$46,C44)<>1,D44="",E44="",F44="",COUNT(G44:J44)<>4,MIN(G44:J44)<0,K44<=0),1,0)) -> 0
K45: =IF(C45="","",SUM(G45:J45)) | L45: =IF(C45="",0,IF(OR(COUNTIFS($C$35:$C$46,C45)<>1,D45="",E45="",F45="",COUNT(G45:J45)<>4,MIN(G45:J45)<0,K45<=0),1,0)) -> 0
K46: =IF(C46="","",SUM(G46:J46)) | L46: =IF(C46="",0,IF(OR(COUNTIFS($C$35:$C$46,C46)<>1,D46="",E46="",F46="",COUNT(G46:J46)<>4,MIN(G46:J46)<0,K46<=0),1,0)) -> 0
C51: Mapowanie klucza eksportu ERP na pozycję budżetu
C53: Klucz ERP | D53: ID budżetu | E53: Opis mapowania | F53: Błędy | G53: Źródło / właściciel
C54: ERP-IT01 | D54: IT01 | E54: Licencje stanowiskowe | F54: =IF(C54="",0,IF(OR(COUNTIFS($C$54:$C$113,C54)<>1,COUNTIFS(Plan!$C$9:$C$38,D54)<>1),1,0)) -> 0 | G54: IT owner
C55: ERP-IT02 | D55: IT02 | E55: Utrzymanie ERP | F55: =IF(C55="",0,IF(OR(COUNTIFS($C$54:$C$113,C55)<>1,COUNTIFS(Plan!$C$9:$C$38,D55)<>1),1,0)) -> 0 | G55: IT owner
C56: ERP-IT03 | D56: IT03 | E56: Backup i odtwarzanie | F56: =IF(C56="",0,IF(OR(COUNTIFS($C$54:$C$113,C56)<>1,COUNTIFS(Plan!$C$9:$C$38,D56)<>1),1,0)) -> 0 | G56: IT owner
C57: ERP-IT04 | D57: IT04 | E57: Ochrona środowiska | F57: =IF(C57="",0,IF(OR(COUNTIFS($C$54:$C$113,C57)<>1,COUNTIFS(Plan!$C$9:$C$38,D57)<>1),1,0)) -> 0 | G57: IT owner
C58: ERP-IT05 | D58: IT05 | E58: Odświeżenie sieci | F58: =IF(C58="",0,IF(OR(COUNTIFS($C$54:$C$113,C58)<>1,COUNTIFS(Plan!$C$9:$C$38,D58)<>1),1,0)) -> 0 | G58: IT owner
C59: ERP-IT06 | D59: IT06 | E59: Projekt WMS | F59: =IF(C59="",0,IF(OR(COUNTIFS($C$54:$C$113,C59)<>1,COUNTIFS(Plan!$C$9:$C$38,D59)<>1),1,0)) -> 0 | G59: IT owner
C60: ERP-IT07 | D60: IT07 | E60: Projekt MES | F60: =IF(C60="",0,IF(OR(COUNTIFS($C$54:$C$113,C60)<>1,COUNTIFS(Plan!$C$9:$C$38,D60)<>1),1,0)) -> 0 | G60: IT owner
C61: ERP-IT08 | D61: IT08 | E61: Usługi chmurowe | F61: =IF(C61="",0,IF(OR(COUNTIFS($C$54:$C$113,C61)<>1,COUNTIFS(Plan!$C$9:$C$38,D61)<>1),1,0)) -> 0 | G61: IT owner
C62: ERP-IT09 | D62: IT09 | E62: Zespół IT | F62: =IF(C62="",0,IF(OR(COUNTIFS($C$54:$C$113,C62)<>1,COUNTIFS(Plan!$C$9:$C$38,D62)<>1),1,0)) -> 0 | G62: IT owner
C63: ERP-IT10 | D63: IT10 | E63: Prace wydajnościowe ERP | F63: =IF(C63="",0,IF(OR(COUNTIFS($C$54:$C$113,C63)<>1,COUNTIFS(Plan!$C$9:$C$38,D63)<>1),1,0)) -> 0 | G63: IT owner
C64: ERP-IT11 | D64: IT11 | E64: Rozwój kompetencji | F64: =IF(C64="",0,IF(OR(COUNTIFS($C$54:$C$113,C64)<>1,COUNTIFS(Plan!$C$9:$C$38,D64)<>1),1,0)) -> 0 | G64: IT owner
C65: ERP-IT12 | D65: IT12 | E65: Rezerwa zarządcza | F65: =IF(C65="",0,IF(OR(COUNTIFS($C$54:$C$113,C65)<>1,COUNTIFS(Plan!$C$9:$C$38,D65)<>1),1,0)) -> 0 | G65: IT owner
C66: ERP-IT13 | D66: IT13 | E66: Praca poza planem | F66: =IF(C66="",0,IF(OR(COUNTIFS($C$54:$C$113,C66)<>1,COUNTIFS(Plan!$C$9:$C$38,D66)<>1),1,0)) -> 0 | G66: IT owner
F67: =IF(C67="",0,IF(OR(COUNTIFS($C$54:$C$113,C67)<>1,COUNTIFS(Plan!$C$9:$C$38,D67)<>1),1,0)) -> 0
F68: =IF(C68="",0,IF(OR(COUNTIFS($C$54:$C$113,C68)<>1,COUNTIFS(Plan!$C$9:$C$38,D68)<>1),1,0)) -> 0
F69: =IF(C69="",0,IF(OR(COUNTIFS($C$54:$C$113,C69)<>1,COUNTIFS(Plan!$C$9:$C$38,D69)<>1),1,0)) -> 0
F70: =IF(C70="",0,IF(OR(COUNTIFS($C$54:$C$113,C70)<>1,COUNTIFS(Plan!$C$9:$C$38,D70)<>1),1,0)) -> 0
F71: =IF(C71="",0,IF(OR(COUNTIFS($C$54:$C$113,C71)<>1,COUNTIFS(Plan!$C$9:$C$38,D71)<>1),1,0)) -> 0
F72: =IF(C72="",0,IF(OR(COUNTIFS($C$54:$C$113,C72)<>1,COUNTIFS(Plan!$C$9:$C$38,D72)<>1),1,0)) -> 0
F73: =IF(C73="",0,IF(OR(COUNTIFS($C$54:$C$113,C73)<>1,COUNTIFS(Plan!$C$9:$C$38,D73)<>1),1,0)) -> 0
F74: =IF(C74="",0,IF(OR(COUNTIFS($C$54:$C$113,C74)<>1,COUNTIFS(Plan!$C$9:$C$38,D74)<>1),1,0)) -> 0
F75: =IF(C75="",0,IF(OR(COUNTIFS($C$54:$C$113,C75)<>1,COUNTIFS(Plan!$C$9:$C$38,D75)<>1),1,0)) -> 0
F76: =IF(C76="",0,IF(OR(COUNTIFS($C$54:$C$113,C76)<>1,COUNTIFS(Plan!$C$9:$C$38,D76)<>1),1,0)) -> 0
F77: =IF(C77="",0,IF(OR(COUNTIFS($C$54:$C$113,C77)<>1,COUNTIFS(Plan!$C$9:$C$38,D77)<>1),1,0)) -> 0
F78: =IF(C78="",0,IF(OR(COUNTIFS($C$54:$C$113,C78)<>1,COUNTIFS(Plan!$C$9:$C$38,D78)<>1),1,0)) -> 0
... F113: =IF(C113="",0,IF(OR(COUNTIFS($C$54:$C$113,C113)<>1,COUNTIFS(Plan!$C$9:$C$38,D113)<>1),1,0)) -> 0

Sheet Model
C2: Model miesięczny
C3: PRZYKŁAD HIPOTETYCZNY. Dane nie opisują rzeczywistej firmy.
C4: Wariant: | D4: =Parametry!$G$9 -> Bazowy
C5: Parametry poprawne | E5: =IF(AND(ISNUMBER(Parametry!$G$10),Parametry!$G$9<>""),1,0) -> 1 | G5: Błędy źródeł | I5: =SUM(Plan!$X$9:$X$38,ERP!$O$9:$O$1008,Umowy!$P$9:$P$108,Prognoza!$F$9:$F$38,Parametry!$L$35:$L$46,Parametry!$F$54:$F$113) -> 0 | K5: Braki prognozy | M5: =SUM(N9:N368) -> 0
C6: Prognoza kompletna | E6: =IF(AND(E5=1,COUNTA(Plan!$C$9:$C$38)>0,I5=0,M5=0),1,0) -> 1
C8: ID | D8: Pozycja | E8: Miesiąc | F8: Plan | G8: Wykonanie | H8: Otwarte zobowiązania | I8: Baza niezakontraktowana | J8: Korekta wariantu | K8: Aktywna prognoza swobodna | L8: Wykonanie / prognoza | M8: Odchylenie | N8: Brak danych
C9: =IF(Plan!C9="","",Plan!C9) -> IT01 | D9: =IF(C9="","",Plan!D9) -> Licencje stanowiskowe | E9: =IF(OR(C9="",Parametry!$G$6=""),"",DATE(Parametry!$G$6,1,1)) -> 46388 | F9: =IF(C9="","",Plan!K9) -> 18000 | G9: =IF(C9="","",SUMIFS(ERP!$I$9:$I$1008,ERP!$L$9:$L$1008,C9,ERP!$N$9:$N$1008,1,ERP!$M$9:$M$1008,1)) -> 18000 | H9: =IF(C9="","",IF(1<=Parametry!$G$7,0,SUMIFS(Umowy!$N$9:$N$108,Umowy!$D$9:$D$108,C9,Umowy!$O$9:$O$108,1))) -> 0 | I9: =IF(C9="","",IF(1<=Parametry!$G$7,0,IF(COUNTIFS(Prognoza!$C$9:$C$38,C9)=1,IF(ISBLANK(INDEX(Prognoza!$K$9:$V$38,MATCH($C9,Prognoza!$C$9:$C$38,0),1)),"",IF(ISNUMBER(INDEX(Prognoza!$K$9:$V$38,MATCH($C9,Prognoza!$C$9:$C$38,0),1)),INDEX(Prognoza!$K$9:$V$38,MATCH($C9,Prognoza!$C$9:$C$38,0),1),"")),""))) -> 0 | J9: =IF(C9="","",IF(Plan!F9="Run",IF(ISNUMBER(INDEX(Parametry!$H$18:$S$18,1,1)),INDEX(Parametry!$H$18:$S$18,1,1),""),IF(ISNUMBER(INDEX(Parametry!$H$24:$S$24,1,1)),INDEX(Parametry!$H$24:$S$24,1,1),""))) -> 0 | K9: =IF(C9="","",IF(1<=Parametry!$G$7,0,IF(AND(ISNUMBER(I9),ISNUMBER(J9),J9>=-1),I9*(1+J9),""))) -> 0 | L9: =IF(C9="","",IF(1<=Parametry!$G$7,G9,IF(ISNUMBER(K9),H9+K9,""))) -> 18000 | M9: =IF(AND(C9<>"",ISNUMBER(L9)),L9-F9,"") -> 0 | N9: =IF(C9="",0,IF(ISNUMBER(L9),0,1)) -> 0
C10: =IF(Plan!C9="","",Plan!C9) -> IT01 | D10: =IF(C10="","",Plan!D9) -> Licencje stanowiskowe | E10: =IF(OR(C10="",Parametry!$G$6=""),"",DATE(Parametry!$G$6,2,1)) -> 46419 | F10: =IF(C10="","",Plan!L9) -> 18000 | G10: =IF(C10="","",SUMIFS(ERP!$I$9:$I$1008,ERP!$L$9:$L$1008,C10,ERP!$N$9:$N$1008,1,ERP!$M$9:$M$1008,2)) -> 18000 | H10: =IF(C10="","",IF(2<=Parametry!$G$7,0,SUMIFS(Umowy!$N$9:$N$108,Umowy!$D$9:$D$108,C10,Umowy!$O$9:$O$108,2))) -> 0 | I10: =IF(C10="","",IF(2<=Parametry!$G$7,0,IF(COUNTIFS(Prognoza!$C$9:$C$38,C10)=1,IF(ISBLANK(INDEX(Prognoza!$K$9:$V$38,MATCH($C10,Prognoza!$C$9:$C$38,0),2)),"",IF(ISNUMBER(INDEX(Prognoza!$K$9:$V$38,MATCH($C10,Prognoza!$C$9:$C$38,0),2)),INDEX(Prognoza!$K$9:$V$38,MATCH($C10,Prognoza!$C$9:$C$38,0),2),"")),""))) -> 0 | J10: =IF(C10="","",IF(Plan!F9="Run",IF(ISNUMBER(INDEX(Parametry!$H$18:$S$18,1,2)),INDEX(Parametry!$H$18:$S$18,1,2),""),IF(ISNUMBER(INDEX(Parametry!$H$24:$S$24,1,2)),INDEX(Parametry!$H$24:$S$24,1,2),""))) -> 0 | K10: =IF(C10="","",IF(2<=Parametry!$G$7,0,IF(AND(ISNUMBER(I10),ISNUMBER(J10),J10>=-1),I10*(1+J10),""))) -> 0 | L10: =IF(C10="","",IF(2<=Parametry!$G$7,G10,IF(ISNUMBER(K10),H10+K10,""))) -> 18000 | M10: =IF(AND(C10<>"",ISNUMBER(L10)),L10-F10,"") -> 0 | N10: =IF(C10="",0,IF(ISNUMBER(L10),0,1)) -> 0
C11: =IF(Plan!C9="","",Plan!C9) -> IT01 | D11: =IF(C11="","",Plan!D9) -> Licencje stanowiskowe | E11: =IF(OR(C11="",Parametry!$G$6=""),"",DATE(Parametry!$G$6,3,1)) -> 46447 | F11: =IF(C11="","",Plan!M9) -> 18000 | G11: =IF(C11="","",SUMIFS(ERP!$I$9:$I$1008,ERP!$L$9:$L$1008,C11,ERP!$N$9:$N$1008,1,ERP!$M$9:$M$1008,3)) -> 18000 | H11: =IF(C11="","",IF(3<=Parametry!$G$7,0,SUMIFS(Umowy!$N$9:$N$108,Umowy!$D$9:$D$108,C11,Umowy!$O$9:$O$108,3))) -> 0 | I11: =IF(C11="","",IF(3<=Parametry!$G$7,0,IF(COUNTIFS(Prognoza!$C$9:$C$38,C11)=1,IF(ISBLANK(INDEX(Prognoza!$K$9:$V$38,MATCH($C11,Prognoza!$C$9:$C$38,0),3)),"",IF(ISNUMBER(INDEX(Prognoza!$K$9:$V$38,MATCH($C11,Prognoza!$C$9:$C$38,0),3)),INDEX(Prognoza!$K$9:$V$38,MATCH($C11,Prognoza!$C$9:$C$38,0),3),"")),""))) -> 0 | J11: =IF(C11="","",IF(Plan!F9="Run",IF(ISNUMBER(INDEX(Parametry!$H$18:$S$18,1,3)),INDEX(Parametry!$H$18:$S$18,1,3),""),IF(ISNUMBER(INDEX(Parametry!$H$24:$S$24,1,3)),INDEX(Parametry!$H$24:$S$24,1,3),""))) -> 0 | K11: =IF(C11="","",IF(3<=Parametry!$G$7,0,IF(AND(ISNUMBER(I11),ISNUMBER(J11),J11>=-1),I11*(1+J11),""))) -> 0 | L11: =IF(C11="","",IF(3<=Parametry!$G$7,G11,IF(ISNUMBER(K11),H11+K11,""))) -> 18000 | M11: =IF(AND(C11<>"",ISNUMBER(L11)),L11-F11,"") -> 0 | N11: =IF(C11="",0,IF(ISNUMBER(L11),0,1)) -> 0
C12: =IF(Plan!C9="","",Plan!C9) -> IT01 | D12: =IF(C12="","",Plan!D9) -> Licencje stanowiskowe | E12: =IF(OR(C12="",Parametry!$G$6=""),"",DATE(Parametry!$G$6,4,1)) -> 46478 | F12: =IF(C12="","",Plan!N9) -> 18000 | G12: =IF(C12="","",SUMIFS(ERP!$I$9:$I$1008,ERP!$L$9:$L$1008,C12,ERP!$N$9:$N$1008,1,ERP!$M$9:$M$1008,4)) -> 18000 | H12: =IF(C12="","",IF(4<=Parametry!$G$7,0,SUMIFS(Umowy!$N$9:$N$108,Umowy!$D$9:$D$108,C12,Umowy!$O$9:$O$108,4))) -> 0 | I12: =IF(C12="","",IF(4<=Parametry!$G$7,0,IF(COUNTIFS(Prognoza!$C$9:$C$38,C12)=1,IF(ISBLANK(INDEX(Prognoza!$K$9:$V$38,MATCH($C12,Prognoza!$C$9:$C$38,0),4)),"",IF(ISNUMBER(INDEX(Prognoza!$K$9:$V$38,MATCH($C12,Prognoza!$C$9:$C$38,0),4)),INDEX(Prognoza!$K$9:$V$38,MATCH($C12,Prognoza!$C$9:$C$38,0),4),"")),""))) -> 0 | J12: =IF(C12="","",IF(Plan!F9="Run",IF(ISNUMBER(INDEX(Parametry!$H$18:$S$18,1,4)),INDEX(Parametry!$H$18:$S$18,1,4),""),IF(ISNUMBER(INDEX(Parametry!$H$24:$S$24,1,4)),INDEX(Parametry!$H$24:$S$24,1,4),""))) -> 0 | K12: =IF(C12="","",IF(4<=Parametry!$G$7,0,IF(AND(ISNUMBER(I12),ISNUMBER(J12),J12>=-1),I12*(1+J12),""))) -> 0 | L12: =IF(C12="","",IF(4<=Parametry!$G$7,G12,IF(ISNUMBER(K12),H12+K12,""))) -> 18000 | M12: =IF(AND(C12<>"",ISNUMBER(L12)),L12-F12,"") -> 0 | N12: =IF(C12="",0,IF(ISNUMBER(L12),0,1)) -> 0
C13: =IF(Plan!C9="","",Plan!C9) -> IT01 | D13: =IF(C13="","",Plan!D9) -> Licencje stanowiskowe | E13: =IF(OR(C13="",Parametry!$G$6=""),"",DATE(Parametry!$G$6,5,1)) -> 46508 | F13: =IF(C13="","",Plan!O9) -> 18000 | G13: =IF(C13="","",SUMIFS(ERP!$I$9:$I$1008,ERP!$L$9:$L$1008,C13,ERP!$N$9:$N$1008,1,ERP!$M$9:$M$1008,5)) -> 18000 | H13: =IF(C13="","",IF(5<=Parametry!$G$7,0,SUMIFS(Umowy!$N$9:$N$108,Umowy!$D$9:$D$108,C13,Umowy!$O$9:$O$108,5))) -> 0 | I13: =IF(C13="","",IF(5<=Parametry!$G$7,0,IF(COUNTIFS(Prognoza!$C$9:$C$38,C13)=1,IF(ISBLANK(INDEX(Prognoza!$K$9:$V$38,MATCH($C13,Prognoza!$C$9:$C$38,0),5)),"",IF(ISNUMBER(INDEX(Prognoza!$K$9:$V$38,MATCH($C13,Prognoza!$C$9:$C$38,0),5)),INDEX(Prognoza!$K$9:$V$38,MATCH($C13,Prognoza!$C$9:$C$38,0),5),"")),""))) -> 0 | J13: =IF(C13="","",IF(Plan!F9="Run",IF(ISNUMBER(INDEX(Parametry!$H$18:$S$18,1,5)),INDEX(Parametry!$H$18:$S$18,1,5),""),IF(ISNUMBER(INDEX(Parametry!$H$24:$S$24,1,5)),INDEX(Parametry!$H$24:$S$24,1,5),""))) -> 0 | K13: =IF(C13="","",IF(5<=Parametry!$G$7,0,IF(AND(ISNUMBER(I13),ISNUMBER(J13),J13>=-1),I13*(1+J13),""))) -> 0 | L13: =IF(C13="","",IF(5<=Parametry!$G$7,G13,IF(ISNUMBER(K13),H13+K13,""))) -> 18000 | M13: =IF(AND(C13<>"",ISNUMBER(L13)),L13-F13,"") -> 0 | N13: =IF(C13="",0,IF(ISNUMBER(L13),0,1)) -> 0
C14: =IF(Plan!C9="","",Plan!C9) -> IT01 | D14: =IF(C14="","",Plan!D9) -> Licencje stanowiskowe | E14: =IF(OR(C14="",Parametry!$G$6=""),"",DATE(Parametry!$G$6,6,1)) -> 46539 | F14: =IF(C14="","",Plan!P9) -> 18000 | G14: =IF(C14="","",SUMIFS(ERP!$I$9:$I$1008,ERP!$L$9:$L$1008,C14,ERP!$N$9:$N$1008,1,ERP!$M$9:$M$1008,6)) -> 18000 | H14: =IF(C14="","",IF(6<=Parametry!$G$7,0,SUMIFS(Umowy!$N$9:$N$108,Umowy!$D$9:$D$108,C14,Umowy!$O$9:$O$108,6))) -> 0 | I14: =IF(C14="","",IF(6<=Parametry!$G$7,0,IF(COUNTIFS(Prognoza!$C$9:$C$38,C14)=1,IF(ISBLANK(INDEX(Prognoza!$K$9:$V$38,MATCH($C14,Prognoza!$C$9:$C$38,0),6)),"",IF(ISNUMBER(INDEX(Prognoza!$K$9:$V$38,MATCH($C14,Prognoza!$C$9:$C$38,0),6)),INDEX(Prognoza!$K$9:$V$38,MATCH($C14,Prognoza!$C$9:$C$38,0),6),"")),""))) -> 0 | J14: =IF(C14="","",IF(Plan!F9="Run",IF(ISNUMBER(INDEX(Parametry!$H$18:$S$18,1,6)),INDEX(Parametry!$H$18:$S$18,1,6),""),IF(ISNUMBER(INDEX(Parametry!$H$24:$S$24,1,6)),INDEX(Parametry!$H$24:$S$24,1,6),""))) -> 0 | K14: =IF(C14="","",IF(6<=Parametry!$G$7,0,IF(AND(ISNUMBER(I14),ISNUMBER(J14),J14>=-1),I14*(1+J14),""))) -> 0 | L14: =IF(C14="","",IF(6<=Parametry!$G$7,G14,IF(ISNUMBER(K14),H14+K14,""))) -> 18000 | M14: =IF(AND(C14<>"",ISNUMBER(L14)),L14-F14,"") -> 0 | N14: =IF(C14="",0,IF(ISNUMBER(L14),0,1)) -> 0
C15: =IF(Plan!C9="","",Plan!C9) -> IT01 | D15: =IF(C15="","",Plan!D9) -> Licencje stanowiskowe | E15: =IF(OR(C15="",Parametry!$G$6=""),"",DATE(Parametry!$G$6,7,1)) -> 46569 | F15: =IF(C15="","",Plan!Q9) -> 18000 | G15: =IF(C15="","",SUMIFS(ERP!$I$9:$I$1008,ERP!$L$9:$L$1008,C15,ERP!$N$9:$N$1008,1,ERP!$M$9:$M$1008,7)) -> 0 | H15: =IF(C15="","",IF(7<=Parametry!$G$7,0,SUMIFS(Umowy!$N$9:$N$108,Umowy!$D$9:$D$108,C15,Umowy!$O$9:$O$108,7))) -> 18000 | I15: =IF(C15="","",IF(7<=Parametry!$G$7,0,IF(COUNTIFS(Prognoza!$C$9:$C$38,C15)=1,IF(ISBLANK(INDEX(Prognoza!$K$9:$V$38,MATCH($C15,Prognoza!$C$9:$C$38,0),7)),"",IF(ISNUMBER(INDEX(Prognoza!$K$9:$V$38,MATCH($C15,Prognoza!$C$9:$C$38,0),7)),INDEX(Prognoza!$K$9:$V$38,MATCH($C15,Prognoza!$C$9:$C$38,0),7),"")),""))) -> 0 | J15: =IF(C15="","",IF(Plan!F9="Run",IF(ISNUMBER(INDEX(Parametry!$H$18:$S$18,1,7)),INDEX(Parametry!$H$18:$S$18,1,7),""),IF(ISNUMBER(INDEX(Parametry!$H$24:$S$24,1,7)),INDEX(Parametry!$H$24:$S$24,1,7),""))) -> 0 | K15: =IF(C15="","",IF(7<=Parametry!$G$7,0,IF(AND(ISNUMBER(I15),ISNUMBER(J15),J15>=-1),I15*(1+J15),""))) -> 0 | L15: =IF(C15="","",IF(7<=Parametry!$G$7,G15,IF(ISNUMBER(K15),H15+K15,""))) -> 18000 | M15: =IF(AND(C15<>"",ISNUMBER(L15)),L15-F15,"") -> 0 | N15: =IF(C15="",0,IF(ISNUMBER(L15),0,1)) -> 0
C16: =IF(Plan!C9="","",Plan!C9) -> IT01 | D16: =IF(C16="","",Plan!D9) -> Licencje stanowiskowe | E16: =IF(OR(C16="",Parametry!$G$6=""),"",DATE(Parametry!$G$6,8,1)) -> 46600 | F16: =IF(C16="","",Plan!R9) -> 18000 | G16: =IF(C16="","",SUMIFS(ERP!$I$9:$I$1008,ERP!$L$9:$L$1008,C16,ERP!$N$9:$N$1008,1,ERP!$M$9:$M$1008,8)) -> 0 | H16: =IF(C16="","",IF(8<=Parametry!$G$7,0,SUMIFS(Umowy!$N$9:$N$108,Umowy!$D$9:$D$108,C16,Umowy!$O$9:$O$108,8))) -> 18000 | I16: =IF(C16="","",IF(8<=Parametry!$G$7,0,IF(COUNTIFS(Prognoza!$C$9:$C$38,C16)=1,IF(ISBLANK(INDEX(Prognoza!$K$9:$V$38,MATCH($C16,Prognoza!$C$9:$C$38,0),8)),"",IF(ISNUMBER(INDEX(Prognoza!$K$9:$V$38,MATCH($C16,Prognoza!$C$9:$C$38,0),8)),INDEX(Prognoza!$K$9:$V$38,MATCH($C16,Prognoza!$C$9:$C$38,0),8),"")),""))) -> 0 | J16: =IF(C16="","",IF(Plan!F9="Run",IF(ISNUMBER(INDEX(Parametry!$H$18:$S$18,1,8)),INDEX(Parametry!$H$18:$S$18,1,8),""),IF(ISNUMBER(INDEX(Parametry!$H$24:$S$24,1,8)),INDEX(Parametry!$H$24:$S$24,1,8),""))) -> 0 | K16: =IF(C16="","",IF(8<=Parametry!$G$7,0,IF(AND(ISNUMBER(I16),ISNUMBER(J16),J16>=-1),I16*(1+J16),""))) -> 0 | L16: =IF(C16="","",IF(8<=Parametry!$G$7,G16,IF(ISNUMBER(K16),H16+K16,""))) -> 18000 | M16: =IF(AND(C16<>"",ISNUMBER(L16)),L16-F16,"") -> 0 | N16: =IF(C16="",0,IF(ISNUMBER(L16),0,1)) -> 0
C17: =IF(Plan!C9="","",Plan!C9) -> IT01 | D17: =IF(C17="","",Plan!D9) -> Licencje stanowiskowe | E17: =IF(OR(C17="",Parametry!$G$6=""),"",DATE(Parametry!$G$6,9,1)) -> 46631 | F17: =IF(C17="","",Plan!S9) -> 18000 | G17: =IF(C17="","",SUMIFS(ERP!$I$9:$I$1008,ERP!$L$9:$L$1008,C17,ERP!$N$9:$N$1008,1,ERP!$M$9:$M$1008,9)) -> 0 | H17: =IF(C17="","",IF(9<=Parametry!$G$7,0,SUMIFS(Umowy!$N$9:$N$108,Umowy!$D$9:$D$108,C17,Umowy!$O$9:$O$108,9))) -> 18000 | I17: =IF(C17="","",IF(9<=Parametry!$G$7,0,IF(COUNTIFS(Prognoza!$C$9:$C$38,C17)=1,IF(ISBLANK(INDEX(Prognoza!$K$9:$V$38,MATCH($C17,Prognoza!$C$9:$C$38,0),9)),"",IF(ISNUMBER(INDEX(Prognoza!$K$9:$V$38,MATCH($C17,Prognoza!$C$9:$C$38,0),9)),INDEX(Prognoza!$K$9:$V$38,MATCH($C17,Prognoza!$C$9:$C$38,0),9),"")),""))) -> 0 | J17: =IF(C17="","",IF(Plan!F9="Run",IF(ISNUMBER(INDEX(Parametry!$H$18:$S$18,1,9)),INDEX(Parametry!$H$18:$S$18,1,9),""),IF(ISNUMBER(INDEX(Parametry!$H$24:$S$24,1,9)),INDEX(Parametry!$H$24:$S$24,1,9),""))) -> 0 | K17: =IF(C17="","",IF(9<=Parametry!$G$7,0,IF(AND(ISNUMBER(I17),ISNUMBER(J17),J17>=-1),I17*(1+J17),""))) -> 0 | L17: =IF(C17="","",IF(9<=Parametry!$G$7,G17,IF(ISNUMBER(K17),H17+K17,""))) -> 18000 | M17: =IF(AND(C17<>"",ISNUMBER(L17)),L17-F17,"") -> 0 | N17: =IF(C17="",0,IF(ISNUMBER(L17),0,1)) -> 0
C18: =IF(Plan!C9="","",Plan!C9) -> IT01 | D18: =IF(C18="","",Plan!D9) -> Licencje stanowiskowe | E18: =IF(OR(C18="",Parametry!$G$6=""),"",DATE(Parametry!$G$6,10,1)) -> 46661 | F18: =IF(C18="","",Plan!T9) -> 18000 | G18: =IF(C18="","",SUMIFS(ERP!$I$9:$I$1008,ERP!$L$9:$L$1008,C18,ERP!$N$9:$N$1008,1,ERP!$M$9:$M$1008,10)) -> 0 | H18: =IF(C18="","",IF(10<=Parametry!$G$7,0,SUMIFS(Umowy!$N$9:$N$108,Umowy!$D$9:$D$108,C18,Umowy!$O$9:$O$108,10))) -> 18000 | I18: =IF(C18="","",IF(10<=Parametry!$G$7,0,IF(COUNTIFS(Prognoza!$C$9:$C$38,C18)=1,IF(ISBLANK(INDEX(Prognoza!$K$9:$V$38,MATCH($C18,Prognoza!$C$9:$C$38,0),10)),"",IF(ISNUMBER(INDEX(Prognoza!$K$9:$V$38,MATCH($C18,Prognoza!$C$9:$C$38,0),10)),INDEX(Prognoza!$K$9:$V$38,MATCH($C18,Prognoza!$C$9:$C$38,0),10),"")),""))) -> 0 | J18: =IF(C18="","",IF(Plan!F9="Run",IF(ISNUMBER(INDEX(Parametry!$H$18:$S$18,1,10)),INDEX(Parametry!$H$18:$S$18,1,10),""),IF(ISNUMBER(INDEX(Parametry!$H$24:$S$24,1,10)),INDEX(Parametry!$H$24:$S$24,1,10),""))) -> 0 | K18: =IF(C18="","",IF(10<=Parametry!$G$7,0,IF(AND(ISNUMBER(I18),ISNUMBER(J18),J18>=-1),I18*(1+J18),""))) -> 0 | L18: =IF(C18="","",IF(10<=Parametry!$G$7,G18,IF(ISNUMBER(K18),H18+K18,""))) -> 18000 | M18: =IF(AND(C18<>"",ISNUMBER(L18)),L18-F18,"") -> 0 | N18: =IF(C18="",0,IF(ISNUMBER(L18),0,1)) -> 0
C19: =IF(Plan!C9="","",Plan!C9) -> IT01 | D19: =IF(C19="","",Plan!D9) -> Licencje stanowiskowe | E19: =IF(OR(C19="",Parametry!$G$6=""),"",DATE(Parametry!$G$6,11,1)) -> 46692 | F19: =IF(C19="","",Plan!U9) -> 18000 | G19: =IF(C19="","",SUMIFS(ERP!$I$9:$I$1008,ERP!$L$9:$L$1008,C19,ERP!$N$9:$N$1008,1,ERP!$M$9:$M$1008,11)) -> 0 | H19: =IF(C19="","",IF(11<=Parametry!$G$7,0,SUMIFS(Umowy!$N$9:$N$108,Umowy!$D$9:$D$108,C19,Umowy!$O$9:$O$108,11))) -> 18000 | I19: =IF(C19="","",IF(11<=Parametry!$G$7,0,IF(COUNTIFS(Prognoza!$C$9:$C$38,C19)=1,IF(ISBLANK(INDEX(Prognoza!$K$9:$V$38,MATCH($C19,Prognoza!$C$9:$C$38,0),11)),"",IF(ISNUMBER(INDEX(Prognoza!$K$9:$V$38,MATCH($C19,Prognoza!$C$9:$C$38,0),11)),INDEX(Prognoza!$K$9:$V$38,MATCH($C19,Prognoza!$C$9:$C$38,0),11),"")),""))) -> 0 | J19: =IF(C19="","",IF(Plan!F9="Run",IF(ISNUMBER(INDEX(Parametry!$H$18:$S$18,1,11)),INDEX(Parametry!$H$18:$S$18,1,11),""),IF(ISNUMBER(INDEX(Parametry!$H$24:$S$24,1,11)),INDEX(Parametry!$H$24:$S$24,1,11),""))) -> 0 | K19: =IF(C19="","",IF(11<=Parametry!$G$7,0,IF(AND(ISNUMBER(I19),ISNUMBER(J19),J19>=-1),I19*(1+J19),""))) -> 0 | L19: =IF(C19="","",IF(11<=Parametry!$G$7,G19,IF(ISNUMBER(K19),H19+K19,""))) -> 18000 | M19: =IF(AND(C19<>"",ISNUMBER(L19)),L19-F19,"") -> 0 | N19: =IF(C19="",0,IF(ISNUMBER(L19),0,1)) -> 0
C20: =IF(Plan!C9="","",Plan!C9) -> IT01 | D20: =IF(C20="","",Plan!D9) -> Licencje stanowiskowe | E20: =IF(OR(C20="",Parametry!$G$6=""),"",DATE(Parametry!$G$6,12,1)) -> 46722 | F20: =IF(C20="","",Plan!V9) -> 18000 | G20: =IF(C20="","",SUMIFS(ERP!$I$9:$I$1008,ERP!$L$9:$L$1008,C20,ERP!$N$9:$N$1008,1,ERP!$M$9:$M$1008,12)) -> 0 | H20: =IF(C20="","",IF(12<=Parametry!$G$7,0,SUMIFS(Umowy!$N$9:$N$108,Umowy!$D$9:$D$108,C20,Umowy!$O$9:$O$108,12))) -> 18000 | I20: =IF(C20="","",IF(12<=Parametry!$G$7,0,IF(COUNTIFS(Prognoza!$C$9:$C$38,C20)=1,IF(ISBLANK(INDEX(Prognoza!$K$9:$V$38,MATCH($C20,Prognoza!$C$9:$C$38,0),12)),"",IF(ISNUMBER(INDEX(Prognoza!$K$9:$V$38,MATCH($C20,Prognoza!$C$9:$C$38,0),12)),INDEX(Prognoza!$K$9:$V$38,MATCH($C20,Prognoza!$C$9:$C$38,0),12),"")),""))) -> 0 | J20: =IF(C20="","",IF(Plan!F9="Run",IF(ISNUMBER(INDEX(Parametry!$H$18:$S$18,1,12)),INDEX(Parametry!$H$18:$S$18,1,12),""),IF(ISNUMBER(INDEX(Parametry!$H$24:$S$24,1,12)),INDEX(Parametry!$H$24:$S$24,1,12),""))) -> 0 | K20: =IF(C20="","",IF(12<=Parametry!$G$7,0,IF(AND(ISNUMBER(I20),ISNUMBER(J20),J20>=-1),I20*(1+J20),""))) -> 0 | L20: =IF(C20="","",IF(12<=Parametry!$G$7,G20,IF(ISNUMBER(K20),H20+K20,""))) -> 18000 | M20: =IF(AND(C20<>"",ISNUMBER(L20)),L20-F20,"") -> 0 | N20: =IF(C20="",0,IF(ISNUMBER(L20),0,1)) -> 0
C21: =IF(Plan!C10="","",Plan!C10) -> IT02 | D21: =IF(C21="","",Plan!D10) -> Utrzymanie ERP | E21: =IF(OR(C21="",Parametry!$G$6=""),"",DATE(Parametry!$G$6,1,1)) -> 46388 | F21: =IF(C21="","",Plan!K10) -> 144000 | G21: =IF(C21="","",SUMIFS(ERP!$I$9:$I$1008,ERP!$L$9:$L$1008,C21,ERP!$N$9:$N$1008,1,ERP!$M$9:$M$1008,1)) -> 120000 | H21: =IF(C21="","",IF(1<=Parametry!$G$7,0,SUMIFS(Umowy!$N$9:$N$108,Umowy!$D$9:$D$108,C21,Umowy!$O$9:$O$108,1))) -> 0 | I21: =IF(C21="","",IF(1<=Parametry!$G$7,0,IF(COUNTIFS(Prognoza!$C$9:$C$38,C21)=1,IF(ISBLANK(INDEX(Prognoza!$K$9:$V$38,MATCH($C21,Prognoza!$C$9:$C$38,0),1)),"",IF(ISNUMBER(INDEX(Prognoza!$K$9:$V$38,MATCH($C21,Prognoza!$C$9:$C$38,0),1)),INDEX(Prognoza!$K$9:$V$38,MATCH($C21,Prognoza!$C$9:$C$38,0),1),"")),""))) -> 0 | J21: =IF(C21="","",IF(Plan!F10="Run",IF(ISNUMBER(INDEX(Parametry!$H$18:$S$18,1,1)),INDEX(Parametry!$H$18:$S$18,1,1),""),IF(ISNUMBER(INDEX(Parametry!$H$24:$S$24,1,1)),INDEX(Parametry!$H$24:$S$24,1,1),""))) -> 0 | K21: =IF(C21="","",IF(1<=Parametry!$G$7,0,IF(AND(ISNUMBER(I21),ISNUMBER(J21),J21>=-1),I21*(1+J21),""))) -> 0 | L21: =IF(C21="","",IF(1<=Parametry!$G$7,G21,IF(ISNUMBER(K21),H21+K21,""))) -> 120000 | M21: =IF(AND(C21<>"",ISNUMBER(L21)),L21-F21,"") -> -24000 | N21: =IF(C21="",0,IF(ISNUMBER(L21),0,1)) -> 0
C22: =IF(Plan!C10="","",Plan!C10) -> IT02 | D22: =IF(C22="","",Plan!D10) -> Utrzymanie ERP | E22: =IF(OR(C22="",Parametry!$G$6=""),"",DATE(Parametry!$G$6,2,1)) -> 46419 | F22: =IF(C22="","",Plan!L10) -> 0 | G22: =IF(C22="","",SUMIFS(ERP!$I$9:$I$1008,ERP!$L$9:$L$1008,C22,ERP!$N$9:$N$1008,1,ERP!$M$9:$M$1008,2)) -> 0 | H22: =IF(C22="","",IF(2<=Parametry!$G$7,0,SUMIFS(Umowy!$N$9:$N$108,Umowy!$D$9:$D$108,C22,Umowy!$O$9:$O$108,2))) -> 0 | I22: =IF(C22="","",IF(2<=Parametry!$G$7,0,IF(COUNTIFS(Prognoza!$C$9:$C$38,C22)=1,IF(ISBLANK(INDEX(Prognoza!$K$9:$V$38,MATCH($C22,Prognoza!$C$9:$C$38,0),2)),"",IF(ISNUMBER(INDEX(Prognoza!$K$9:$V$38,MATCH($C22,Prognoza!$C$9:$C$38,0),2)),INDEX(Prognoza!$K$9:$V$38,MATCH($C22,Prognoza!$C$9:$C$38,0),2),"")),""))) -> 0 | J22: =IF(C22="","",IF(Plan!F10="Run",IF(ISNUMBER(INDEX(Parametry!$H$18:$S$18,1,2)),INDEX(Parametry!$H$18:$S$18,1,2),""),IF(ISNUMBER(INDEX(Parametry!$H$24:$S$24,1,2)),INDEX(Parametry!$H$24:$S$24,1,2),""))) -> 0 | K22: =IF(C22="","",IF(2<=Parametry!$G$7,0,IF(AND(ISNUMBER(I22),ISNUMBER(J22),J22>=-1),I22*(1+J22),""))) -> 0 | L22: =IF(C22="","",IF(2<=Parametry!$G$7,G22,IF(ISNUMBER(K22),H22+K22,""))) -> 0 | M22: =IF(AND(C22<>"",ISNUMBER(L22)),L22-F22,"") -> 0 | N22: =IF(C22="",0,IF(ISNUMBER(L22),0,1)) -> 0
C23: =IF(Plan!C10="","",Plan!C10) -> IT02 | D23: =IF(C23="","",Plan!D10) -> Utrzymanie ERP | E23: =IF(OR(C23="",Parametry!$G$6=""),"",DATE(Parametry!$G$6,3,1)) -> 46447 | F23: =IF(C23="","",Plan!M10) -> 0 | G23: =IF(C23="","",SUMIFS(ERP!$I$9:$I$1008,ERP!$L$9:$L$1008,C23,ERP!$N$9:$N$1008,1,ERP!$M$9:$M$1008,3)) -> 0 | H23: =IF(C23="","",IF(3<=Parametry!$G$7,0,SUMIFS(Umowy!$N$9:$N$108,Umowy!$D$9:$D$108,C23,Umowy!$O$9:$O$108,3))) -> 0 | I23: =IF(C23="","",IF(3<=Parametry!$G$7,0,IF(COUNTIFS(Prognoza!$C$9:$C$38,C23)=1,IF(ISBLANK(INDEX(Prognoza!$K$9:$V$38,MATCH($C23,Prognoza!$C$9:$C$38,0),3)),"",IF(ISNUMBER(INDEX(Prognoza!$K$9:$V$38,MATCH($C23,Prognoza!$C$9:$C$38,0),3)),INDEX(Prognoza!$K$9:$V$38,MATCH($C23,Prognoza!$C$9:$C$38,0),3),"")),""))) -> 0 | J23: =IF(C23="","",IF(Plan!F10="Run",IF(ISNUMBER(INDEX(Parametry!$H$18:$S$18,1,3)),INDEX(Parametry!$H$18:$S$18,1,3),""),IF(ISNUMBER(INDEX(Parametry!$H$24:$S$24,1,3)),INDEX(Parametry!$H$24:$S$24,1,3),""))) -> 0 | K23: =IF(C23="","",IF(3<=Parametry!$G$7,0,IF(AND(ISNUMBER(I23),ISNUMBER(J23),J23>=-1),I23*(1+J23),""))) -> 0 | L23: =IF(C23="","",IF(3<=Parametry!$G$7,G23,IF(ISNUMBER(K23),H23+K23,""))) -> 0 | M23: =IF(AND(C23<>"",ISNUMBER(L23)),L23-F23,"") -> 0 | N23: =IF(C23="",0,IF(ISNUMBER(L23),0,1)) -> 0
C24: =IF(Plan!C10="","",Plan!C10) -> IT02 | D24: =IF(C24="","",Plan!D10) -> Utrzymanie ERP | E24: =IF(OR(C24="",Parametry!$G$6=""),"",DATE(Parametry!$G$6,4,1)) -> 46478 | F24: =IF(C24="","",Plan!N10) -> 0 | G24: =IF(C24="","",SUMIFS(ERP!$I$9:$I$1008,ERP!$L$9:$L$1008,C24,ERP!$N$9:$N$1008,1,ERP!$M$9:$M$1008,4)) -> 0 | H24: =IF(C24="","",IF(4<=Parametry!$G$7,0,SUMIFS(Umowy!$N$9:$N$108,Umowy!$D$9:$D$108,C24,Umowy!$O$9:$O$108,4))) -> 0 | I24: =IF(C24="","",IF(4<=Parametry!$G$7,0,IF(COUNTIFS(Prognoza!$C$9:$C$38,C24)=1,IF(ISBLANK(INDEX(Prognoza!$K$9:$V$38,MATCH($C24,Prognoza!$C$9:$C$38,0),4)),"",IF(ISNUMBER(INDEX(Prognoza!$K$9:$V$38,MATCH($C24,Prognoza!$C$9:$C$38,0),4)),INDEX(Prognoza!$K$9:$V$38,MATCH($C24,Prognoza!$C$9:$C$38,0),4),"")),""))) -> 0 | J24: =IF(C24="","",IF(Plan!F10="Run",IF(ISNUMBER(INDEX(Parametry!$H$18:$S$18,1,4)),INDEX(Parametry!$H$18:$S$18,1,4),""),IF(ISNUMBER(INDEX(Parametry!$H$24:$S$24,1,4)),INDEX(Parametry!$H$24:$S$24,1,4),""))) -> 0 | K24: =IF(C24="","",IF(4<=Parametry!$G$7,0,IF(AND(ISNUMBER(I24),ISNUMBER(J24),J24>=-1),I24*(1+J24),""))) -> 0 | L24: =IF(C24="","",IF(4<=Parametry!$G$7,G24,IF(ISNUMBER(K24),H24+K24,""))) -> 0 | M24: =IF(AND(C24<>"",ISNUMBER(L24)),L24-F24,"") -> 0 | N24: =IF(C24="",0,IF(ISNUMBER(L24),0,1)) -> 0
C25: =IF(Plan!C10="","",Plan!C10) -> IT02 | D25: =IF(C25="","",Plan!D10) -> Utrzymanie ERP | E25: =IF(OR(C25="",Parametry!$G$6=""),"",DATE(Parametry!$G$6,5,1)) -> 46508 | F25: =IF(C25="","",Plan!O10) -> 0 | G25: =IF(C25="","",SUMIFS(ERP!$I$9:$I$1008,ERP!$L$9:$L$1008,C25,ERP!$N$9:$N$1008,1,ERP!$M$9:$M$1008,5)) -> 0 | H25: =IF(C25="","",IF(5<=Parametry!$G$7,0,SUMIFS(Umowy!$N$9:$N$108,Umowy!$D$9:$D$108,C25,Umowy!$O$9:$O$108,5))) -> 0 | I25: =IF(C25="","",IF(5<=Parametry!$G$7,0,IF(COUNTIFS(Prognoza!$C$9:$C$38,C25)=1,IF(ISBLANK(INDEX(Prognoza!$K$9:$V$38,MATCH($C25,Prognoza!$C$9:$C$38,0),5)),"",IF(ISNUMBER(INDEX(Prognoza!$K$9:$V$38,MATCH($C25,Prognoza!$C$9:$C$38,0),5)),INDEX(Prognoza!$K$9:$V$38,MATCH($C25,Prognoza!$C$9:$C$38,0),5),"")),""))) -> 0 | J25: =IF(C25="","",IF(Plan!F10="Run",IF(ISNUMBER(INDEX(Parametry!$H$18:$S$18,1,5)),INDEX(Parametry!$H$18:$S$18,1,5),""),IF(ISNUMBER(INDEX(Parametry!$H$24:$S$24,1,5)),INDEX(Parametry!$H$24:$S$24,1,5),""))) -> 0 | K25: =IF(C25="","",IF(5<=Parametry!$G$7,0,IF(AND(ISNUMBER(I25),ISNUMBER(J25),J25>=-1),I25*(1+J25),""))) -> 0 | L25: =IF(C25="","",IF(5<=Parametry!$G$7,G25,IF(ISNUMBER(K25),H25+K25,""))) -> 0 | M25: =IF(AND(C25<>"",ISNUMBER(L25)),L25-F25,"") -> 0 | N25: =IF(C25="",0,IF(ISNUMBER(L25),0,1)) -> 0
C26: =IF(Plan!C10="","",Plan!C10) -> IT02 | D26: =IF(C26="","",Plan!D10) -> Utrzymanie ERP | E26: =IF(OR(C26="",Parametry!$G$6=""),"",DATE(Parametry!$G$6,6,1)) -> 46539 | F26: =IF(C26="","",Plan!P10) -> 0 | G26: =IF(C26="","",SUMIFS(ERP!$I$9:$I$1008,ERP!$L$9:$L$1008,C26,ERP!$N$9:$N$1008,1,ERP!$M$9:$M$1008,6)) -> -2000 | H26: =IF(C26="","",IF(6<=Parametry!$G$7,0,SUMIFS(Umowy!$N$9:$N$108,Umowy!$D$9:$D$108,C26,Umowy!$O$9:$O$108,6))) -> 0 | I26: =IF(C26="","",IF(6<=Parametry!$G$7,0,IF(COUNTIFS(Prognoza!$C$9:$C$38,C26)=1,IF(ISBLANK(INDEX(Prognoza!$K$9:$V$38,MATCH($C26,Prognoza!$C$9:$C$38,0),6)),"",IF(ISNUMBER(INDEX(Prognoza!$K$9:$V$38,MATCH($C26,Prognoza!$C$9:$C$38,0),6)),INDEX(Prognoza!$K$9:$V$38,MATCH($C26,Prognoza!$C$9:$C$38,0),6),"")),""))) -> 0 | J26: =IF(C26="","",IF(Plan!F10="Run",IF(ISNUMBER(INDEX(Parametry!$H$18:$S$18,1,6)),INDEX(Parametry!$H$18:$S$18,1,6),""),IF(ISNUMBER(INDEX(Parametry!$H$24:$S$24,1,6)),INDEX(Parametry!$H$24:$S$24,1,6),""))) -> 0 | K26: =IF(C26="","",IF(6<=Parametry!$G$7,0,IF(AND(ISNUMBER(I26),ISNUMBER(J26),J26>=-1),I26*(1+J26),""))) -> 0 | L26: =IF(C26="","",IF(6<=Parametry!$G$7,G26,IF(ISNUMBER(K26),H26+K26,""))) -> -2000 | M26: =IF(AND(C26<>"",ISNUMBER(L26)),L26-F26,"") -> -2000 | N26: =IF(C26="",0,IF(ISNUMBER(L26),0,1)) -> 0
C27: =IF(Plan!C10="","",Plan!C10) -> IT02 | D27: =IF(C27="","",Plan!D10) -> Utrzymanie ERP | E27: =IF(OR(C27="",Parametry!$G$6=""),"",DATE(Parametry!$G$6,7,1)) -> 46569 | F27: =IF(C27="","",Plan!Q10) -> 0 | G27: =IF(C27="","",SUMIFS(ERP!$I$9:$I$1008,ERP!$L$9:$L$1008,C27,ERP!$N$9:$N$1008,1,ERP!$M$9:$M$1008,7)) -> 0 | H27: =IF(C27="","",IF(7<=Parametry!$G$7,0,SUMIFS(Umowy!$N$9:$N$108,Umowy!$D$9:$D$108,C27,Umowy!$O$9:$O$108,7))) -> 26000 | I27: =IF(C27="","",IF(7<=Parametry!$G$7,0,IF(COUNTIFS(Prognoza!$C$9:$C$38,C27)=1,IF(ISBLANK(INDEX(Prognoza!$K$9:$V$38,MATCH($C27,Prognoza!$C$9:$C$38,0),7)),"",IF(ISNUMBER(INDEX(Prognoza!$K$9:$V$38,MATCH($C27,Prognoza!$C$9:$C$38,0),7)),INDEX(Prognoza!$K$9:$V$38,MATCH($C27,Prognoza!$C$9:$C$38,0),7),"")),""))) -> 0 | J27: =IF(C27="","",IF(Plan!F10="Run",IF(ISNUMBER(INDEX(Parametry!$H$18:$S$18,1,7)),INDEX(Parametry!$H$18:$S$18,1,7),""),IF(ISNUMBER(INDEX(Parametry!$H$24:$S$24,1,7)),INDEX(Parametry!$H$24:$S$24,1,7),""))) -> 0 | K27: =IF(C27="","",IF(7<=Parametry!$G$7,0,IF(AND(ISNUMBER(I27),ISNUMBER(J27),J27>=-1),I27*(1+J27),""))) -> 0 | L27: =IF(C27="","",IF(7<=Parametry!$G$7,G27,IF(ISNUMBER(K27),H27+K27,""))) -> 26000 | M27: =IF(AND(C27<>"",ISNUMBER(L27)),L27-F27,"") -> 26000 | N27: =IF(C27="",0,IF(ISNUMBER(L27),0,1)) -> 0
C28: =IF(Plan!C10="","",Plan!C10) -> IT02 | D28: =IF(C28="","",Plan!D10) -> Utrzymanie ERP | E28: =IF(OR(C28="",Parametry!$G$6=""),"",DATE(Parametry!$G$6,8,1)) -> 46600 | F28: =IF(C28="","",Plan!R10) -> 0 | G28: =IF(C28="","",SUMIFS(ERP!$I$9:$I$1008,ERP!$L$9:$L$1008,C28,ERP!$N$9:$N$1008,1,ERP!$M$9:$M$1008,8)) -> 0 | H28: =IF(C28="","",IF(8<=Parametry!$G$7,0,SUMIFS(Umowy!$N$9:$N$108,Umowy!$D$9:$D$108,C28,Umowy!$O$9:$O$108,8))) -> 0 | I28: =IF(C28="","",IF(8<=Parametry!$G$7,0,IF(COUNTIFS(Prognoza!$C$9:$C$38,C28)=1,IF(ISBLANK(INDEX(Prognoza!$K$9:$V$38,MATCH($C28,Prognoza!$C$9:$C$38,0),8)),"",IF(ISNUMBER(INDEX(Prognoza!$K$9:$V$38,MATCH($C28,Prognoza!$C$9:$C$38,0),8)),INDEX(Prognoza!$K$9:$V$38,MATCH($C28,Prognoza!$C$9:$C$38,0),8),"")),""))) -> 0 | J28: =IF(C28="","",IF(Plan!F10="Run",IF(ISNUMBER(INDEX(Parametry!$H$18:$S$18,1,8)),INDEX(Parametry!$H$18:$S$18,1,8),""),IF(ISNUMBER(INDEX(Parametry!$H$24:$S$24,1,8)),INDEX(Parametry!$H$24:$S$24,1,8),""))) -> 0 | K28: =IF(C28="","",IF(8<=Parametry!$G$7,0,IF(AND(ISNUMBER(I28),ISNUMBER(J28),J28>=-1),I28*(1+J28),""))) -> 0 | L28: =IF(C28="","",IF(8<=Parametry!$G$7,G28,IF(ISNUMBER(K28),H28+K28,""))) -> 0 | M28: =IF(AND(C28<>"",ISNUMBER(L28)),L28-F28,"") -> 0 | N28: =IF(C28="",0,IF(ISNUMBER(L28),0,1)) -> 0
C29: =IF(Plan!C10="","",Plan!C10) -> IT02 | D29: =IF(C29="","",Plan!D10) -> Utrzymanie ERP | E29: =IF(OR(C29="",Parametry!$G$6=""),"",DATE(Parametry!$G$6,9,1)) -> 46631 | F29: =IF(C29="","",Plan!S10) -> 0 | G29: =IF(C29="","",SUMIFS(ERP!$I$9:$I$1008,ERP!$L$9:$L$1008,C29,ERP!$N$9:$N$1008,1,ERP!$M$9:$M$1008,9)) -> 0 | H29: =IF(C29="","",IF(9<=Parametry!$G$7,0,SUMIFS(Umowy!$N$9:$N$108,Umowy!$D$9:$D$108,C29,Umowy!$O$9:$O$108,9))) -> 0 | I29: =IF(C29="","",IF(9<=Parametry!$G$7,0,IF(COUNTIFS(Prognoza!$C$9:$C$38,C29)=1,IF(ISBLANK(INDEX(Prognoza!$K$9:$V$38,MATCH($C29,Prognoza!$C$9:$C$38,0),9)),"",IF(ISNUMBER(INDEX(Prognoza!$K$9:$V$38,MATCH($C29,Prognoza!$C$9:$C$38,0),9)),INDEX(Prognoza!$K$9:$V$38,MATCH($C29,Prognoza!$C$9:$C$38,0),9),"")),""))) -> 0 | J29: =IF(C29="","",IF(Plan!F10="Run",IF(ISNUMBER(INDEX(Parametry!$H$18:$S$18,1,9)),INDEX(Parametry!$H$18:$S$18,1,9),""),IF(ISNUMBER(INDEX(Parametry!$H$24:$S$24,1,9)),INDEX(Parametry!$H$24:$S$24,1,9),""))) -> 0 | K29: =IF(C29="","",IF(9<=Parametry!$G$7,0,IF(AND(ISNUMBER(I29),ISNUMBER(J29),J29>=-1),I29*(1+J29),""))) -> 0 | L29: =IF(C29="","",IF(9<=Parametry!$G$7,G29,IF(ISNUMBER(K29),H29+K29,""))) -> 0 | M29: =IF(AND(C29<>"",ISNUMBER(L29)),L29-F29,"") -> 0 | N29: =IF(C29="",0,IF(ISNUMBER(L29),0,1)) -> 0
C30: =IF(Plan!C10="","",Plan!C10) -> IT02 | D30: =IF(C30="","",Plan!D10) -> Utrzymanie ERP | E30: =IF(OR(C30="",Parametry!$G$6=""),"",DATE(Parametry!$G$6,10,1)) -> 46661 | F30: =IF(C30="","",Plan!T10) -> 0 | G30: =IF(C30="","",SUMIFS(ERP!$I$9:$I$1008,ERP!$L$9:$L$1008,C30,ERP!$N$9:$N$1008,1,ERP!$M$9:$M$1008,10)) -> 0 | H30: =IF(C30="","",IF(10<=Parametry!$G$7,0,SUMIFS(Umowy!$N$9:$N$108,Umowy!$D$9:$D$108,C30,Umowy!$O$9:$O$108,10))) -> 0 | I30: =IF(C30="","",IF(10<=Parametry!$G$7,0,IF(COUNTIFS(Prognoza!$C$9:$C$38,C30)=1,IF(ISBLANK(INDEX(Prognoza!$K$9:$V$38,MATCH($C30,Prognoza!$C$9:$C$38,0),10)),"",IF(ISNUMBER(INDEX(Prognoza!$K$9:$V$38,MATCH($C30,Prognoza!$C$9:$C$38,0),10)),INDEX(Prognoza!$K$9:$V$38,MATCH($C30,Prognoza!$C$9:$C$38,0),10),"")),""))) -> 0 | J30: =IF(C30="","",IF(Plan!F10="Run",IF(ISNUMBER(INDEX(Parametry!$H$18:$S$18,1,10)),INDEX(Parametry!$H$18:$S$18,1,10),""),IF(ISNUMBER(INDEX(Parametry!$H$24:$S$24,1,10)),INDEX(Parametry!$H$24:$S$24,1,10),""))) -> 0 | K30: =IF(C30="","",IF(10<=Parametry!$G$7,0,IF(AND(ISNUMBER(I30),ISNUMBER(J30),J30>=-1),I30*(1+J30),""))) -> 0 | L30: =IF(C30="","",IF(10<=Parametry!$G$7,G30,IF(ISNUMBER(K30),H30+K30,""))) -> 0 | M30: =IF(AND(C30<>"",ISNUMBER(L30)),L30-F30,"") -> 0 | N30: =IF(C30="",0,IF(ISNUMBER(L30),0,1)) -> 0
C31: =IF(Plan!C10="","",Plan!C10) -> IT02 | D31: =IF(C31="","",Plan!D10) -> Utrzymanie ERP | E31: =IF(OR(C31="",Parametry!$G$6=""),"",DATE(Parametry!$G$6,11,1)) -> 46692 | F31: =IF(C31="","",Plan!U10) -> 0 | G31: =IF(C31="","",SUMIFS(ERP!$I$9:$I$1008,ERP!$L$9:$L$1008,C31,ERP!$N$9:$N$1008,1,ERP!$M$9:$M$1008,11)) -> 0 | H31: =IF(C31="","",IF(11<=Parametry!$G$7,0,SUMIFS(Umowy!$N$9:$N$108,Umowy!$D$9:$D$108,C31,Umowy!$O$9:$O$108,11))) -> 0 | I31: =IF(C31="","",IF(11<=Parametry!$G$7,0,IF(COUNTIFS(Prognoza!$C$9:$C$38,C31)=1,IF(ISBLANK(INDEX(Prognoza!$K$9:$V$38,MATCH($C31,Prognoza!$C$9:$C$38,0),11)),"",IF(ISNUMBER(INDEX(Prognoza!$K$9:$V$38,MATCH($C31,Prognoza!$C$9:$C$38,0),11)),INDEX(Prognoza!$K$9:$V$38,MATCH($C31,Prognoza!$C$9:$C$38,0),11),"")),""))) -> 0 | J31: =IF(C31="","",IF(Plan!F10="Run",IF(ISNUMBER(INDEX(Parametry!$H$18:$S$18,1,11)),INDEX(Parametry!$H$18:$S$18,1,11),""),IF(ISNUMBER(INDEX(Parametry!$H$24:$S$24,1,11)),INDEX(Parametry!$H$24:$S$24,1,11),""))) -> 0 | K31: =IF(C31="","",IF(11<=Parametry!$G$7,0,IF(AND(ISNUMBER(I31),ISNUMBER(J31),J31>=-1),I31*(1+J31),""))) -> 0 | L31: =IF(C31="","",IF(11<=Parametry!$G$7,G31,IF(ISNUMBER(K31),H31+K31,""))) -> 0 | M31: =IF(AND(C31<>"",ISNUMBER(L31)),L31-F31,"") -> 0 | N31: =IF(C31="",0,IF(ISNUMBER(L31),0,1)) -> 0
C32: =IF(Plan!C10="","",Plan!C10) -> IT02 | D32: =IF(C32="","",Plan!D10) -> Utrzymanie ERP | E32: =IF(OR(C32="",Parametry!$G$6=""),"",DATE(Parametry!$G$6,12,1)) -> 46722 | F32: =IF(C32="","",Plan!V10) -> 0 | G32: =IF(C32="","",SUMIFS(ERP!$I$9:$I$1008,ERP!$L$9:$L$1008,C32,ERP!$N$9:$N$1008,1,ERP!$M$9:$M$1008,12)) -> 0 | H32: =IF(C32="","",IF(12<=Parametry!$G$7,0,SUMIFS(Umowy!$N$9:$N$108,Umowy!$D$9:$D$108,C32,Umowy!$O$9:$O$108,12))) -> 0 | I32: =IF(C32="","",IF(12<=Parametry!$G$7,0,IF(COUNTIFS(Prognoza!$C$9:$C$38,C32)=1,IF(ISBLANK(INDEX(Prognoza!$K$9:$V$38,MATCH($C32,Prognoza!$C$9:$C$38,0),12)),"",IF(ISNUMBER(INDEX(Prognoza!$K$9:$V$38,MATCH($C32,Prognoza!$C$9:$C$38,0),12)),INDEX(Prognoza!$K$9:$V$38,MATCH($C32,Prognoza!$C$9:$C$38,0),12),"")),""))) -> 0 | J32: =IF(C32="","",IF(Plan!F10="Run",IF(ISNUMBER(INDEX(Parametry!$H$18:$S$18,1,12)),INDEX(Parametry!$H$18:$S$18,1,12),""),IF(ISNUMBER(INDEX(Parametry!$H$24:$S$24,1,12)),INDEX(Parametry!$H$24:$S$24,1,12),""))) -> 0 | K32: =IF(C32="","",IF(12<=Parametry!$G$7,0,IF(AND(ISNUMBER(I32),ISNUMBER(J32),J32>=-1),I32*(1+J32),""))) -> 0 | L32: =IF(C32="","",IF(12<=Parametry!$G$7,G32,IF(ISNUMBER(K32),H32+K32,""))) -> 0 | M32: =IF(AND(C32<>"",ISNUMBER(L32)),L32-F32,"") -> 0 | N32: =IF(C32="",0,IF(ISNUMBER(L32),0,1)) -> 0
C33: =IF(Plan!C11="","",Plan!C11) -> IT03 | D33: =IF(C33="","",Plan!D11) -> Backup i odtwarzanie | E33: =IF(OR(C33="",Parametry!$G$6=""),"",DATE(Parametry!$G$6,1,1)) -> 46388 | F33: =IF(C33="","",Plan!K11) -> 3000 | G33: =IF(C33="","",SUMIFS(ERP!$I$9:$I$1008,ERP!$L$9:$L$1008,C33,ERP!$N$9:$N$1008,1,ERP!$M$9:$M$1008,1)) -> 3000 | H33: =IF(C33="","",IF(1<=Parametry!$G$7,0,SUMIFS(Umowy!$N$9:$N$108,Umowy!$D$9:$D$108,C33,Umowy!$O$9:$O$108,1))) -> 0 | I33: =IF(C33="","",IF(1<=Parametry!$G$7,0,IF(COUNTIFS(Prognoza!$C$9:$C$38,C33)=1,IF(ISBLANK(INDEX(Prognoza!$K$9:$V$38,MATCH($C33,Prognoza!$C$9:$C$38,0),1)),"",IF(ISNUMBER(INDEX(Prognoza!$K$9:$V$38,MATCH($C33,Prognoza!$C$9:$C$38,0),1)),INDEX(Prognoza!$K$9:$V$38,MATCH($C33,Prognoza!$C$9:$C$38,0),1),"")),""))) -> 0 | J33: =IF(C33="","",IF(Plan!F11="Run",IF(ISNUMBER(INDEX(Parametry!$H$18:$S$18,1,1)),INDEX(Parametry!$H$18:$S$18,1,1),""),IF(ISNUMBER(INDEX(Parametry!$H$24:$S$24,1,1)),INDEX(Parametry!$H$24:$S$24,1,1),""))) -> 0 | K33: =IF(C33="","",IF(1<=Parametry!$G$7,0,IF(AND(ISNUMBER(I33),ISNUMBER(J33),J33>=-1),I33*(1+J33),""))) -> 0 | L33: =IF(C33="","",IF(1<=Parametry!$G$7,G33,IF(ISNUMBER(K33),H33+K33,""))) -> 3000 | M33: =IF(AND(C33<>"",ISNUMBER(L33)),L33-F33,"") -> 0 | N33: =IF(C33="",0,IF(ISNUMBER(L33),0,1)) -> 0
C34: =IF(Plan!C11="","",Plan!C11) -> IT03 | D34: =IF(C34="","",Plan!D11) -> Backup i odtwarzanie | E34: =IF(OR(C34="",Parametry!$G$6=""),"",DATE(Parametry!$G$6,2,1)) -> 46419 | F34: =IF(C34="","",Plan!L11) -> 3000 | G34: =IF(C34="","",SUMIFS(ERP!$I$9:$I$1008,ERP!$L$9:$L$1008,C34,ERP!$N$9:$N$1008,1,ERP!$M$9:$M$1008,2)) -> 3000 | H34: =IF(C34="","",IF(2<=Parametry!$G$7,0,SUMIFS(Umowy!$N$9:$N$108,Umowy!$D$9:$D$108,C34,Umowy!$O$9:$O$108,2))) -> 0 | I34: =IF(C34="","",IF(2<=Parametry!$G$7,0,IF(COUNTIFS(Prognoza!$C$9:$C$38,C34)=1,IF(ISBLANK(INDEX(Prognoza!$K$9:$V$38,MATCH($C34,Prognoza!$C$9:$C$38,0),2)),"",IF(ISNUMBER(INDEX(Prognoza!$K$9:$V$38,MATCH($C34,Prognoza!$C$9:$C$38,0),2)),INDEX(Prognoza!$K$9:$V$38,MATCH($C34,Prognoza!$C$9:$C$38,0),2),"")),""))) -> 0 | J34: =IF(C34="","",IF(Plan!F11="Run",IF(ISNUMBER(INDEX(Parametry!$H$18:$S$18,1,2)),INDEX(Parametry!$H$18:$S$18,1,2),""),IF(ISNUMBER(INDEX(Parametry!$H$24:$S$24,1,2)),INDEX(Parametry!$H$24:$S$24,1,2),""))) -> 0 | K34: =IF(C34="","",IF(2<=Parametry!$G$7,0,IF(AND(ISNUMBER(I34),ISNUMBER(J34),J34>=-1),I34*(1+J34),""))) -> 0 | L34: =IF(C34="","",IF(2<=Parametry!$G$7,G34,IF(ISNUMBER(K34),H34+K34,""))) -> 3000 | M34: =IF(AND(C34<>"",ISNUMBER(L34)),L34-F34,"") -> 0 | N34: =IF(C34="",0,IF(ISNUMBER(L34),0,1)) -> 0
C35: =IF(Plan!C11="","",Plan!C11) -> IT03 | D35: =IF(C35="","",Plan!D11) -> Backup i odtwarzanie | E35: =IF(OR(C35="",Parametry!$G$6=""),"",DATE(Parametry!$G$6,3,1)) -> 46447 | F35: =IF(C35="","",Plan!M11) -> 3000 | G35: =IF(C35="","",SUMIFS(ERP!$I$9:$I$1008,ERP!$L$9:$L$1008,C35,ERP!$N$9:$N$1008,1,ERP!$M$9:$M$1008,3)) -> 3000 | H35: =IF(C35="","",IF(3<=Parametry!$G$7,0,SUMIFS(Umowy!$N$9:$N$108,Umowy!$D$9:$D$108,C35,Umowy!$O$9:$O$108,3))) -> 0 | I35: =IF(C35="","",IF(3<=Parametry!$G$7,0,IF(COUNTIFS(Prognoza!$C$9:$C$38,C35)=1,IF(ISBLANK(INDEX(Prognoza!$K$9:$V$38,MATCH($C35,Prognoza!$C$9:$C$38,0),3)),"",IF(ISNUMBER(INDEX(Prognoza!$K$9:$V$38,MATCH($C35,Prognoza!$C$9:$C$38,0),3)),INDEX(Prognoza!$K$9:$V$38,MATCH($C35,Prognoza!$C$9:$C$38,0),3),"")),""))) -> 0 | J35: =IF(C35="","",IF(Plan!F11="Run",IF(ISNUMBER(INDEX(Parametry!$H$18:$S$18,1,3)),INDEX(Parametry!$H$18:$S$18,1,3),""),IF(ISNUMBER(INDEX(Parametry!$H$24:$S$24,1,3)),INDEX(Parametry!$H$24:$S$24,1,3),""))) -> 0 | K35: =IF(C35="","",IF(3<=Parametry!$G$7,0,IF(AND(ISNUMBER(I35),ISNUMBER(J35),J35>=-1),I35*(1+J35),""))) -> 0 | L35: =IF(C35="","",IF(3<=Parametry!$G$7,G35,IF(ISNUMBER(K35),H35+K35,""))) -> 3000 | M35: =IF(AND(C35<>"",ISNUMBER(L35)),L35-F35,"") -> 0 | N35: =IF(C35="",0,IF(ISNUMBER(L35),0,1)) -> 0
C36: =IF(Plan!C11="","",Plan!C11) -> IT03 | D36: =IF(C36="","",Plan!D11) -> Backup i odtwarzanie | E36: =IF(OR(C36="",Parametry!$G$6=""),"",DATE(Parametry!$G$6,4,1)) -> 46478 | F36: =IF(C36="","",Plan!N11) -> 3000 | G36: =IF(C36="","",SUMIFS(ERP!$I$9:$I$1008,ERP!$L$9:$L$1008,C36,ERP!$N$9:$N$1008,1,ERP!$M$9:$M$1008,4)) -> 3000 | H36: =IF(C36="","",IF(4<=Parametry!$G$7,0,SUMIFS(Umowy!$N$9:$N$108,Umowy!$D$9:$D$108,C36,Umowy!$O$9:$O$108,4))) -> 0 | I36: =IF(C36="","",IF(4<=Parametry!$G$7,0,IF(COUNTIFS(Prognoza!$C$9:$C$38,C36)=1,IF(ISBLANK(INDEX(Prognoza!$K$9:$V$38,MATCH($C36,Prognoza!$C$9:$C$38,0),4)),"",IF(ISNUMBER(INDEX(Prognoza!$K$9:$V$38,MATCH($C36,Prognoza!$C$9:$C$38,0),4)),INDEX(Prognoza!$K$9:$V$38,MATCH($C36,Prognoza!$C$9:$C$38,0),4),"")),""))) -> 0 | J36: =IF(C36="","",IF(Plan!F11="Run",IF(ISNUMBER(INDEX(Parametry!$H$18:$S$18,1,4)),INDEX(Parametry!$H$18:$S$18,1,4),""),IF(ISNUMBER(INDEX(Parametry!$H$24:$S$24,1,4)),INDEX(Parametry!$H$24:$S$24,1,4),""))) -> 0 | K36: =IF(C36="","",IF(4<=Parametry!$G$7,0,IF(AND(ISNUMBER(I36),ISNUMBER(J36),J36>=-1),I36*(1+J36),""))) -> 0 | L36: =IF(C36="","",IF(4<=Parametry!$G$7,G36,IF(ISNUMBER(K36),H36+K36,""))) -> 3000 | M36: =IF(AND(C36<>"",ISNUMBER(L36)),L36-F36,"") -> 0 | N36: =IF(C36="",0,IF(ISNUMBER(L36),0,1)) -> 0
C37: =IF(Plan!C11="","",Plan!C11) -> IT03 | D37: =IF(C37="","",Plan!D11) -> Backup i odtwarzanie | E37: =IF(OR(C37="",Parametry!$G$6=""),"",DATE(Parametry!$G$6,5,1)) -> 46508 | F37: =IF(C37="","",Plan!O11) -> 3000 | G37: =IF(C37="","",SUMIFS(ERP!$I$9:$I$1008,ERP!$L$9:$L$1008,C37,ERP!$N$9:$N$1008,1,ERP!$M$9:$M$1008,5)) -> 3000 | H37: =IF(C37="","",IF(5<=Parametry!$G$7,0,SUMIFS(Umowy!$N$9:$N$108,Umowy!$D$9:$D$108,C37,Umowy!$O$9:$O$108,5))) -> 0 | I37: =IF(C37="","",IF(5<=Parametry!$G$7,0,IF(COUNTIFS(Prognoza!$C$9:$C$38,C37)=1,IF(ISBLANK(INDEX(Prognoza!$K$9:$V$38,MATCH($C37,Prognoza!$C$9:$C$38,0),5)),"",IF(ISNUMBER(INDEX(Prognoza!$K$9:$V$38,MATCH($C37,Prognoza!$C$9:$C$38,0),5)),INDEX(Prognoza!$K$9:$V$38,MATCH($C37,Prognoza!$C$9:$C$38,0),5),"")),""))) -> 0 | J37: =IF(C37="","",IF(Plan!F11="Run",IF(ISNUMBER(INDEX(Parametry!$H$18:$S$18,1,5)),INDEX(Parametry!$H$18:$S$18,1,5),""),IF(ISNUMBER(INDEX(Parametry!$H$24:$S$24,1,5)),INDEX(Parametry!$H$24:$S$24,1,5),""))) -> 0 | K37: =IF(C37="","",IF(5<=Parametry!$G$7,0,IF(AND(ISNUMBER(I37),ISNUMBER(J37),J37>=-1),I37*(1+J37),""))) -> 0 | L37: =IF(C37="","",IF(5<=Parametry!$G$7,G37,IF(ISNUMBER(K37),H37+K37,""))) -> 3000 | M37: =IF(AND(C37<>"",ISNUMBER(L37)),L37-F37,"") -> 0 | N37: =IF(C37="",0,IF(ISNUMBER(L37),0,1)) -> 0
C38: =IF(Plan!C11="","",Plan!C11) -> IT03 | D38: =IF(C38="","",Plan!D11) -> Backup i odtwarzanie | E38: =IF(OR(C38="",Parametry!$G$6=""),"",DATE(Parametry!$G$6,6,1)) -> 46539 | F38: =IF(C38="","",Plan!P11) -> 3000 | G38: =IF(C38="","",SUMIFS(ERP!$I$9:$I$1008,ERP!$L$9:$L$1008,C38,ERP!$N$9:$N$1008,1,ERP!$M$9:$M$1008,6)) -> 3000 | H38: =IF(C38="","",IF(6<=Parametry!$G$7,0,SUMIFS(Umowy!$N$9:$N$108,Umowy!$D$9:$D$108,C38,Umowy!$O$9:$O$108,6))) -> 0 | I38: =IF(C38="","",IF(6<=Parametry!$G$7,0,IF(COUNTIFS(Prognoza!$C$9:$C$38,C38)=1,IF(ISBLANK(INDEX(Prognoza!$K$9:$V$38,MATCH($C38,Prognoza!$C$9:$C$38,0),6)),"",IF(ISNUMBER(INDEX(Prognoza!$K$9:$V$38,MATCH($C38,Prognoza!$C$9:$C$38,0),6)),INDEX(Prognoza!$K$9:$V$38,MATCH($C38,Prognoza!$C$9:$C$38,0),6),"")),""))) -> 0 | J38: =IF(C38="","",IF(Plan!F11="Run",IF(ISNUMBER(INDEX(Parametry!$H$18:$S$18,1,6)),INDEX(Parametry!$H$18:$S$18,1,6),""),IF(ISNUMBER(INDEX(Parametry!$H$24:$S$24,1,6)),INDEX(Parametry!$H$24:$S$24,1,6),""))) -> 0 | K38: =IF(C38="","",IF(6<=Parametry!$G$7,0,IF(AND(ISNUMBER(I38),ISNUMBER(J38),J38>=-1),I38*(1+J38),""))) -> 0 | L38: =IF(C38="","",IF(6<=Parametry!$G$7,G38,IF(ISNUMBER(K38),H38+K38,""))) -> 3000 | M38: =IF(AND(C38<>"",ISNUMBER(L38)),L38-F38,"") -> 0 | N38: =IF(C38="",0,IF(ISNUMBER(L38),0,1)) -> 0
C39: =IF(Plan!C11="","",Plan!C11) -> IT03 | D39: =IF(C39="","",Plan!D11) -> Backup i odtwarzanie | E39: =IF(OR(C39="",Parametry!$G$6=""),"",DATE(Parametry!$G$6,7,1)) -> 46569 | F39: =IF(C39="","",Plan!Q11) -> 3000 | G39: =IF(C39="","",SUMIFS(ERP!$I$9:$I$1008,ERP!$L$9:$L$1008,C39,ERP!$N$9:$N$1008,1,ERP!$M$9:$M$1008,7)) -> 0 | H39: =IF(C39="","",IF(7<=Parametry!$G$7,0,SUMIFS(Umowy!$N$9:$N$108,Umowy!$D$9:$D$108,C39,Umowy!$O$9:$O$108,7))) -> 3000 | I39: =IF(C39="","",IF(7<=Parametry!$G$7,0,IF(COUNTIFS(Prognoza!$C$9:$C$38,C39)=1,IF(ISBLANK(INDEX(Prognoza!$K$9:$V$38,MATCH($C39,Prognoza!$C$9:$C$38,0),7)),"",IF(ISNUMBER(INDEX(Prognoza!$K$9:$V$38,MATCH($C39,Prognoza!$C$9:$C$38,0),7)),INDEX(Prognoza!$K$9:$V$38,MATCH($C39,Prognoza!$C$9:$C$38,0),7),"")),""))) -> 0 | J39: =IF(C39="","",IF(Plan!F11="Run",IF(ISNUMBER(INDEX(Parametry!$H$18:$S$18,1,7)),INDEX(Parametry!$H$18:$S$18,1,7),""),IF(ISNUMBER(INDEX(Parametry!$H$24:$S$24,1,7)),INDEX(Parametry!$H$24:$S$24,1,7),""))) -> 0 | K39: =IF(C39="","",IF(7<=Parametry!$G$7,0,IF(AND(ISNUMBER(I39),ISNUMBER(J39),J39>=-1),I39*(1+J39),""))) -> 0 | L39: =IF(C39="","",IF(7<=Parametry!$G$7,G39,IF(ISNUMBER(K39),H39+K39,""))) -> 3000 | M39: =IF(AND(C39<>"",ISNUMBER(L39)),L39-F39,"") -> 0 | N39: =IF(C39="",0,IF(ISNUMBER(L39),0,1)) -> 0
C40: =IF(Plan!C11="","",Plan!C11) -> IT03 | D40: =IF(C40="","",Plan!D11) -> Backup i odtwarzanie | E40: =IF(OR(C40="",Parametry!$G$6=""),"",DATE(Parametry!$G$6,8,1)) -> 46600 | F40: =IF(C40="","",Plan!R11) -> 3000 | G40: =IF(C40="","",SUMIFS(ERP!$I$9:$I$1008,ERP!$L$9:$L$1008,C40,ERP!$N$9:$N$1008,1,ERP!$M$9:$M$1008,8)) -> 0 | H40: =IF(C40="","",IF(8<=Parametry!$G$7,0,SUMIFS(Umowy!$N$9:$N$108,Umowy!$D$9:$D$108,C40,Umowy!$O$9:$O$108,8))) -> 3000 | I40: =IF(C40="","",IF(8<=Parametry!$G$7,0,IF(COUNTIFS(Prognoza!$C$9:$C$38,C40)=1,IF(ISBLANK(INDEX(Prognoza!$K$9:$V$38,MATCH($C40,Prognoza!$C$9:$C$38,0),8)),"",IF(ISNUMBER(INDEX(Prognoza!$K$9:$V$38,MATCH($C40,Prognoza!$C$9:$C$38,0),8)),INDEX(Prognoza!$K$9:$V$38,MATCH($C40,Prognoza!$C$9:$C$38,0),8),"")),""))) -> 0 | J40: =IF(C40="","",IF(Plan!F11="Run",IF(ISNUMBER(INDEX(Parametry!$H$18:$S$18,1,8)),INDEX(Parametry!$H$18:$S$18,1,8),""),IF(ISNUMBER(INDEX(Parametry!$H$24:$S$24,1,8)),INDEX(Parametry!$H$24:$S$24,1,8),""))) -> 0 | K40: =IF(C40="","",IF(8<=Parametry!$G$7,0,IF(AND(ISNUMBER(I40),ISNUMBER(J40),J40>=-1),I40*(1+J40),""))) -> 0 | L40: =IF(C40="","",IF(8<=Parametry!$G$7,G40,IF(ISNUMBER(K40),H40+K40,""))) -> 3000 | M40: =IF(AND(C40<>"",ISNUMBER(L40)),L40-F40,"") -> 0 | N40: =IF(C40="",0,IF(ISNUMBER(L40),0,1)) -> 0
C41: =IF(Plan!C11="","",Plan!C11) -> IT03 | D41: =IF(C41="","",Plan!D11) -> Backup i odtwarzanie | E41: =IF(OR(C41="",Parametry!$G$6=""),"",DATE(Parametry!$G$6,9,1)) -> 46631 | F41: =IF(C41="","",Plan!S11) -> 3000 | G41: =IF(C41="","",SUMIFS(ERP!$I$9:$I$1008,ERP!$L$9:$L$1008,C41,ERP!$N$9:$N$1008,1,ERP!$M$9:$M$1008,9)) -> 0 | H41: =IF(C41="","",IF(9<=Parametry!$G$7,0,SUMIFS(Umowy!$N$9:$N$108,Umowy!$D$9:$D$108,C41,Umowy!$O$9:$O$108,9))) -> 3000 | I41: =IF(C41="","",IF(9<=Parametry!$G$7,0,IF(COUNTIFS(Prognoza!$C$9:$C$38,C41)=1,IF(ISBLANK(INDEX(Prognoza!$K$9:$V$38,MATCH($C41,Prognoza!$C$9:$C$38,0),9)),"",IF(ISNUMBER(INDEX(Prognoza!$K$9:$V$38,MATCH($C41,Prognoza!$C$9:$C$38,0),9)),INDEX(Prognoza!$K$9:$V$38,MATCH($C41,Prognoza!$C$9:$C$38,0),9),"")),""))) -> 0 | J41: =IF(C41="","",IF(Plan!F11="Run",IF(ISNUMBER(INDEX(Parametry!$H$18:$S$18,1,9)),INDEX(Parametry!$H$18:$S$18,1,9),""),IF(ISNUMBER(INDEX(Parametry!$H$24:$S$24,1,9)),INDEX(Parametry!$H$24:$S$24,1,9),""))) -> 0 | K41: =IF(C41="","",IF(9<=Parametry!$G$7,0,IF(AND(ISNUMBER(I41),ISNUMBER(J41),J41>=-1),I41*(1+J41),""))) -> 0 | L41: =IF(C41="","",IF(9<=Parametry!$G$7,G41,IF(ISNUMBER(K41),H41+K41,""))) -> 3000 | M41: =IF(AND(C41<>"",ISNUMBER(L41)),L41-F41,"") -> 0 | N41: =IF(C41="",0,IF(ISNUMBER(L41),0,1)) -> 0
C42: =IF(Plan!C11="","",Plan!C11) -> IT03 | D42: =IF(C42="","",Plan!D11) -> Backup i odtwarzanie | E42: =IF(OR(C42="",Parametry!$G$6=""),"",DATE(Parametry!$G$6,10,1)) -> 46661 | F42: =IF(C42="","",Plan!T11) -> 3000 | G42: =IF(C42="","",SUMIFS(ERP!$I$9:$I$1008,ERP!$L$9:$L$1008,C42,ERP!$N$9:$N$1008,1,ERP!$M$9:$M$1008,10)) -> 0 | H42: =IF(C42="","",IF(10<=Parametry!$G$7,0,SUMIFS(Umowy!$N$9:$N$108,Umowy!$D$9:$D$108,C42,Umowy!$O$9:$O$108,10))) -> 3000 | I42: =IF(C42="","",IF(10<=Parametry!$G$7,0,IF(COUNTIFS(Prognoza!$C$9:$C$38,C42)=1,IF(ISBLANK(INDEX(Prognoza!$K$9:$V$38,MATCH($C42,Prognoza!$C$9:$C$38,0),10)),"",IF(ISNUMBER(INDEX(Prognoza!$K$9:$V$38,MATCH($C42,Prognoza!$C$9:$C$38,0),10)),INDEX(Prognoza!$K$9:$V$38,MATCH($C42,Prognoza!$C$9:$C$38,0),10),"")),""))) -> 0 | J42: =IF(C42="","",IF(Plan!F11="Run",IF(ISNUMBER(INDEX(Parametry!$H$18:$S$18,1,10)),INDEX(Parametry!$H$18:$S$18,1,10),""),IF(ISNUMBER(INDEX(Parametry!$H$24:$S$24,1,10)),INDEX(Parametry!$H$24:$S$24,1,10),""))) -> 0 | K42: =IF(C42="","",IF(10<=Parametry!$G$7,0,IF(AND(ISNUMBER(I42),ISNUMBER(J42),J42>=-1),I42*(1+J42),""))) -> 0 | L42: =IF(C42="","",IF(10<=Parametry!$G$7,G42,IF(ISNUMBER(K42),H42+K42,""))) -> 3000 | M42: =IF(AND(C42<>"",ISNUMBER(L42)),L42-F42,"") -> 0 | N42: =IF(C42="",0,IF(ISNUMBER(L42),0,1)) -> 0
C43: =IF(Plan!C11="","",Plan!C11) -> IT03 | D43: =IF(C43="","",Plan!D11) -> Backup i odtwarzanie | E43: =IF(OR(C43="",Parametry!$G$6=""),"",DATE(Parametry!$G$6,11,1)) -> 46692 | F43: =IF(C43="","",Plan!U11) -> 3000 | G43: =IF(C43="","",SUMIFS(ERP!$I$9:$I$1008,ERP!$L$9:$L$1008,C43,ERP!$N$9:$N$1008,1,ERP!$M$9:$M$1008,11)) -> 0 | H43: =IF(C43="","",IF(11<=Parametry!$G$7,0,SUMIFS(Umowy!$N$9:$N$108,Umowy!$D$9:$D$108,C43,Umowy!$O$9:$O$108,11))) -> 3000 | I43: =IF(C43="","",IF(11<=Parametry!$G$7,0,IF(COUNTIFS(Prognoza!$C$9:$C$38,C43)=1,IF(ISBLANK(INDEX(Prognoza!$K$9:$V$38,MATCH($C43,Prognoza!$C$9:$C$38,0),11)),"",IF(ISNUMBER(INDEX(Prognoza!$K$9:$V$38,MATCH($C43,Prognoza!$C$9:$C$38,0),11)),INDEX(Prognoza!$K$9:$V$38,MATCH($C43,Prognoza!$C$9:$C$38,0),11),"")),""))) -> 0 | J43: =IF(C43="","",IF(Plan!F11="Run",IF(ISNUMBER(INDEX(Parametry!$H$18:$S$18,1,11)),INDEX(Parametry!$H$18:$S$18,1,11),""),IF(ISNUMBER(INDEX(Parametry!$H$24:$S$24,1,11)),INDEX(Parametry!$H$24:$S$24,1,11),""))) -> 0 | K43: =IF(C43="","",IF(11<=Parametry!$G$7,0,IF(AND(ISNUMBER(I43),ISNUMBER(J43),J43>=-1),I43*(1+J43),""))) -> 0 | L43: =IF(C43="","",IF(11<=Parametry!$G$7,G43,IF(ISNUMBER(K43),H43+K43,""))) -> 3000 | M43: =IF(AND(C43<>"",ISNUMBER(L43)),L43-F43,"") -> 0 | N43: =IF(C43="",0,IF(ISNUMBER(L43),0,1)) -> 0
C44: =IF(Plan!C11="","",Plan!C11) -> IT03 | D44: =IF(C44="","",Plan!D11) -> Backup i odtwarzanie | E44: =IF(OR(C44="",Parametry!$G$6=""),"",DATE(Parametry!$G$6,12,1)) -> 46722 | F44: =IF(C44="","",Plan!V11) -> 3000 | G44: =IF(C44="","",SUMIFS(ERP!$I$9:$I$1008,ERP!$L$9:$L$1008,C44,ERP!$N$9:$N$1008,1,ERP!$M$9:$M$1008,12)) -> 0 | H44: =IF(C44="","",IF(12<=Parametry!$G$7,0,SUMIFS(Umowy!$N$9:$N$108,Umowy!$D$9:$D$108,C44,Umowy!$O$9:$O$108,12))) -> 3000 | I44: =IF(C44="","",IF(12<=Parametry!$G$7,0,IF(COUNTIFS(Prognoza!$C$9:$C$38,C44)=1,IF(ISBLANK(INDEX(Prognoza!$K$9:$V$38,MATCH($C44,Prognoza!$C$9:$C$38,0),12)),"",IF(ISNUMBER(INDEX(Prognoza!$K$9:$V$38,MATCH($C44,Prognoza!$C$9:$C$38,0),12)),INDEX(Prognoza!$K$9:$V$38,MATCH($C44,Prognoza!$C$9:$C$38,0),12),"")),""))) -> 0 | J44: =IF(C44="","",IF(Plan!F11="Run",IF(ISNUMBER(INDEX(Parametry!$H$18:$S$18,1,12)),INDEX(Parametry!$H$18:$S$18,1,12),""),IF(ISNUMBER(INDEX(Parametry!$H$24:$S$24,1,12)),INDEX(Parametry!$H$24:$S$24,1,12),""))) -> 0 | K44: =IF(C44="","",IF(12<=Parametry!$G$7,0,IF(AND(ISNUMBER(I44),ISNUMBER(J44),J44>=-1),I44*(1+J44),""))) -> 0 | L44: =IF(C44="","",IF(12<=Parametry!$G$7,G44,IF(ISNUMBER(K44),H44+K44,""))) -> 3000 | M44: =IF(AND(C44<>"",ISNUMBER(L44)),L44-F44,"") -> 0 | N44: =IF(C44="",0,IF(ISNUMBER(L44),0,1)) -> 0
C45: =IF(Plan!C12="","",Plan!C12) -> IT04 | D45: =IF(C45="","",Plan!D12) -> Ochrona środowiska | E45: =IF(OR(C45="",Parametry!$G$6=""),"",DATE(Parametry!$G$6,1,1)) -> 46388 | F45: =IF(C45="","",Plan!K12) -> 5000 | G45: =IF(C45="","",SUMIFS(ERP!$I$9:$I$1008,ERP!$L$9:$L$1008,C45,ERP!$N$9:$N$1008,1,ERP!$M$9:$M$1008,1)) -> 5000 | H45: =IF(C45="","",IF(1<=Parametry!$G$7,0,SUMIFS(Umowy!$N$9:$N$108,Umowy!$D$9:$D$108,C45,Umowy!$O$9:$O$108,1))) -> 0 | I45: =IF(C45="","",IF(1<=Parametry!$G$7,0,IF(COUNTIFS(Prognoza!$C$9:$C$38,C45)=1,IF(ISBLANK(INDEX(Prognoza!$K$9:$V$38,MATCH($C45,Prognoza!$C$9:$C$38,0),1)),"",IF(ISNUMBER(INDEX(Prognoza!$K$9:$V$38,MATCH($C45,Prognoza!$C$9:$C$38,0),1)),INDEX(Prognoza!$K$9:$V$38,MATCH($C45,Prognoza!$C$9:$C$38,0),1),"")),""))) -> 0 | J45: =IF(C45="","",IF(Plan!F12="Run",IF(ISNUMBER(INDEX(Parametry!$H$18:$S$18,1,1)),INDEX(Parametry!$H$18:$S$18,1,1),""),IF(ISNUMBER(INDEX(Parametry!$H$24:$S$24,1,1)),INDEX(Parametry!$H$24:$S$24,1,1),""))) -> 0 | K45: =IF(C45="","",IF(1<=Parametry!$G$7,0,IF(AND(ISNUMBER(I45),ISNUMBER(J45),J45>=-1),I45*(1+J45),""))) -> 0 | L45: =IF(C45="","",IF(1<=Parametry!$G$7,G45,IF(ISNUMBER(K45),H45+K45,""))) -> 5000 | M45: =IF(AND(C45<>"",ISNUMBER(L45)),L45-F45,"") -> 0 | N45: =IF(C45="",0,IF(ISNUMBER(L45),0,1)) -> 0
C46: =IF(Plan!C12="","",Plan!C12) -> IT04 | D46: =IF(C46="","",Plan!D12) -> Ochrona środowiska | E46: =IF(OR(C46="",Parametry!$G$6=""),"",DATE(Parametry!$G$6,2,1)) -> 46419 | F46: =IF(C46="","",Plan!L12) -> 5000 | G46: =IF(C46="","",SUMIFS(ERP!$I$9:$I$1008,ERP!$L$9:$L$1008,C46,ERP!$N$9:$N$1008,1,ERP!$M$9:$M$1008,2)) -> 5000 | H46: =IF(C46="","",IF(2<=Parametry!$G$7,0,SUMIFS(Umowy!$N$9:$N$108,Umowy!$D$9:$D$108,C46,Umowy!$O$9:$O$108,2))) -> 0 | I46: =IF(C46="","",IF(2<=Parametry!$G$7,0,IF(COUNTIFS(Prognoza!$C$9:$C$38,C46)=1,IF(ISBLANK(INDEX(Prognoza!$K$9:$V$38,MATCH($C46,Prognoza!$C$9:$C$38,0),2)),"",IF(ISNUMBER(INDEX(Prognoza!$K$9:$V$38,MATCH($C46,Prognoza!$C$9:$C$38,0),2)),INDEX(Prognoza!$K$9:$V$38,MATCH($C46,Prognoza!$C$9:$C$38,0),2),"")),""))) -> 0 | J46: =IF(C46="","",IF(Plan!F12="Run",IF(ISNUMBER(INDEX(Parametry!$H$18:$S$18,1,2)),INDEX(Parametry!$H$18:$S$18,1,2),""),IF(ISNUMBER(INDEX(Parametry!$H$24:$S$24,1,2)),INDEX(Parametry!$H$24:$S$24,1,2),""))) -> 0 | K46: =IF(C46="","",IF(2<=Parametry!$G$7,0,IF(AND(ISNUMBER(I46),ISNUMBER(J46),J46>=-1),I46*(1+J46),""))) -> 0 | L46: =IF(C46="","",IF(2<=Parametry!$G$7,G46,IF(ISNUMBER(K46),H46+K46,""))) -> 5000 | M46: =IF(AND(C46<>"",ISNUMBER(L46)),L46-F46,"") -> 0 | N46: =IF(C46="",0,IF(ISNUMBER(L46),0,1)) -> 0
C47: =IF(Plan!C12="","",Plan!C12) -> IT04 | D47: =IF(C47="","",Plan!D12) -> Ochrona środowiska | E47: =IF(OR(C47="",Parametry!$G$6=""),"",DATE(Parametry!$G$6,3,1)) -> 46447 | F47: =IF(C47="","",Plan!M12) -> 5000 | G47: =IF(C47="","",SUMIFS(ERP!$I$9:$I$1008,ERP!$L$9:$L$1008,C47,ERP!$N$9:$N$1008,1,ERP!$M$9:$M$1008,3)) -> 5000 | H47: =IF(C47="","",IF(3<=Parametry!$G$7,0,SUMIFS(Umowy!$N$9:$N$108,Umowy!$D$9:$D$108,C47,Umowy!$O$9:$O$108,3))) -> 0 | I47: =IF(C47="","",IF(3<=Parametry!$G$7,0,IF(COUNTIFS(Prognoza!$C$9:$C$38,C47)=1,IF(ISBLANK(INDEX(Prognoza!$K$9:$V$38,MATCH($C47,Prognoza!$C$9:$C$38,0),3)),"",IF(ISNUMBER(INDEX(Prognoza!$K$9:$V$38,MATCH($C47,Prognoza!$C$9:$C$38,0),3)),INDEX(Prognoza!$K$9:$V$38,MATCH($C47,Prognoza!$C$9:$C$38,0),3),"")),""))) -> 0 | J47: =IF(C47="","",IF(Plan!F12="Run",IF(ISNUMBER(INDEX(Parametry!$H$18:$S$18,1,3)),INDEX(Parametry!$H$18:$S$18,1,3),""),IF(ISNUMBER(INDEX(Parametry!$H$24:$S$24,1,3)),INDEX(Parametry!$H$24:$S$24,1,3),""))) -> 0 | K47: =IF(C47="","",IF(3<=Parametry!$G$7,0,IF(AND(ISNUMBER(I47),ISNUMBER(J47),J47>=-1),I47*(1+J47),""))) -> 0 | L47: =IF(C47="","",IF(3<=Parametry!$G$7,G47,IF(ISNUMBER(K47),H47+K47,""))) -> 5000 | M47: =IF(AND(C47<>"",ISNUMBER(L47)),L47-F47,"") -> 0 | N47: =IF(C47="",0,IF(ISNUMBER(L47),0,1)) -> 0
C48: =IF(Plan!C12="","",Plan!C12) -> IT04 | D48: =IF(C48="","",Plan!D12) -> Ochrona środowiska | E48: =IF(OR(C48="",Parametry!$G$6=""),"",DATE(Parametry!$G$6,4,1)) -> 46478 | F48: =IF(C48="","",Plan!N12) -> 5000 | G48: =IF(C48="","",SUMIFS(ERP!$I$9:$I$1008,ERP!$L$9:$L$1008,C48,ERP!$N$9:$N$1008,1,ERP!$M$9:$M$1008,4)) -> 5000 | H48: =IF(C48="","",IF(4<=Parametry!$G$7,0,SUMIFS(Umowy!$N$9:$N$108,Umowy!$D$9:$D$108,C48,Umowy!$O$9:$O$108,4))) -> 0 | I48: =IF(C48="","",IF(4<=Parametry!$G$7,0,IF(COUNTIFS(Prognoza!$C$9:$C$38,C48)=1,IF(ISBLANK(INDEX(Prognoza!$K$9:$V$38,MATCH($C48,Prognoza!$C$9:$C$38,0),4)),"",IF(ISNUMBER(INDEX(Prognoza!$K$9:$V$38,MATCH($C48,Prognoza!$C$9:$C$38,0),4)),INDEX(Prognoza!$K$9:$V$38,MATCH($C48,Prognoza!$C$9:$C$38,0),4),"")),""))) -> 0 | J48: =IF(C48="","",IF(Plan!F12="Run",IF(ISNUMBER(INDEX(Parametry!$H$18:$S$18,1,4)),INDEX(Parametry!$H$18:$S$18,1,4),""),IF(ISNUMBER(INDEX(Parametry!$H$24:$S$24,1,4)),INDEX(Parametry!$H$24:$S$24,1,4),""))) -> 0 | K48: =IF(C48="","",IF(4<=Parametry!$G$7,0,IF(AND(ISNUMBER(I48),ISNUMBER(J48),J48>=-1),I48*(1+J48),""))) -> 0 | L48: =IF(C48="","",IF(4<=Parametry!$G$7,G48,IF(ISNUMBER(K48),H48+K48,""))) -> 5000 | M48: =IF(AND(C48<>"",ISNUMBER(L48)),L48-F48,"") -> 0 | N48: =IF(C48="",0,IF(ISNUMBER(L48),0,1)) -> 0
C49: =IF(Plan!C12="","",Plan!C12) -> IT04 | D49: =IF(C49="","",Plan!D12) -> Ochrona środowiska | E49: =IF(OR(C49="",Parametry!$G$6=""),"",DATE(Parametry!$G$6,5,1)) -> 46508 | F49: =IF(C49="","",Plan!O12) -> 5000 | G49: =IF(C49="","",SUMIFS(ERP!$I$9:$I$1008,ERP!$L$9:$L$1008,C49,ERP!$N$9:$N$1008,1,ERP!$M$9:$M$1008,5)) -> 5000 | H49: =IF(C49="","",IF(5<=Parametry!$G$7,0,SUMIFS(Umowy!$N$9:$N$108,Umowy!$D$9:$D$108,C49,Umowy!$O$9:$O$108,5))) -> 0 | I49: =IF(C49="","",IF(5<=Parametry!$G$7,0,IF(COUNTIFS(Prognoza!$C$9:$C$38,C49)=1,IF(ISBLANK(INDEX(Prognoza!$K$9:$V$38,MATCH($C49,Prognoza!$C$9:$C$38,0),5)),"",IF(ISNUMBER(INDEX(Prognoza!$K$9:$V$38,MATCH($C49,Prognoza!$C$9:$C$38,0),5)),INDEX(Prognoza!$K$9:$V$38,MATCH($C49,Prognoza!$C$9:$C$38,0),5),"")),""))) -> 0 | J49: =IF(C49="","",IF(Plan!F12="Run",IF(ISNUMBER(INDEX(Parametry!$H$18:$S$18,1,5)),INDEX(Parametry!$H$18:$S$18,1,5),""),IF(ISNUMBER(INDEX(Parametry!$H$24:$S$24,1,5)),INDEX(Parametry!$H$24:$S$24,1,5),""))) -> 0 | K49: =IF(C49="","",IF(5<=Parametry!$G$7,0,IF(AND(ISNUMBER(I49),ISNUMBER(J49),J49>=-1),I49*(1+J49),""))) -> 0 | L49: =IF(C49="","",IF(5<=Parametry!$G$7,G49,IF(ISNUMBER(K49),H49+K49,""))) -> 5000 | M49: =IF(AND(C49<>"",ISNUMBER(L49)),L49-F49,"") -> 0 | N49: =IF(C49="",0,IF(ISNUMBER(L49),0,1)) -> 0
C50: =IF(Plan!C12="","",Plan!C12) -> IT04 | D50: =IF(C50="","",Plan!D12) -> Ochrona środowiska | E50: =IF(OR(C50="",Parametry!$G$6=""),"",DATE(Parametry!$G$6,6,1)) -> 46539 | F50: =IF(C50="","",Plan!P12) -> 5000 | G50: =IF(C50="","",SUMIFS(ERP!$I$9:$I$1008,ERP!$L$9:$L$1008,C50,ERP!$N$9:$N$1008,1,ERP!$M$9:$M$1008,6)) -> 5000 | H50: =IF(C50="","",IF(6<=Parametry!$G$7,0,SUMIFS(Umowy!$N$9:$N$108,Umowy!$D$9:$D$108,C50,Umowy!$O$9:$O$108,6))) -> 0 | I50: =IF(C50="","",IF(6<=Parametry!$G$7,0,IF(COUNTIFS(Prognoza!$C$9:$C$38,C50)=1,IF(ISBLANK(INDEX(Prognoza!$K$9:$V$38,MATCH($C50,Prognoza!$C$9:$C$38,0),6)),"",IF(ISNUMBER(INDEX(Prognoza!$K$9:$V$38,MATCH($C50,Prognoza!$C$9:$C$38,0),6)),INDEX(Prognoza!$K$9:$V$38,MATCH($C50,Prognoza!$C$9:$C$38,0),6),"")),""))) -> 0 | J50: =IF(C50="","",IF(Plan!F12="Run",IF(ISNUMBER(INDEX(Parametry!$H$18:$S$18,1,6)),INDEX(Parametry!$H$18:$S$18,1,6),""),IF(ISNUMBER(INDEX(Parametry!$H$24:$S$24,1,6)),INDEX(Parametry!$H$24:$S$24,1,6),""))) -> 0 | K50: =IF(C50="","",IF(6<=Parametry!$G$7,0,IF(AND(ISNUMBER(I50),ISNUMBER(J50),J50>=-1),I50*(1+J50),""))) -> 0 | L50: =IF(C50="","",IF(6<=Parametry!$G$7,G50,IF(ISNUMBER(K50),H50+K50,""))) -> 5000 | M50: =IF(AND(C50<>"",ISNUMBER(L50)),L50-F50,"") -> 0 | N50: =IF(C50="",0,IF(ISNUMBER(L50),0,1)) -> 0
C51: =IF(Plan!C12="","",Plan!C12) -> IT04 | D51: =IF(C51="","",Plan!D12) -> Ochrona środowiska | E51: =IF(OR(C51="",Parametry!$G$6=""),"",DATE(Parametry!$G$6,7,1)) -> 46569 | F51: =IF(C51="","",Plan!Q12) -> 5000 | G51: =IF(C51="","",SUMIFS(ERP!$I$9:$I$1008,ERP!$L$9:$L$1008,C51,ERP!$N$9:$N$1008,1,ERP!$M$9:$M$1008,7)) -> 0 | H51: =IF(C51="","",IF(7<=Parametry!$G$7,0,SUMIFS(Umowy!$N$9:$N$108,Umowy!$D$9:$D$108,C51,Umowy!$O$9:$O$108,7))) -> 5000 | I51: =IF(C51="","",IF(7<=Parametry!$G$7,0,IF(COUNTIFS(Prognoza!$C$9:$C$38,C51)=1,IF(ISBLANK(INDEX(Prognoza!$K$9:$V$38,MATCH($C51,Prognoza!$C$9:$C$38,0),7)),"",IF(ISNUMBER(INDEX(Prognoza!$K$9:$V$38,MATCH($C51,Prognoza!$C$9:$C$38,0),7)),INDEX(Prognoza!$K$9:$V$38,MATCH($C51,Prognoza!$C$9:$C$38,0),7),"")),""))) -> 0 | J51: =IF(C51="","",IF(Plan!F12="Run",IF(ISNUMBER(INDEX(Parametry!$H$18:$S$18,1,7)),INDEX(Parametry!$H$18:$S$18,1,7),""),IF(ISNUMBER(INDEX(Parametry!$H$24:$S$24,1,7)),INDEX(Parametry!$H$24:$S$24,1,7),""))) -> 0 | K51: =IF(C51="","",IF(7<=Parametry!$G$7,0,IF(AND(ISNUMBER(I51),ISNUMBER(J51),J51>=-1),I51*(1+J51),""))) -> 0 | L51: =IF(C51="","",IF(7<=Parametry!$G$7,G51,IF(ISNUMBER(K51),H51+K51,""))) -> 5000 | M51: =IF(AND(C51<>"",ISNUMBER(L51)),L51-F51,"") -> 0 | N51: =IF(C51="",0,IF(ISNUMBER(L51),0,1)) -> 0
C52: =IF(Plan!C12="","",Plan!C12) -> IT04 | D52: =IF(C52="","",Plan!D12) -> Ochrona środowiska | E52: =IF(OR(C52="",Parametry!$G$6=""),"",DATE(Parametry!$G$6,8,1)) -> 46600 | F52: =IF(C52="","",Plan!R12) -> 5000 | G52: =IF(C52="","",SUMIFS(ERP!$I$9:$I$1008,ERP!$L$9:$L$1008,C52,ERP!$N$9:$N$1008,1,ERP!$M$9:$M$1008,8)) -> 0 | H52: =IF(C52="","",IF(8<=Parametry!$G$7,0,SUMIFS(Umowy!$N$9:$N$108,Umowy!$D$9:$D$108,C52,Umowy!$O$9:$O$108,8))) -> 5000 | I52: =IF(C52="","",IF(8<=Parametry!$G$7,0,IF(COUNTIFS(Prognoza!$C$9:$C$38,C52)=1,IF(ISBLANK(INDEX(Prognoza!$K$9:$V$38,MATCH($C52,Prognoza!$C$9:$C$38,0),8)),"",IF(ISNUMBER(INDEX(Prognoza!$K$9:$V$38,MATCH($C52,Prognoza!$C$9:$C$38,0),8)),INDEX(Prognoza!$K$9:$V$38,MATCH($C52,Prognoza!$C$9:$C$38,0),8),"")),""))) -> 0 | J52: =IF(C52="","",IF(Plan!F12="Run",IF(ISNUMBER(INDEX(Parametry!$H$18:$S$18,1,8)),INDEX(Parametry!$H$18:$S$18,1,8),""),IF(ISNUMBER(INDEX(Parametry!$H$24:$S$24,1,8)),INDEX(Parametry!$H$24:$S$24,1,8),""))) -> 0 | K52: =IF(C52="","",IF(8<=Parametry!$G$7,0,IF(AND(ISNUMBER(I52),ISNUMBER(J52),J52>=-1),I52*(1+J52),""))) -> 0 | L52: =IF(C52="","",IF(8<=Parametry!$G$7,G52,IF(ISNUMBER(K52),H52+K52,""))) -> 5000 | M52: =IF(AND(C52<>"",ISNUMBER(L52)),L52-F52,"") -> 0 | N52: =IF(C52="",0,IF(ISNUMBER(L52),0,1)) -> 0
C53: =IF(Plan!C12="","",Plan!C12) -> IT04 | D53: =IF(C53="","",Plan!D12) -> Ochrona środowiska | E53: =IF(OR(C53="",Parametry!$G$6=""),"",DATE(Parametry!$G$6,9,1)) -> 46631 | F53: =IF(C53="","",Plan!S12) -> 5000 | G53: =IF(C53="","",SUMIFS(ERP!$I$9:$I$1008,ERP!$L$9:$L$1008,C53,ERP!$N$9:$N$1008,1,ERP!$M$9:$M$1008,9)) -> 0 | H53: =IF(C53="","",IF(9<=Parametry!$G$7,0,SUMIFS(Umowy!$N$9:$N$108,Umowy!$D$9:$D$108,C53,Umowy!$O$9:$O$108,9))) -> 5000 | I53: =IF(C53="","",IF(9<=Parametry!$G$7,0,IF(COUNTIFS(Prognoza!$C$9:$C$38,C53)=1,IF(ISBLANK(INDEX(Prognoza!$K$9:$V$38,MATCH($C53,Prognoza!$C$9:$C$38,0),9)),"",IF(ISNUMBER(INDEX(Prognoza!$K$9:$V$38,MATCH($C53,Prognoza!$C$9:$C$38,0),9)),INDEX(Prognoza!$K$9:$V$38,MATCH($C53,Prognoza!$C$9:$C$38,0),9),"")),""))) -> 0 | J53: =IF(C53="","",IF(Plan!F12="Run",IF(ISNUMBER(INDEX(Parametry!$H$18:$S$18,1,9)),INDEX(Parametry!$H$18:$S$18,1,9),""),IF(ISNUMBER(INDEX(Parametry!$H$24:$S$24,1,9)),INDEX(Parametry!$H$24:$S$24,1,9),""))) -> 0 | K53: =IF(C53="","",IF(9<=Parametry!$G$7,0,IF(AND(ISNUMBER(I53),ISNUMBER(J53),J53>=-1),I53*(1+J53),""))) -> 0 | L53: =IF(C53="","",IF(9<=Parametry!$G$7,G53,IF(ISNUMBER(K53),H53+K53,""))) -> 5000 | M53: =IF(AND(C53<>"",ISNUMBER(L53)),L53-F53,"") -> 0 | N53: =IF(C53="",0,IF(ISNUMBER(L53),0,1)) -> 0
C54: =IF(Plan!C12="","",Plan!C12) -> IT04 | D54: =IF(C54="","",Plan!D12) -> Ochrona środowiska | E54: =IF(OR(C54="",Parametry!$G$6=""),"",DATE(Parametry!$G$6,10,1)) -> 46661 | F54: =IF(C54="","",Plan!T12) -> 5000 | G54: =IF(C54="","",SUMIFS(ERP!$I$9:$I$1008,ERP!$L$9:$L$1008,C54,ERP!$N$9:$N$1008,1,ERP!$M$9:$M$1008,10)) -> 0 | H54: =IF(C54="","",IF(10<=Parametry!$G$7,0,SUMIFS(Umowy!$N$9:$N$108,Umowy!$D$9:$D$108,C54,Umowy!$O$9:$O$108,10))) -> 5000 | I54: =IF(C54="","",IF(10<=Parametry!$G$7,0,IF(COUNTIFS(Prognoza!$C$9:$C$38,C54)=1,IF(ISBLANK(INDEX(Prognoza!$K$9:$V$38,MATCH($C54,Prognoza!$C$9:$C$38,0),10)),"",IF(ISNUMBER(INDEX(Prognoza!$K$9:$V$38,MATCH($C54,Prognoza!$C$9:$C$38,0),10)),INDEX(Prognoza!$K$9:$V$38,MATCH($C54,Prognoza!$C$9:$C$38,0),10),"")),""))) -> 0 | J54: =IF(C54="","",IF(Plan!F12="Run",IF(ISNUMBER(INDEX(Parametry!$H$18:$S$18,1,10)),INDEX(Parametry!$H$18:$S$18,1,10),""),IF(ISNUMBER(INDEX(Parametry!$H$24:$S$24,1,10)),INDEX(Parametry!$H$24:$S$24,1,10),""))) -> 0 | K54: =IF(C54="","",IF(10<=Parametry!$G$7,0,IF(AND(ISNUMBER(I54),ISNUMBER(J54),J54>=-1),I54*(1+J54),""))) -> 0 | L54: =IF(C54="","",IF(10<=Parametry!$G$7,G54,IF(ISNUMBER(K54),H54+K54,""))) -> 5000 | M54: =IF(AND(C54<>"",ISNUMBER(L54)),L54-F54,"") -> 0 | N54: =IF(C54="",0,IF(ISNUMBER(L54),0,1)) -> 0
C55: =IF(Plan!C12="","",Plan!C12) -> IT04 | D55: =IF(C55="","",Plan!D12) -> Ochrona środowiska | E55: =IF(OR(C55="",Parametry!$G$6=""),"",DATE(Parametry!$G$6,11,1)) -> 46692 | F55: =IF(C55="","",Plan!U12) -> 5000 | G55: =IF(C55="","",SUMIFS(ERP!$I$9:$I$1008,ERP!$L$9:$L$1008,C55,ERP!$N$9:$N$1008,1,ERP!$M$9:$M$1008,11)) -> 0 | H55: =IF(C55="","",IF(11<=Parametry!$G$7,0,SUMIFS(Umowy!$N$9:$N$108,Umowy!$D$9:$D$108,C55,Umowy!$O$9:$O$108,11))) -> 5000 | I55: =IF(C55="","",IF(11<=Parametry!$G$7,0,IF(COUNTIFS(Prognoza!$C$9:$C$38,C55)=1,IF(ISBLANK(INDEX(Prognoza!$K$9:$V$38,MATCH($C55,Prognoza!$C$9:$C$38,0),11)),"",IF(ISNUMBER(INDEX(Prognoza!$K$9:$V$38,MATCH($C55,Prognoza!$C$9:$C$38,0),11)),INDEX(Prognoza!$K$9:$V$38,MATCH($C55,Prognoza!$C$9:$C$38,0),11),"")),""))) -> 0 | J55: =IF(C55="","",IF(Plan!F12="Run",IF(ISNUMBER(INDEX(Parametry!$H$18:$S$18,1,11)),INDEX(Parametry!$H$18:$S$18,1,11),""),IF(ISNUMBER(INDEX(Parametry!$H$24:$S$24,1,11)),INDEX(Parametry!$H$24:$S$24,1,11),""))) -> 0 | K55: =IF(C55="","",IF(11<=Parametry!$G$7,0,IF(AND(ISNUMBER(I55),ISNUMBER(J55),J55>=-1),I55*(1+J55),""))) -> 0 | L55: =IF(C55="","",IF(11<=Parametry!$G$7,G55,IF(ISNUMBER(K55),H55+K55,""))) -> 5000 | M55: =IF(AND(C55<>"",ISNUMBER(L55)),L55-F55,"") -> 0 | N55: =IF(C55="",0,IF(ISNUMBER(L55),0,1)) -> 0
C56: =IF(Plan!C12="","",Plan!C12) -> IT04 | D56: =IF(C56="","",Plan!D12) -> Ochrona środowiska | E56: =IF(OR(C56="",Parametry!$G$6=""),"",DATE(Parametry!$G$6,12,1)) -> 46722 | F56: =IF(C56="","",Plan!V12) -> 5000 | G56: =IF(C56="","",SUMIFS(ERP!$I$9:$I$1008,ERP!$L$9:$L$1008,C56,ERP!$N$9:$N$1008,1,ERP!$M$9:$M$1008,12)) -> 0 | H56: =IF(C56="","",IF(12<=Parametry!$G$7,0,SUMIFS(Umowy!$N$9:$N$108,Umowy!$D$9:$D$108,C56,Umowy!$O$9:$O$108,12))) -> 5000 | I56: =IF(C56="","",IF(12<=Parametry!$G$7,0,IF(COUNTIFS(Prognoza!$C$9:$C$38,C56)=1,IF(ISBLANK(INDEX(Prognoza!$K$9:$V$38,MATCH($C56,Prognoza!$C$9:$C$38,0),12)),"",IF(ISNUMBER(INDEX(Prognoza!$K$9:$V$38,MATCH($C56,Prognoza!$C$9:$C$38,0),12)),INDEX(Prognoza!$K$9:$V$38,MATCH($C56,Prognoza!$C$9:$C$38,0),12),"")),""))) -> 0 | J56: =IF(C56="","",IF(Plan!F12="Run",IF(ISNUMBER(INDEX(Parametry!$H$18:$S$18,1,12)),INDEX(Parametry!$H$18:$S$18,1,12),""),IF(ISNUMBER(INDEX(Parametry!$H$24:$S$24,1,12)),INDEX(Parametry!$H$24:$S$24,1,12),""))) -> 0 | K56: =IF(C56="","",IF(12<=Parametry!$G$7,0,IF(AND(ISNUMBER(I56),ISNUMBER(J56),J56>=-1),I56*(1+J56),""))) -> 0 | L56: =IF(C56="","",IF(12<=Parametry!$G$7,G56,IF(ISNUMBER(K56),H56+K56,""))) -> 5000 | M56: =IF(AND(C56<>"",ISNUMBER(L56)),L56-F56,"") -> 0 | N56: =IF(C56="",0,IF(ISNUMBER(L56),0,1)) -> 0
C57: =IF(Plan!C13="","",Plan!C13) -> IT05 | D57: =IF(C57="","",Plan!D13) -> Odświeżenie sieci | E57: =IF(OR(C57="",Parametry!$G$6=""),"",DATE(Parametry!$G$6,1,1)) -> 46388 | F57: =IF(C57="","",Plan!K13) -> 0 | G57: =IF(C57="","",SUMIFS(ERP!$I$9:$I$1008,ERP!$L$9:$L$1008,C57,ERP!$N$9:$N$1008,1,ERP!$M$9:$M$1008,1)) -> 0 | H57: =IF(C57="","",IF(1<=Parametry!$G$7,0,SUMIFS(Umowy!$N$9:$N$108,Umowy!$D$9:$D$108,C57,Umowy!$O$9:$O$108,1))) -> 0 | I57: =IF(C57="","",IF(1<=Parametry!$G$7,0,IF(COUNTIFS(Prognoza!$C$9:$C$38,C57)=1,IF(ISBLANK(INDEX(Prognoza!$K$9:$V$38,MATCH($C57,Prognoza!$C$9:$C$38,0),1)),"",IF(ISNUMBER(INDEX(Prognoza!$K$9:$V$38,MATCH($C57,Prognoza!$C$9:$C$38,0),1)),INDEX(Prognoza!$K$9:$V$38,MATCH($C57,Prognoza!$C$9:$C$38,0),1),"")),""))) -> 0 | J57: =IF(C57="","",IF(Plan!F13="Run",IF(ISNUMBER(INDEX(Parametry!$H$18:$S$18,1,1)),INDEX(Parametry!$H$18:$S$18,1,1),""),IF(ISNUMBER(INDEX(Parametry!$H$24:$S$24,1,1)),INDEX(Parametry!$H$24:$S$24,1,1),""))) -> 0 | K57: =IF(C57="","",IF(1<=Parametry!$G$7,0,IF(AND(ISNUMBER(I57),ISNUMBER(J57),J57>=-1),I57*(1+J57),""))) -> 0 | L57: =IF(C57="","",IF(1<=Parametry!$G$7,G57,IF(ISNUMBER(K57),H57+K57,""))) -> 0 | M57: =IF(AND(C57<>"",ISNUMBER(L57)),L57-F57,"") -> 0 | N57: =IF(C57="",0,IF(ISNUMBER(L57),0,1)) -> 0
C58: =IF(Plan!C13="","",Plan!C13) -> IT05 | D58: =IF(C58="","",Plan!D13) -> Odświeżenie sieci | E58: =IF(OR(C58="",Parametry!$G$6=""),"",DATE(Parametry!$G$6,2,1)) -> 46419 | F58: =IF(C58="","",Plan!L13) -> 0 | G58: =IF(C58="","",SUMIFS(ERP!$I$9:$I$1008,ERP!$L$9:$L$1008,C58,ERP!$N$9:$N$1008,1,ERP!$M$9:$M$1008,2)) -> 0 | H58: =IF(C58="","",IF(2<=Parametry!$G$7,0,SUMIFS(Umowy!$N$9:$N$108,Umowy!$D$9:$D$108,C58,Umowy!$O$9:$O$108,2))) -> 0 | I58: =IF(C58="","",IF(2<=Parametry!$G$7,0,IF(COUNTIFS(Prognoza!$C$9:$C$38,C58)=1,IF(ISBLANK(INDEX(Prognoza!$K$9:$V$38,MATCH($C58,Prognoza!$C$9:$C$38,0),2)),"",IF(ISNUMBER(INDEX(Prognoza!$K$9:$V$38,MATCH($C58,Prognoza!$C$9:$C$38,0),2)),INDEX(Prognoza!$K$9:$V$38,MATCH($C58,Prognoza!$C$9:$C$38,0),2),"")),""))) -> 0 | J58: =IF(C58="","",IF(Plan!F13="Run",IF(ISNUMBER(INDEX(Parametry!$H$18:$S$18,1,2)),INDEX(Parametry!$H$18:$S$18,1,2),""),IF(ISNUMBER(INDEX(Parametry!$H$24:$S$24,1,2)),INDEX(Parametry!$H$24:$S$24,1,2),""))) -> 0 | K58: =IF(C58="","",IF(2<=Parametry!$G$7,0,IF(AND(ISNUMBER(I58),ISNUMBER(J58),J58>=-1),I58*(1+J58),""))) -> 0 | L58: =IF(C58="","",IF(2<=Parametry!$G$7,G58,IF(ISNUMBER(K58),H58+K58,""))) -> 0 | M58: =IF(AND(C58<>"",ISNUMBER(L58)),L58-F58,"") -> 0 | N58: =IF(C58="",0,IF(ISNUMBER(L58),0,1)) -> 0
C59: =IF(Plan!C13="","",Plan!C13) -> IT05 | D59: =IF(C59="","",Plan!D13) -> Odświeżenie sieci | E59: =IF(OR(C59="",Parametry!$G$6=""),"",DATE(Parametry!$G$6,3,1)) -> 46447 | F59: =IF(C59="","",Plan!M13) -> 60000 | G59: =IF(C59="","",SUMIFS(ERP!$I$9:$I$1008,ERP!$L$9:$L$1008,C59,ERP!$N$9:$N$1008,1,ERP!$M$9:$M$1008,3)) -> 64000 | H59: =IF(C59="","",IF(3<=Parametry!$G$7,0,SUMIFS(Umowy!$N$9:$N$108,Umowy!$D$9:$D$108,C59,Umowy!$O$9:$O$108,3))) -> 0 | I59: =IF(C59="","",IF(3<=Parametry!$G$7,0,IF(COUNTIFS(Prognoza!$C$9:$C$38,C59)=1,IF(ISBLANK(INDEX(Prognoza!$K$9:$V$38,MATCH($C59,Prognoza!$C$9:$C$38,0),3)),"",IF(ISNUMBER(INDEX(Prognoza!$K$9:$V$38,MATCH($C59,Prognoza!$C$9:$C$38,0),3)),INDEX(Prognoza!$K$9:$V$38,MATCH($C59,Prognoza!$C$9:$C$38,0),3),"")),""))) -> 0 | J59: =IF(C59="","",IF(Plan!F13="Run",IF(ISNUMBER(INDEX(Parametry!$H$18:$S$18,1,3)),INDEX(Parametry!$H$18:$S$18,1,3),""),IF(ISNUMBER(INDEX(Parametry!$H$24:$S$24,1,3)),INDEX(Parametry!$H$24:$S$24,1,3),""))) -> 0 | K59: =IF(C59="","",IF(3<=Parametry!$G$7,0,IF(AND(ISNUMBER(I59),ISNUMBER(J59),J59>=-1),I59*(1+J59),""))) -> 0 | L59: =IF(C59="","",IF(3<=Parametry!$G$7,G59,IF(ISNUMBER(K59),H59+K59,""))) -> 64000 | M59: =IF(AND(C59<>"",ISNUMBER(L59)),L59-F59,"") -> 4000 | N59: =IF(C59="",0,IF(ISNUMBER(L59),0,1)) -> 0
C60: =IF(Plan!C13="","",Plan!C13) -> IT05 | D60: =IF(C60="","",Plan!D13) -> Odświeżenie sieci | E60: =IF(OR(C60="",Parametry!$G$6=""),"",DATE(Parametry!$G$6,4,1)) -> 46478 | F60: =IF(C60="","",Plan!N13) -> 0 | G60: =IF(C60="","",SUMIFS(ERP!$I$9:$I$1008,ERP!$L$9:$L$1008,C60,ERP!$N$9:$N$1008,1,ERP!$M$9:$M$1008,4)) -> 0 | H60: =IF(C60="","",IF(4<=Parametry!$G$7,0,SUMIFS(Umowy!$N$9:$N$108,Umowy!$D$9:$D$108,C60,Umowy!$O$9:$O$108,4))) -> 0 | I60: =IF(C60="","",IF(4<=Parametry!$G$7,0,IF(COUNTIFS(Prognoza!$C$9:$C$38,C60)=1,IF(ISBLANK(INDEX(Prognoza!$K$9:$V$38,MATCH($C60,Prognoza!$C$9:$C$38,0),4)),"",IF(ISNUMBER(INDEX(Prognoza!$K$9:$V$38,MATCH($C60,Prognoza!$C$9:$C$38,0),4)),INDEX(Prognoza!$K$9:$V$38,MATCH($C60,Prognoza!$C$9:$C$38,0),4),"")),""))) -> 0 | J60: =IF(C60="","",IF(Plan!F13="Run",IF(ISNUMBER(INDEX(Parametry!$H$18:$S$18,1,4)),INDEX(Parametry!$H$18:$S$18,1,4),""),IF(ISNUMBER(INDEX(Parametry!$H$24:$S$24,1,4)),INDEX(Parametry!$H$24:$S$24,1,4),""))) -> 0 | K60: =IF(C60="","",IF(4<=Parametry!$G$7,0,IF(AND(ISNUMBER(I60),ISNUMBER(J60),J60>=-1),I60*(1+J60),""))) -> 0 | L60: =IF(C60="","",IF(4<=Parametry!$G$7,G60,IF(ISNUMBER(K60),H60+K60,""))) -> 0 | M60: =IF(AND(C60<>"",ISNUMBER(L60)),L60-F60,"") -> 0 | N60: =IF(C60="",0,IF(ISNUMBER(L60),0,1)) -> 0
C61: =IF(Plan!C13="","",Plan!C13) -> IT05 | D61: =IF(C61="","",Plan!D13) -> Odświeżenie sieci | E61: =IF(OR(C61="",Parametry!$G$6=""),"",DATE(Parametry!$G$6,5,1)) -> 46508 | F61: =IF(C61="","",Plan!O13) -> 0 | G61: =IF(C61="","",SUMIFS(ERP!$I$9:$I$1008,ERP!$L$9:$L$1008,C61,ERP!$N$9:$N$1008,1,ERP!$M$9:$M$1008,5)) -> 0 | H61: =IF(C61="","",IF(5<=Parametry!$G$7,0,SUMIFS(Umowy!$N$9:$N$108,Umowy!$D$9:$D$108,C61,Umowy!$O$9:$O$108,5))) -> 0 | I61: =IF(C61="","",IF(5<=Parametry!$G$7,0,IF(COUNTIFS(Prognoza!$C$9:$C$38,C61)=1,IF(ISBLANK(INDEX(Prognoza!$K$9:$V$38,MATCH($C61,Prognoza!$C$9:$C$38,0),5)),"",IF(ISNUMBER(INDEX(Prognoza!$K$9:$V$38,MATCH($C61,Prognoza!$C$9:$C$38,0),5)),INDEX(Prognoza!$K$9:$V$38,MATCH($C61,Prognoza!$C$9:$C$38,0),5),"")),""))) -> 0 | J61: =IF(C61="","",IF(Plan!F13="Run",IF(ISNUMBER(INDEX(Parametry!$H$18:$S$18,1,5)),INDEX(Parametry!$H$18:$S$18,1,5),""),IF(ISNUMBER(INDEX(Parametry!$H$24:$S$24,1,5)),INDEX(Parametry!$H$24:$S$24,1,5),""))) -> 0 | K61: =IF(C61="","",IF(5<=Parametry!$G$7,0,IF(AND(ISNUMBER(I61),ISNUMBER(J61),J61>=-1),I61*(1+J61),""))) -> 0 | L61: =IF(C61="","",IF(5<=Parametry!$G$7,G61,IF(ISNUMBER(K61),H61+K61,""))) -> 0 | M61: =IF(AND(C61<>"",ISNUMBER(L61)),L61-F61,"") -> 0 | N61: =IF(C61="",0,IF(ISNUMBER(L61),0,1)) -> 0
C62: =IF(Plan!C13="","",Plan!C13) -> IT05 | D62: =IF(C62="","",Plan!D13) -> Odświeżenie sieci | E62: =IF(OR(C62="",Parametry!$G$6=""),"",DATE(Parametry!$G$6,6,1)) -> 46539 | F62: =IF(C62="","",Plan!P13) -> 0 | G62: =IF(C62="","",SUMIFS(ERP!$I$9:$I$1008,ERP!$L$9:$L$1008,C62,ERP!$N$9:$N$1008,1,ERP!$M$9:$M$1008,6)) -> 0 | H62: =IF(C62="","",IF(6<=Parametry!$G$7,0,SUMIFS(Umowy!$N$9:$N$108,Umowy!$D$9:$D$108,C62,Umowy!$O$9:$O$108,6))) -> 0 | I62: =IF(C62="","",IF(6<=Parametry!$G$7,0,IF(COUNTIFS(Prognoza!$C$9:$C$38,C62)=1,IF(ISBLANK(INDEX(Prognoza!$K$9:$V$38,MATCH($C62,Prognoza!$C$9:$C$38,0),6)),"",IF(ISNUMBER(INDEX(Prognoza!$K$9:$V$38,MATCH($C62,Prognoza!$C$9:$C$38,0),6)),INDEX(Prognoza!$K$9:$V$38,MATCH($C62,Prognoza!$C$9:$C$38,0),6),"")),""))) -> 0 | J62: =IF(C62="","",IF(Plan!F13="Run",IF(ISNUMBER(INDEX(Parametry!$H$18:$S$18,1,6)),INDEX(Parametry!$H$18:$S$18,1,6),""),IF(ISNUMBER(INDEX(Parametry!$H$24:$S$24,1,6)),INDEX(Parametry!$H$24:$S$24,1,6),""))) -> 0 | K62: =IF(C62="","",IF(6<=Parametry!$G$7,0,IF(AND(ISNUMBER(I62),ISNUMBER(J62),J62>=-1),I62*(1+J62),""))) -> 0 | L62: =IF(C62="","",IF(6<=Parametry!$G$7,G62,IF(ISNUMBER(K62),H62+K62,""))) -> 0 | M62: =IF(AND(C62<>"",ISNUMBER(L62)),L62-F62,"") -> 0 | N62: =IF(C62="",0,IF(ISNUMBER(L62),0,1)) -> 0
C63: =IF(Plan!C13="","",Plan!C13) -> IT05 | D63: =IF(C63="","",Plan!D13) -> Odświeżenie sieci | E63: =IF(OR(C63="",Parametry!$G$6=""),"",DATE(Parametry!$G$6,7,1)) -> 46569 | F63: =IF(C63="","",Plan!Q13) -> 0 | G63: =IF(C63="","",SUMIFS(ERP!$I$9:$I$1008,ERP!$L$9:$L$1008,C63,ERP!$N$9:$N$1008,1,ERP!$M$9:$M$1008,7)) -> 0 | H63: =IF(C63="","",IF(7<=Parametry!$G$7,0,SUMIFS(Umowy!$N$9:$N$108,Umowy!$D$9:$D$108,C63,Umowy!$O$9:$O$108,7))) -> 0 | I63: =IF(C63="","",IF(7<=Parametry!$G$7,0,IF(COUNTIFS(Prognoza!$C$9:$C$38,C63)=1,IF(ISBLANK(INDEX(Prognoza!$K$9:$V$38,MATCH($C63,Prognoza!$C$9:$C$38,0),7)),"",IF(ISNUMBER(INDEX(Prognoza!$K$9:$V$38,MATCH($C63,Prognoza!$C$9:$C$38,0),7)),INDEX(Prognoza!$K$9:$V$38,MATCH($C63,Prognoza!$C$9:$C$38,0),7),"")),""))) -> 0 | J63: =IF(C63="","",IF(Plan!F13="Run",IF(ISNUMBER(INDEX(Parametry!$H$18:$S$18,1,7)),INDEX(Parametry!$H$18:$S$18,1,7),""),IF(ISNUMBER(INDEX(Parametry!$H$24:$S$24,1,7)),INDEX(Parametry!$H$24:$S$24,1,7),""))) -> 0 | K63: =IF(C63="","",IF(7<=Parametry!$G$7,0,IF(AND(ISNUMBER(I63),ISNUMBER(J63),J63>=-1),I63*(1+J63),""))) -> 0 | L63: =IF(C63="","",IF(7<=Parametry!$G$7,G63,IF(ISNUMBER(K63),H63+K63,""))) -> 0 | M63: =IF(AND(C63<>"",ISNUMBER(L63)),L63-F63,"") -> 0 | N63: =IF(C63="",0,IF(ISNUMBER(L63),0,1)) -> 0
C64: =IF(Plan!C13="","",Plan!C13) -> IT05 | D64: =IF(C64="","",Plan!D13) -> Odświeżenie sieci | E64: =IF(OR(C64="",Parametry!$G$6=""),"",DATE(Parametry!$G$6,8,1)) -> 46600 | F64: =IF(C64="","",Plan!R13) -> 0 | G64: =IF(C64="","",SUMIFS(ERP!$I$9:$I$1008,ERP!$L$9:$L$1008,C64,ERP!$N$9:$N$1008,1,ERP!$M$9:$M$1008,8)) -> 0 | H64: =IF(C64="","",IF(8<=Parametry!$G$7,0,SUMIFS(Umowy!$N$9:$N$108,Umowy!$D$9:$D$108,C64,Umowy!$O$9:$O$108,8))) -> 0 | I64: =IF(C64="","",IF(8<=Parametry!$G$7,0,IF(COUNTIFS(Prognoza!$C$9:$C$38,C64)=1,IF(ISBLANK(INDEX(Prognoza!$K$9:$V$38,MATCH($C64,Prognoza!$C$9:$C$38,0),8)),"",IF(ISNUMBER(INDEX(Prognoza!$K$9:$V$38,MATCH($C64,Prognoza!$C$9:$C$38,0),8)),INDEX(Prognoza!$K$9:$V$38,MATCH($C64,Prognoza!$C$9:$C$38,0),8),"")),""))) -> 0 | J64: =IF(C64="","",IF(Plan!F13="Run",IF(ISNUMBER(INDEX(Parametry!$H$18:$S$18,1,8)),INDEX(Parametry!$H$18:$S$18,1,8),""),IF(ISNUMBER(INDEX(Parametry!$H$24:$S$24,1,8)),INDEX(Parametry!$H$24:$S$24,1,8),""))) -> 0 | K64: =IF(C64="","",IF(8<=Parametry!$G$7,0,IF(AND(ISNUMBER(I64),ISNUMBER(J64),J64>=-1),I64*(1+J64),""))) -> 0 | L64: =IF(C64="","",IF(8<=Parametry!$G$7,G64,IF(ISNUMBER(K64),H64+K64,""))) -> 0 | M64: =IF(AND(C64<>"",ISNUMBER(L64)),L64-F64,"") -> 0 | N64: =IF(C64="",0,IF(ISNUMBER(L64),0,1)) -> 0
C65: =IF(Plan!C13="","",Plan!C13) -> IT05 | D65: =IF(C65="","",Plan!D13) -> Odświeżenie sieci | E65: =IF(OR(C65="",Parametry!$G$6=""),"",DATE(Parametry!$G$6,9,1)) -> 46631 | F65: =IF(C65="","",Plan!S13) -> 0 | G65: =IF(C65="","",SUMIFS(ERP!$I$9:$I$1008,ERP!$L$9:$L$1008,C65,ERP!$N$9:$N$1008,1,ERP!$M$9:$M$1008,9)) -> 0 | H65: =IF(C65="","",IF(9<=Parametry!$G$7,0,SUMIFS(Umowy!$N$9:$N$108,Umowy!$D$9:$D$108,C65,Umowy!$O$9:$O$108,9))) -> 0 | I65: =IF(C65="","",IF(9<=Parametry!$G$7,0,IF(COUNTIFS(Prognoza!$C$9:$C$38,C65)=1,IF(ISBLANK(INDEX(Prognoza!$K$9:$V$38,MATCH($C65,Prognoza!$C$9:$C$38,0),9)),"",IF(ISNUMBER(INDEX(Prognoza!$K$9:$V$38,MATCH($C65,Prognoza!$C$9:$C$38,0),9)),INDEX(Prognoza!$K$9:$V$38,MATCH($C65,Prognoza!$C$9:$C$38,0),9),"")),""))) -> 0 | J65: =IF(C65="","",IF(Plan!F13="Run",IF(ISNUMBER(INDEX(Parametry!$H$18:$S$18,1,9)),INDEX(Parametry!$H$18:$S$18,1,9),""),IF(ISNUMBER(INDEX(Parametry!$H$24:$S$24,1,9)),INDEX(Parametry!$H$24:$S$24,1,9),""))) -> 0 | K65: =IF(C65="","",IF(9<=Parametry!$G$7,0,IF(AND(ISNUMBER(I65),ISNUMBER(J65),J65>=-1),I65*(1+J65),""))) -> 0 | L65: =IF(C65="","",IF(9<=Parametry!$G$7,G65,IF(ISNUMBER(K65),H65+K65,""))) -> 0 | M65: =IF(AND(C65<>"",ISNUMBER(L65)),L65-F65,"") -> 0 | N65: =IF(C65="",0,IF(ISNUMBER(L65),0,1)) -> 0
C66: =IF(Plan!C13="","",Plan!C13) -> IT05 | D66: =IF(C66="","",Plan!D13) -> Odświeżenie sieci | E66: =IF(OR(C66="",Parametry!$G$6=""),"",DATE(Parametry!$G$6,10,1)) -> 46661 | F66: =IF(C66="","",Plan!T13) -> 0 | G66: =IF(C66="","",SUMIFS(ERP!$I$9:$I$1008,ERP!$L$9:$L$1008,C66,ERP!$N$9:$N$1008,1,ERP!$M$9:$M$1008,10)) -> 0 | H66: =IF(C66="","",IF(10<=Parametry!$G$7,0,SUMIFS(Umowy!$N$9:$N$108,Umowy!$D$9:$D$108,C66,Umowy!$O$9:$O$108,10))) -> 0 | I66: =IF(C66="","",IF(10<=Parametry!$G$7,0,IF(COUNTIFS(Prognoza!$C$9:$C$38,C66)=1,IF(ISBLANK(INDEX(Prognoza!$K$9:$V$38,MATCH($C66,Prognoza!$C$9:$C$38,0),10)),"",IF(ISNUMBER(INDEX(Prognoza!$K$9:$V$38,MATCH($C66,Prognoza!$C$9:$C$38,0),10)),INDEX(Prognoza!$K$9:$V$38,MATCH($C66,Prognoza!$C$9:$C$38,0),10),"")),""))) -> 0 | J66: =IF(C66="","",IF(Plan!F13="Run",IF(ISNUMBER(INDEX(Parametry!$H$18:$S$18,1,10)),INDEX(Parametry!$H$18:$S$18,1,10),""),IF(ISNUMBER(INDEX(Parametry!$H$24:$S$24,1,10)),INDEX(Parametry!$H$24:$S$24,1,10),""))) -> 0 | K66: =IF(C66="","",IF(10<=Parametry!$G$7,0,IF(AND(ISNUMBER(I66),ISNUMBER(J66),J66>=-1),I66*(1+J66),""))) -> 0 | L66: =IF(C66="","",IF(10<=Parametry!$G$7,G66,IF(ISNUMBER(K66),H66+K66,""))) -> 0 | M66: =IF(AND(C66<>"",ISNUMBER(L66)),L66-F66,"") -> 0 | N66: =IF(C66="",0,IF(ISNUMBER(L66),0,1)) -> 0
C67: =IF(Plan!C13="","",Plan!C13) -> IT05 | D67: =IF(C67="","",Plan!D13) -> Odświeżenie sieci | E67: =IF(OR(C67="",Parametry!$G$6=""),"",DATE(Parametry!$G$6,11,1)) -> 46692 | F67: =IF(C67="","",Plan!U13) -> 0 | G67: =IF(C67="","",SUMIFS(ERP!$I$9:$I$1008,ERP!$L$9:$L$1008,C67,ERP!$N$9:$N$1008,1,ERP!$M$9:$M$1008,11)) -> 0 | H67: =IF(C67="","",IF(11<=Parametry!$G$7,0,SUMIFS(Umowy!$N$9:$N$108,Umowy!$D$9:$D$108,C67,Umowy!$O$9:$O$108,11))) -> 0 | I67: =IF(C67="","",IF(11<=Parametry!$G$7,0,IF(COUNTIFS(Prognoza!$C$9:$C$38,C67)=1,IF(ISBLANK(INDEX(Prognoza!$K$9:$V$38,MATCH($C67,Prognoza!$C$9:$C$38,0),11)),"",IF(ISNUMBER(INDEX(Prognoza!$K$9:$V$38,MATCH($C67,Prognoza!$C$9:$C$38,0),11)),INDEX(Prognoza!$K$9:$V$38,MATCH($C67,Prognoza!$C$9:$C$38,0),11),"")),""))) -> 0 | J67: =IF(C67="","",IF(Plan!F13="Run",IF(ISNUMBER(INDEX(Parametry!$H$18:$S$18,1,11)),INDEX(Parametry!$H$18:$S$18,1,11),""),IF(ISNUMBER(INDEX(Parametry!$H$24:$S$24,1,11)),INDEX(Parametry!$H$24:$S$24,1,11),""))) -> 0 | K67: =IF(C67="","",IF(11<=Parametry!$G$7,0,IF(AND(ISNUMBER(I67),ISNUMBER(J67),J67>=-1),I67*(1+J67),""))) -> 0 | L67: =IF(C67="","",IF(11<=Parametry!$G$7,G67,IF(ISNUMBER(K67),H67+K67,""))) -> 0 | M67: =IF(AND(C67<>"",ISNUMBER(L67)),L67-F67,"") -> 0 | N67: =IF(C67="",0,IF(ISNUMBER(L67),0,1)) -> 0
C68: =IF(Plan!C13="","",Plan!C13) -> IT05 | D68: =IF(C68="","",Plan!D13) -> Odświeżenie sieci | E68: =IF(OR(C68="",Parametry!$G$6=""),"",DATE(Parametry!$G$6,12,1)) -> 46722 | F68: =IF(C68="","",Plan!V13) -> 0 | G68: =IF(C68="","",SUMIFS(ERP!$I$9:$I$1008,ERP!$L$9:$L$1008,C68,ERP!$N$9:$N$1008,1,ERP!$M$9:$M$1008,12)) -> 0 | H68: =IF(C68="","",IF(12<=Parametry!$G$7,0,SUMIFS(Umowy!$N$9:$N$108,Umowy!$D$9:$D$108,C68,Umowy!$O$9:$O$108,12))) -> 0 | I68: =IF(C68="","",IF(12<=Parametry!$G$7,0,IF(COUNTIFS(Prognoza!$C$9:$C$38,C68)=1,IF(ISBLANK(INDEX(Prognoza!$K$9:$V$38,MATCH($C68,Prognoza!$C$9:$C$38,0),12)),"",IF(ISNUMBER(INDEX(Prognoza!$K$9:$V$38,MATCH($C68,Prognoza!$C$9:$C$38,0),12)),INDEX(Prognoza!$K$9:$V$38,MATCH($C68,Prognoza!$C$9:$C$38,0),12),"")),""))) -> 0 | J68: =IF(C68="","",IF(Plan!F13="Run",IF(ISNUMBER(INDEX(Parametry!$H$18:$S$18,1,12)),INDEX(Parametry!$H$18:$S$18,1,12),""),IF(ISNUMBER(INDEX(Parametry!$H$24:$S$24,1,12)),INDEX(Parametry!$H$24:$S$24,1,12),""))) -> 0 | K68: =IF(C68="","",IF(12<=Parametry!$G$7,0,IF(AND(ISNUMBER(I68),ISNUMBER(J68),J68>=-1),I68*(1+J68),""))) -> 0 | L68: =IF(C68="","",IF(12<=Parametry!$G$7,G68,IF(ISNUMBER(K68),H68+K68,""))) -> 0 | M68: =IF(AND(C68<>"",ISNUMBER(L68)),L68-F68,"") -> 0 | N68: =IF(C68="",0,IF(ISNUMBER(L68),0,1)) -> 0
C69: =IF(Plan!C14="","",Plan!C14) -> IT06 | D69: =IF(C69="","",Plan!D14) -> Projekt WMS | E69: =IF(OR(C69="",Parametry!$G$6=""),"",DATE(Parametry!$G$6,1,1)) -> 46388 | F69: =IF(C69="","",Plan!K14) -> 0 | G69: =IF(C69="","",SUMIFS(ERP!$I$9:$I$1008,ERP!$L$9:$L$1008,C69,ERP!$N$9:$N$1008,1,ERP!$M$9:$M$1008,1)) -> 0 | H69: =IF(C69="","",IF(1<=Parametry!$G$7,0,SUMIFS(Umowy!$N$9:$N$108,Umowy!$D$9:$D$108,C69,Umowy!$O$9:$O$108,1))) -> 0 | I69: =IF(C69="","",IF(1<=Parametry!$G$7,0,IF(COUNTIFS(Prognoza!$C$9:$C$38,C69)=1,IF(ISBLANK(INDEX(Prognoza!$K$9:$V$38,MATCH($C69,Prognoza!$C$9:$C$38,0),1)),"",IF(ISNUMBER(INDEX(Prognoza!$K$9:$V$38,MATCH($C69,Prognoza!$C$9:$C$38,0),1)),INDEX(Prognoza!$K$9:$V$38,MATCH($C69,Prognoza!$C$9:$C$38,0),1),"")),""))) -> 0 | J69: =IF(C69="","",IF(Plan!F14="Run",IF(ISNUMBER(INDEX(Parametry!$H$18:$S$18,1,1)),INDEX(Parametry!$H$18:$S$18,1,1),""),IF(ISNUMBER(INDEX(Parametry!$H$24:$S$24,1,1)),INDEX(Parametry!$H$24:$S$24,1,1),""))) -> 0 | K69: =IF(C69="","",IF(1<=Parametry!$G$7,0,IF(AND(ISNUMBER(I69),ISNUMBER(J69),J69>=-1),I69*(1+J69),""))) -> 0 | L69: =IF(C69="","",IF(1<=Parametry!$G$7,G69,IF(ISNUMBER(K69),H69+K69,""))) -> 0 | M69: =IF(AND(C69<>"",ISNUMBER(L69)),L69-F69,"") -> 0 | N69: =IF(C69="",0,IF(ISNUMBER(L69),0,1)) -> 0
C70: =IF(Plan!C14="","",Plan!C14) -> IT06 | D70: =IF(C70="","",Plan!D14) -> Projekt WMS | E70: =IF(OR(C70="",Parametry!$G$6=""),"",DATE(Parametry!$G$6,2,1)) -> 46419 | F70: =IF(C70="","",Plan!L14) -> 0 | G70: =IF(C70="","",SUMIFS(ERP!$I$9:$I$1008,ERP!$L$9:$L$1008,C70,ERP!$N$9:$N$1008,1,ERP!$M$9:$M$1008,2)) -> 0 | H70: =IF(C70="","",IF(2<=Parametry!$G$7,0,SUMIFS(Umowy!$N$9:$N$108,Umowy!$D$9:$D$108,C70,Umowy!$O$9:$O$108,2))) -> 0 | I70: =IF(C70="","",IF(2<=Parametry!$G$7,0,IF(COUNTIFS(Prognoza!$C$9:$C$38,C70)=1,IF(ISBLANK(INDEX(Prognoza!$K$9:$V$38,MATCH($C70,Prognoza!$C$9:$C$38,0),2)),"",IF(ISNUMBER(INDEX(Prognoza!$K$9:$V$38,MATCH($C70,Prognoza!$C$9:$C$38,0),2)),INDEX(Prognoza!$K$9:$V$38,MATCH($C70,Prognoza!$C$9:$C$38,0),2),"")),""))) -> 0 | J70: =IF(C70="","",IF(Plan!F14="Run",IF(ISNUMBER(INDEX(Parametry!$H$18:$S$18,1,2)),INDEX(Parametry!$H$18:$S$18,1,2),""),IF(ISNUMBER(INDEX(Parametry!$H$24:$S$24,1,2)),INDEX(Parametry!$H$24:$S$24,1,2),""))) -> 0 | K70: =IF(C70="","",IF(2<=Parametry!$G$7,0,IF(AND(ISNUMBER(I70),ISNUMBER(J70),J70>=-1),I70*(1+J70),""))) -> 0 | L70: =IF(C70="","",IF(2<=Parametry!$G$7,G70,IF(ISNUMBER(K70),H70+K70,""))) -> 0 | M70: =IF(AND(C70<>"",ISNUMBER(L70)),L70-F70,"") -> 0 | N70: =IF(C70="",0,IF(ISNUMBER(L70),0,1)) -> 0
C71: =IF(Plan!C14="","",Plan!C14) -> IT06 | D71: =IF(C71="","",Plan!D14) -> Projekt WMS | E71: =IF(OR(C71="",Parametry!$G$6=""),"",DATE(Parametry!$G$6,3,1)) -> 46447 | F71: =IF(C71="","",Plan!M14) -> 0 | G71: =IF(C71="","",SUMIFS(ERP!$I$9:$I$1008,ERP!$L$9:$L$1008,C71,ERP!$N$9:$N$1008,1,ERP!$M$9:$M$1008,3)) -> 0 | H71: =IF(C71="","",IF(3<=Parametry!$G$7,0,SUMIFS(Umowy!$N$9:$N$108,Umowy!$D$9:$D$108,C71,Umowy!$O$9:$O$108,3))) -> 0 | I71: =IF(C71="","",IF(3<=Parametry!$G$7,0,IF(COUNTIFS(Prognoza!$C$9:$C$38,C71)=1,IF(ISBLANK(INDEX(Prognoza!$K$9:$V$38,MATCH($C71,Prognoza!$C$9:$C$38,0),3)),"",IF(ISNUMBER(INDEX(Prognoza!$K$9:$V$38,MATCH($C71,Prognoza!$C$9:$C$38,0),3)),INDEX(Prognoza!$K$9:$V$38,MATCH($C71,Prognoza!$C$9:$C$38,0),3),"")),""))) -> 0 | J71: =IF(C71="","",IF(Plan!F14="Run",IF(ISNUMBER(INDEX(Parametry!$H$18:$S$18,1,3)),INDEX(Parametry!$H$18:$S$18,1,3),""),IF(ISNUMBER(INDEX(Parametry!$H$24:$S$24,1,3)),INDEX(Parametry!$H$24:$S$24,1,3),""))) -> 0 | K71: =IF(C71="","",IF(3<=Parametry!$G$7,0,IF(AND(ISNUMBER(I71),ISNUMBER(J71),J71>=-1),I71*(1+J71),""))) -> 0 | L71: =IF(C71="","",IF(3<=Parametry!$G$7,G71,IF(ISNUMBER(K71),H71+K71,""))) -> 0 | M71: =IF(AND(C71<>"",ISNUMBER(L71)),L71-F71,"") -> 0 | N71: =IF(C71="",0,IF(ISNUMBER(L71),0,1)) -> 0
C72: =IF(Plan!C14="","",Plan!C14) -> IT06 | D72: =IF(C72="","",Plan!D14) -> Projekt WMS | E72: =IF(OR(C72="",Parametry!$G$6=""),"",DATE(Parametry!$G$6,4,1)) -> 46478 | F72: =IF(C72="","",Plan!N14) -> 40000 | G72: =IF(C72="","",SUMIFS(ERP!$I$9:$I$1008,ERP!$L$9:$L$1008,C72,ERP!$N$9:$N$1008,1,ERP!$M$9:$M$1008,4)) -> 40000 | H72: =IF(C72="","",IF(4<=Parametry!$G$7,0,SUMIFS(Umowy!$N$9:$N$108,Umowy!$D$9:$D$108,C72,Umowy!$O$9:$O$108,4))) -> 0 | I72: =IF(C72="","",IF(4<=Parametry!$G$7,0,IF(COUNTIFS(Prognoza!$C$9:$C$38,C72)=1,IF(ISBLANK(INDEX(Prognoza!$K$9:$V$38,MATCH($C72,Prognoza!$C$9:$C$38,0),4)),"",IF(ISNUMBER(INDEX(Prognoza!$K$9:$V$38,MATCH($C72,Prognoza!$C$9:$C$38,0),4)),INDEX(Prognoza!$K$9:$V$38,MATCH($C72,Prognoza!$C$9:$C$38,0),4),"")),""))) -> 0 | J72: =IF(C72="","",IF(Plan!F14="Run",IF(ISNUMBER(INDEX(Parametry!$H$18:$S$18,1,4)),INDEX(Parametry!$H$18:$S$18,1,4),""),IF(ISNUMBER(INDEX(Parametry!$H$24:$S$24,1,4)),INDEX(Parametry!$H$24:$S$24,1,4),""))) -> 0 | K72: =IF(C72="","",IF(4<=Parametry!$G$7,0,IF(AND(ISNUMBER(I72),ISNUMBER(J72),J72>=-1),I72*(1+J72),""))) -> 0 | L72: =IF(C72="","",IF(4<=Parametry!$G$7,G72,IF(ISNUMBER(K72),H72+K72,""))) -> 40000 | M72: =IF(AND(C72<>"",ISNUMBER(L72)),L72-F72,"") -> 0 | N72: =IF(C72="",0,IF(ISNUMBER(L72),0,1)) -> 0
C73: =IF(Plan!C14="","",Plan!C14) -> IT06 | D73: =IF(C73="","",Plan!D14) -> Projekt WMS | E73: =IF(OR(C73="",Parametry!$G$6=""),"",DATE(Parametry!$G$6,5,1)) -> 46508 | F73: =IF(C73="","",Plan!O14) -> 0 | G73: =IF(C73="","",SUMIFS(ERP!$I$9:$I$1008,ERP!$L$9:$L$1008,C73,ERP!$N$9:$N$1008,1,ERP!$M$9:$M$1008,5)) -> 0 | H73: =IF(C73="","",IF(5<=Parametry!$G$7,0,SUMIFS(Umowy!$N$9:$N$108,Umowy!$D$9:$D$108,C73,Umowy!$O$9:$O$108,5))) -> 0 | I73: =IF(C73="","",IF(5<=Parametry!$G$7,0,IF(COUNTIFS(Prognoza!$C$9:$C$38,C73)=1,IF(ISBLANK(INDEX(Prognoza!$K$9:$V$38,MATCH($C73,Prognoza!$C$9:$C$38,0),5)),"",IF(ISNUMBER(INDEX(Prognoza!$K$9:$V$38,MATCH($C73,Prognoza!$C$9:$C$38,0),5)),INDEX(Prognoza!$K$9:$V$38,MATCH($C73,Prognoza!$C$9:$C$38,0),5),"")),""))) -> 0 | J73: =IF(C73="","",IF(Plan!F14="Run",IF(ISNUMBER(INDEX(Parametry!$H$18:$S$18,1,5)),INDEX(Parametry!$H$18:$S$18,1,5),""),IF(ISNUMBER(INDEX(Parametry!$H$24:$S$24,1,5)),INDEX(Parametry!$H$24:$S$24,1,5),""))) -> 0 | K73: =IF(C73="","",IF(5<=Parametry!$G$7,0,IF(AND(ISNUMBER(I73),ISNUMBER(J73),J73>=-1),I73*(1+J73),""))) -> 0 | L73: =IF(C73="","",IF(5<=Parametry!$G$7,G73,IF(ISNUMBER(K73),H73+K73,""))) -> 0 | M73: =IF(AND(C73<>"",ISNUMBER(L73)),L73-F73,"") -> 0 | N73: =IF(C73="",0,IF(ISNUMBER(L73),0,1)) -> 0
C74: =IF(Plan!C14="","",Plan!C14) -> IT06 | D74: =IF(C74="","",Plan!D14) -> Projekt WMS | E74: =IF(OR(C74="",Parametry!$G$6=""),"",DATE(Parametry!$G$6,6,1)) -> 46539 | F74: =IF(C74="","",Plan!P14) -> 0 | G74: =IF(C74="","",SUMIFS(ERP!$I$9:$I$1008,ERP!$L$9:$L$1008,C74,ERP!$N$9:$N$1008,1,ERP!$M$9:$M$1008,6)) -> 0 | H74: =IF(C74="","",IF(6<=Parametry!$G$7,0,SUMIFS(Umowy!$N$9:$N$108,Umowy!$D$9:$D$108,C74,Umowy!$O$9:$O$108,6))) -> 0 | I74: =IF(C74="","",IF(6<=Parametry!$G$7,0,IF(COUNTIFS(Prognoza!$C$9:$C$38,C74)=1,IF(ISBLANK(INDEX(Prognoza!$K$9:$V$38,MATCH($C74,Prognoza!$C$9:$C$38,0),6)),"",IF(ISNUMBER(INDEX(Prognoza!$K$9:$V$38,MATCH($C74,Prognoza!$C$9:$C$38,0),6)),INDEX(Prognoza!$K$9:$V$38,MATCH($C74,Prognoza!$C$9:$C$38,0),6),"")),""))) -> 0 | J74: =IF(C74="","",IF(Plan!F14="Run",IF(ISNUMBER(INDEX(Parametry!$H$18:$S$18,1,6)),INDEX(Parametry!$H$18:$S$18,1,6),""),IF(ISNUMBER(INDEX(Parametry!$H$24:$S$24,1,6)),INDEX(Parametry!$H$24:$S$24,1,6),""))) -> 0 | K74: =IF(C74="","",IF(6<=Parametry!$G$7,0,IF(AND(ISNUMBER(I74),ISNUMBER(J74),J74>=-1),I74*(1+J74),""))) -> 0 | L74: =IF(C74="","",IF(6<=Parametry!$G$7,G74,IF(ISNUMBER(K74),H74+K74,""))) -> 0 | M74: =IF(AND(C74<>"",ISNUMBER(L74)),L74-F74,"") -> 0 | N74: =IF(C74="",0,IF(ISNUMBER(L74),0,1)) -> 0
C75: =IF(Plan!C14="","",Plan!C14) -> IT06 | D75: =IF(C75="","",Plan!D14) -> Projekt WMS | E75: =IF(OR(C75="",Parametry!$G$6=""),"",DATE(Parametry!$G$6,7,1)) -> 46569 | F75: =IF(C75="","",Plan!Q14) -> 0 | G75: =IF(C75="","",SUMIFS(ERP!$I$9:$I$1008,ERP!$L$9:$L$1008,C75,ERP!$N$9:$N$1008,1,ERP!$M$9:$M$1008,7)) -> 0 | H75: =IF(C75="","",IF(7<=Parametry!$G$7,0,SUMIFS(Umowy!$N$9:$N$108,Umowy!$D$9:$D$108,C75,Umowy!$O$9:$O$108,7))) -> 0 | I75: =IF(C75="","",IF(7<=Parametry!$G$7,0,IF(COUNTIFS(Prognoza!$C$9:$C$38,C75)=1,IF(ISBLANK(INDEX(Prognoza!$K$9:$V$38,MATCH($C75,Prognoza!$C$9:$C$38,0),7)),"",IF(ISNUMBER(INDEX(Prognoza!$K$9:$V$38,MATCH($C75,Prognoza!$C$9:$C$38,0),7)),INDEX(Prognoza!$K$9:$V$38,MATCH($C75,Prognoza!$C$9:$C$38,0),7),"")),""))) -> 0 | J75: =IF(C75="","",IF(Plan!F14="Run",IF(ISNUMBER(INDEX(Parametry!$H$18:$S$18,1,7)),INDEX(Parametry!$H$18:$S$18,1,7),""),IF(ISNUMBER(INDEX(Parametry!$H$24:$S$24,1,7)),INDEX(Parametry!$H$24:$S$24,1,7),""))) -> 0 | K75: =IF(C75="","",IF(7<=Parametry!$G$7,0,IF(AND(ISNUMBER(I75),ISNUMBER(J75),J75>=-1),I75*(1+J75),""))) -> 0 | L75: =IF(C75="","",IF(7<=Parametry!$G$7,G75,IF(ISNUMBER(K75),H75+K75,""))) -> 0 | M75: =IF(AND(C75<>"",ISNUMBER(L75)),L75-F75,"") -> 0 | N75: =IF(C75="",0,IF(ISNUMBER(L75),0,1)) -> 0
C76: =IF(Plan!C14="","",Plan!C14) -> IT06 | D76: =IF(C76="","",Plan!D14) -> Projekt WMS | E76: =IF(OR(C76="",Parametry!$G$6=""),"",DATE(Parametry!$G$6,8,1)) -> 46600 | F76: =IF(C76="","",Plan!R14) -> 0 | G76: =IF(C76="","",SUMIFS(ERP!$I$9:$I$1008,ERP!$L$9:$L$1008,C76,ERP!$N$9:$N$1008,1,ERP!$M$9:$M$1008,8)) -> 0 | H76: =IF(C76="","",IF(8<=Parametry!$G$7,0,SUMIFS(Umowy!$N$9:$N$108,Umowy!$D$9:$D$108,C76,Umowy!$O$9:$O$108,8))) -> 0 | I76: =IF(C76="","",IF(8<=Parametry!$G$7,0,IF(COUNTIFS(Prognoza!$C$9:$C$38,C76)=1,IF(ISBLANK(INDEX(Prognoza!$K$9:$V$38,MATCH($C76,Prognoza!$C$9:$C$38,0),8)),"",IF(ISNUMBER(INDEX(Prognoza!$K$9:$V$38,MATCH($C76,Prognoza!$C$9:$C$38,0),8)),INDEX(Prognoza!$K$9:$V$38,MATCH($C76,Prognoza!$C$9:$C$38,0),8),"")),""))) -> 0 | J76: =IF(C76="","",IF(Plan!F14="Run",IF(ISNUMBER(INDEX(Parametry!$H$18:$S$18,1,8)),INDEX(Parametry!$H$18:$S$18,1,8),""),IF(ISNUMBER(INDEX(Parametry!$H$24:$S$24,1,8)),INDEX(Parametry!$H$24:$S$24,1,8),""))) -> 0 | K76: =IF(C76="","",IF(8<=Parametry!$G$7,0,IF(AND(ISNUMBER(I76),ISNUMBER(J76),J76>=-1),I76*(1+J76),""))) -> 0 | L76: =IF(C76="","",IF(8<=Parametry!$G$7,G76,IF(ISNUMBER(K76),H76+K76,""))) -> 0 | M76: =IF(AND(C76<>"",ISNUMBER(L76)),L76-F76,"") -> 0 | N76: =IF(C76="",0,IF(ISNUMBER(L76),0,1)) -> 0
C77: =IF(Plan!C14="","",Plan!C14) -> IT06 | D77: =IF(C77="","",Plan!D14) -> Projekt WMS | E77: =IF(OR(C77="",Parametry!$G$6=""),"",DATE(Parametry!$G$6,9,1)) -> 46631 | F77: =IF(C77="","",Plan!S14) -> 80000 | G77: =IF(C77="","",SUMIFS(ERP!$I$9:$I$1008,ERP!$L$9:$L$1008,C77,ERP!$N$9:$N$1008,1,ERP!$M$9:$M$1008,9)) -> 0 | H77: =IF(C77="","",IF(9<=Parametry!$G$7,0,SUMIFS(Umowy!$N$9:$N$108,Umowy!$D$9:$D$108,C77,Umowy!$O$9:$O$108,9))) -> 80000 | I77: =IF(C77="","",IF(9<=Parametry!$G$7,0,IF(COUNTIFS(Prognoza!$C$9:$C$38,C77)=1,IF(ISBLANK(INDEX(Prognoza!$K$9:$V$38,MATCH($C77,Prognoza!$C$9:$C$38,0),9)),"",IF(ISNUMBER(INDEX(Prognoza!$K$9:$V$38,MATCH($C77,Prognoza!$C$9:$C$38,0),9)),INDEX(Prognoza!$K$9:$V$38,MATCH($C77,Prognoza!$C$9:$C$38,0),9),"")),""))) -> 0 | J77: =IF(C77="","",IF(Plan!F14="Run",IF(ISNUMBER(INDEX(Parametry!$H$18:$S$18,1,9)),INDEX(Parametry!$H$18:$S$18,1,9),""),IF(ISNUMBER(INDEX(Parametry!$H$24:$S$24,1,9)),INDEX(Parametry!$H$24:$S$24,1,9),""))) -> 0 | K77: =IF(C77="","",IF(9<=Parametry!$G$7,0,IF(AND(ISNUMBER(I77),ISNUMBER(J77),J77>=-1),I77*(1+J77),""))) -> 0 | L77: =IF(C77="","",IF(9<=Parametry!$G$7,G77,IF(ISNUMBER(K77),H77+K77,""))) -> 80000 | M77: =IF(AND(C77<>"",ISNUMBER(L77)),L77-F77,"") -> 0 | N77: =IF(C77="",0,IF(ISNUMBER(L77),0,1)) -> 0
C78: =IF(Plan!C14="","",Plan!C14) -> IT06 | D78: =IF(C78="","",Plan!D14) -> Projekt WMS | E78: =IF(OR(C78="",Parametry!$G$6=""),"",DATE(Parametry!$G$6,10,1)) -> 46661 | F78: =IF(C78="","",Plan!T14) -> 0 | G78: =IF(C78="","",SUMIFS(ERP!$I$9:$I$1008,ERP!$L$9:$L$1008,C78,ERP!$N$9:$N$1008,1,ERP!$M$9:$M$1008,10)) -> 0 | H78: =IF(C78="","",IF(10<=Parametry!$G$7,0,SUMIFS(Umowy!$N$9:$N$108,Umowy!$D$9:$D$108,C78,Umowy!$O$9:$O$108,10))) -> 0 | I78: =IF(C78="","",IF(10<=Parametry!$G$7,0,IF(COUNTIFS(Prognoza!$C$9:$C$38,C78)=1,IF(ISBLANK(INDEX(Prognoza!$K$9:$V$38,MATCH($C78,Prognoza!$C$9:$C$38,0),10)),"",IF(ISNUMBER(INDEX(Prognoza!$K$9:$V$38,MATCH($C78,Prognoza!$C$9:$C$38,0),10)),INDEX(Prognoza!$K$9:$V$38,MATCH($C78,Prognoza!$C$9:$C$38,0),10),"")),""))) -> 0 | J78: =IF(C78="","",IF(Plan!F14="Run",IF(ISNUMBER(INDEX(Parametry!$H$18:$S$18,1,10)),INDEX(Parametry!$H$18:$S$18,1,10),""),IF(ISNUMBER(INDEX(Parametry!$H$24:$S$24,1,10)),INDEX(Parametry!$H$24:$S$24,1,10),""))) -> 0 | K78: =IF(C78="","",IF(10<=Parametry!$G$7,0,IF(AND(ISNUMBER(I78),ISNUMBER(J78),J78>=-1),I78*(1+J78),""))) -> 0 | L78: =IF(C78="","",IF(10<=Parametry!$G$7,G78,IF(ISNUMBER(K78),H78+K78,""))) -> 0 | M78: =IF(AND(C78<>"",ISNUMBER(L78)),L78-F78,"") -> 0 | N78: =IF(C78="",0,IF(ISNUMBER(L78),0,1)) -> 0
C79: =IF(Plan!C14="","",Plan!C14) -> IT06 | D79: =IF(C79="","",Plan!D14) -> Projekt WMS | E79: =IF(OR(C79="",Parametry!$G$6=""),"",DATE(Parametry!$G$6,11,1)) -> 46692 | F79: =IF(C79="","",Plan!U14) -> 0 | G79: =IF(C79="","",SUMIFS(ERP!$I$9:$I$1008,ERP!$L$9:$L$1008,C79,ERP!$N$9:$N$1008,1,ERP!$M$9:$M$1008,11)) -> 0 | H79: =IF(C79="","",IF(11<=Parametry!$G$7,0,SUMIFS(Umowy!$N$9:$N$108,Umowy!$D$9:$D$108,C79,Umowy!$O$9:$O$108,11))) -> 0 | I79: =IF(C79="","",IF(11<=Parametry!$G$7,0,IF(COUNTIFS(Prognoza!$C$9:$C$38,C79)=1,IF(ISBLANK(INDEX(Prognoza!$K$9:$V$38,MATCH($C79,Prognoza!$C$9:$C$38,0),11)),"",IF(ISNUMBER(INDEX(Prognoza!$K$9:$V$38,MATCH($C79,Prognoza!$C$9:$C$38,0),11)),INDEX(Prognoza!$K$9:$V$38,MATCH($C79,Prognoza!$C$9:$C$38,0),11),"")),""))) -> 0 | J79: =IF(C79="","",IF(Plan!F14="Run",IF(ISNUMBER(INDEX(Parametry!$H$18:$S$18,1,11)),INDEX(Parametry!$H$18:$S$18,1,11),""),IF(ISNUMBER(INDEX(Parametry!$H$24:$S$24,1,11)),INDEX(Parametry!$H$24:$S$24,1,11),""))) -> 0 | K79: =IF(C79="","",IF(11<=Parametry!$G$7,0,IF(AND(ISNUMBER(I79),ISNUMBER(J79),J79>=-1),I79*(1+J79),""))) -> 0 | L79: =IF(C79="","",IF(11<=Parametry!$G$7,G79,IF(ISNUMBER(K79),H79+K79,""))) -> 0 | M79: =IF(AND(C79<>"",ISNUMBER(L79)),L79-F79,"") -> 0 | N79: =IF(C79="",0,IF(ISNUMBER(L79),0,1)) -> 0
C80: =IF(Plan!C14="","",Plan!C14) -> IT06 | D80: =IF(C80="","",Plan!D14) -> Projekt WMS | E80: =IF(OR(C80="",Parametry!$G$6=""),"",DATE(Parametry!$G$6,12,1)) -> 46722 | F80: =IF(C80="","",Plan!V14) -> 0 | G80: =IF(C80="","",SUMIFS(ERP!$I$9:$I$1008,ERP!$L$9:$L$1008,C80,ERP!$N$9:$N$1008,1,ERP!$M$9:$M$1008,12)) -> 0 | H80: =IF(C80="","",IF(12<=Parametry!$G$7,0,SUMIFS(Umowy!$N$9:$N$108,Umowy!$D$9:$D$108,C80,Umowy!$O$9:$O$108,12))) -> 0 | I80: =IF(C80="","",IF(12<=Parametry!$G$7,0,IF(COUNTIFS(Prognoza!$C$9:$C$38,C80)=1,IF(ISBLANK(INDEX(Prognoza!$K$9:$V$38,MATCH($C80,Prognoza!$C$9:$C$38,0),12)),"",IF(ISNUMBER(INDEX(Prognoza!$K$9:$V$38,MATCH($C80,Prognoza!$C$9:$C$38,0),12)),INDEX(Prognoza!$K$9:$V$38,MATCH($C80,Prognoza!$C$9:$C$38,0),12),"")),""))) -> 0 | J80: =IF(C80="","",IF(Plan!F14="Run",IF(ISNUMBER(INDEX(Parametry!$H$18:$S$18,1,12)),INDEX(Parametry!$H$18:$S$18,1,12),""),IF(ISNUMBER(INDEX(Parametry!$H$24:$S$24,1,12)),INDEX(Parametry!$H$24:$S$24,1,12),""))) -> 0 | K80: =IF(C80="","",IF(12<=Parametry!$G$7,0,IF(AND(ISNUMBER(I80),ISNUMBER(J80),J80>=-1),I80*(1+J80),""))) -> 0 | L80: =IF(C80="","",IF(12<=Parametry!$G$7,G80,IF(ISNUMBER(K80),H80+K80,""))) -> 0 | M80: =IF(AND(C80<>"",ISNUMBER(L80)),L80-F80,"") -> 0 | N80: =IF(C80="",0,IF(ISNUMBER(L80),0,1)) -> 0
C81: =IF(Plan!C15="","",Plan!C15) -> IT07 | D81: =IF(C81="","",Plan!D15) -> Projekt MES | E81: =IF(OR(C81="",Parametry!$G$6=""),"",DATE(Parametry!$G$6,1,1)) -> 46388 | F81: =IF(C81="","",Plan!K15) -> 0 | G81: =IF(C81="","",SUMIFS(ERP!$I$9:$I$1008,ERP!$L$9:$L$1008,C81,ERP!$N$9:$N$1008,1,ERP!$M$9:$M$1008,1)) -> 0 | H81: =IF(C81="","",IF(1<=Parametry!$G$7,0,SUMIFS(Umowy!$N$9:$N$108,Umowy!$D$9:$D$108,C81,Umowy!$O$9:$O$108,1))) -> 0 | I81: =IF(C81="","",IF(1<=Parametry!$G$7,0,IF(COUNTIFS(Prognoza!$C$9:$C$38,C81)=1,IF(ISBLANK(INDEX(Prognoza!$K$9:$V$38,MATCH($C81,Prognoza!$C$9:$C$38,0),1)),"",IF(ISNUMBER(INDEX(Prognoza!$K$9:$V$38,MATCH($C81,Prognoza!$C$9:$C$38,0),1)),INDEX(Prognoza!$K$9:$V$38,MATCH($C81,Prognoza!$C$9:$C$38,0),1),"")),""))) -> 0 | J81: =IF(C81="","",IF(Plan!F15="Run",IF(ISNUMBER(INDEX(Parametry!$H$18:$S$18,1,1)),INDEX(Parametry!$H$18:$S$18,1,1),""),IF(ISNUMBER(INDEX(Parametry!$H$24:$S$24,1,1)),INDEX(Parametry!$H$24:$S$24,1,1),""))) -> 0 | K81: =IF(C81="","",IF(1<=Parametry!$G$7,0,IF(AND(ISNUMBER(I81),ISNUMBER(J81),J81>=-1),I81*(1+J81),""))) -> 0 | L81: =IF(C81="","",IF(1<=Parametry!$G$7,G81,IF(ISNUMBER(K81),H81+K81,""))) -> 0 | M81: =IF(AND(C81<>"",ISNUMBER(L81)),L81-F81,"") -> 0 | N81: =IF(C81="",0,IF(ISNUMBER(L81),0,1)) -> 0
C82: =IF(Plan!C15="","",Plan!C15) -> IT07 | D82: =IF(C82="","",Plan!D15) -> Projekt MES | E82: =IF(OR(C82="",Parametry!$G$6=""),"",DATE(Parametry!$G$6,2,1)) -> 46419 | F82: =IF(C82="","",Plan!L15) -> 0 | G82: =IF(C82="","",SUMIFS(ERP!$I$9:$I$1008,ERP!$L$9:$L$1008,C82,ERP!$N$9:$N$1008,1,ERP!$M$9:$M$1008,2)) -> 0 | H82: =IF(C82="","",IF(2<=Parametry!$G$7,0,SUMIFS(Umowy!$N$9:$N$108,Umowy!$D$9:$D$108,C82,Umowy!$O$9:$O$108,2))) -> 0 | I82: =IF(C82="","",IF(2<=Parametry!$G$7,0,IF(COUNTIFS(Prognoza!$C$9:$C$38,C82)=1,IF(ISBLANK(INDEX(Prognoza!$K$9:$V$38,MATCH($C82,Prognoza!$C$9:$C$38,0),2)),"",IF(ISNUMBER(INDEX(Prognoza!$K$9:$V$38,MATCH($C82,Prognoza!$C$9:$C$38,0),2)),INDEX(Prognoza!$K$9:$V$38,MATCH($C82,Prognoza!$C$9:$C$38,0),2),"")),""))) -> 0 | J82: =IF(C82="","",IF(Plan!F15="Run",IF(ISNUMBER(INDEX(Parametry!$H$18:$S$18,1,2)),INDEX(Parametry!$H$18:$S$18,1,2),""),IF(ISNUMBER(INDEX(Parametry!$H$24:$S$24,1,2)),INDEX(Parametry!$H$24:$S$24,1,2),""))) -> 0 | K82: =IF(C82="","",IF(2<=Parametry!$G$7,0,IF(AND(ISNUMBER(I82),ISNUMBER(J82),J82>=-1),I82*(1+J82),""))) -> 0 | L82: =IF(C82="","",IF(2<=Parametry!$G$7,G82,IF(ISNUMBER(K82),H82+K82,""))) -> 0 | M82: =IF(AND(C82<>"",ISNUMBER(L82)),L82-F82,"") -> 0 | N82: =IF(C82="",0,IF(ISNUMBER(L82),0,1)) -> 0
C83: =IF(Plan!C15="","",Plan!C15) -> IT07 | D83: =IF(C83="","",Plan!D15) -> Projekt MES | E83: =IF(OR(C83="",Parametry!$G$6=""),"",DATE(Parametry!$G$6,3,1)) -> 46447 | F83: =IF(C83="","",Plan!M15) -> 0 | G83: =IF(C83="","",SUMIFS(ERP!$I$9:$I$1008,ERP!$L$9:$L$1008,C83,ERP!$N$9:$N$1008,1,ERP!$M$9:$M$1008,3)) -> 0 | H83: =IF(C83="","",IF(3<=Parametry!$G$7,0,SUMIFS(Umowy!$N$9:$N$108,Umowy!$D$9:$D$108,C83,Umowy!$O$9:$O$108,3))) -> 0 | I83: =IF(C83="","",IF(3<=Parametry!$G$7,0,IF(COUNTIFS(Prognoza!$C$9:$C$38,C83)=1,IF(ISBLANK(INDEX(Prognoza!$K$9:$V$38,MATCH($C83,Prognoza!$C$9:$C$38,0),3)),"",IF(ISNUMBER(INDEX(Prognoza!$K$9:$V$38,MATCH($C83,Prognoza!$C$9:$C$38,0),3)),INDEX(Prognoza!$K$9:$V$38,MATCH($C83,Prognoza!$C$9:$C$38,0),3),"")),""))) -> 0 | J83: =IF(C83="","",IF(Plan!F15="Run",IF(ISNUMBER(INDEX(Parametry!$H$18:$S$18,1,3)),INDEX(Parametry!$H$18:$S$18,1,3),""),IF(ISNUMBER(INDEX(Parametry!$H$24:$S$24,1,3)),INDEX(Parametry!$H$24:$S$24,1,3),""))) -> 0 | K83: =IF(C83="","",IF(3<=Parametry!$G$7,0,IF(AND(ISNUMBER(I83),ISNUMBER(J83),J83>=-1),I83*(1+J83),""))) -> 0 | L83: =IF(C83="","",IF(3<=Parametry!$G$7,G83,IF(ISNUMBER(K83),H83+K83,""))) -> 0 | M83: =IF(AND(C83<>"",ISNUMBER(L83)),L83-F83,"") -> 0 | N83: =IF(C83="",0,IF(ISNUMBER(L83),0,1)) -> 0
C84: =IF(Plan!C15="","",Plan!C15) -> IT07 | D84: =IF(C84="","",Plan!D15) -> Projekt MES | E84: =IF(OR(C84="",Parametry!$G$6=""),"",DATE(Parametry!$G$6,4,1)) -> 46478 | F84: =IF(C84="","",Plan!N15) -> 0 | G84: =IF(C84="","",SUMIFS(ERP!$I$9:$I$1008,ERP!$L$9:$L$1008,C84,ERP!$N$9:$N$1008,1,ERP!$M$9:$M$1008,4)) -> 0 | H84: =IF(C84="","",IF(4<=Parametry!$G$7,0,SUMIFS(Umowy!$N$9:$N$108,Umowy!$D$9:$D$108,C84,Umowy!$O$9:$O$108,4))) -> 0 | I84: =IF(C84="","",IF(4<=Parametry!$G$7,0,IF(COUNTIFS(Prognoza!$C$9:$C$38,C84)=1,IF(ISBLANK(INDEX(Prognoza!$K$9:$V$38,MATCH($C84,Prognoza!$C$9:$C$38,0),4)),"",IF(ISNUMBER(INDEX(Prognoza!$K$9:$V$38,MATCH($C84,Prognoza!$C$9:$C$38,0),4)),INDEX(Prognoza!$K$9:$V$38,MATCH($C84,Prognoza!$C$9:$C$38,0),4),"")),""))) -> 0 | J84: =IF(C84="","",IF(Plan!F15="Run",IF(ISNUMBER(INDEX(Parametry!$H$18:$S$18,1,4)),INDEX(Parametry!$H$18:$S$18,1,4),""),IF(ISNUMBER(INDEX(Parametry!$H$24:$S$24,1,4)),INDEX(Parametry!$H$24:$S$24,1,4),""))) -> 0 | K84: =IF(C84="","",IF(4<=Parametry!$G$7,0,IF(AND(ISNUMBER(I84),ISNUMBER(J84),J84>=-1),I84*(1+J84),""))) -> 0 | L84: =IF(C84="","",IF(4<=Parametry!$G$7,G84,IF(ISNUMBER(K84),H84+K84,""))) -> 0 | M84: =IF(AND(C84<>"",ISNUMBER(L84)),L84-F84,"") -> 0 | N84: =IF(C84="",0,IF(ISNUMBER(L84),0,1)) -> 0
C85: =IF(Plan!C15="","",Plan!C15) -> IT07 | D85: =IF(C85="","",Plan!D15) -> Projekt MES | E85: =IF(OR(C85="",Parametry!$G$6=""),"",DATE(Parametry!$G$6,5,1)) -> 46508 | F85: =IF(C85="","",Plan!O15) -> 0 | G85: =IF(C85="","",SUMIFS(ERP!$I$9:$I$1008,ERP!$L$9:$L$1008,C85,ERP!$N$9:$N$1008,1,ERP!$M$9:$M$1008,5)) -> 0 | H85: =IF(C85="","",IF(5<=Parametry!$G$7,0,SUMIFS(Umowy!$N$9:$N$108,Umowy!$D$9:$D$108,C85,Umowy!$O$9:$O$108,5))) -> 0 | I85: =IF(C85="","",IF(5<=Parametry!$G$7,0,IF(COUNTIFS(Prognoza!$C$9:$C$38,C85)=1,IF(ISBLANK(INDEX(Prognoza!$K$9:$V$38,MATCH($C85,Prognoza!$C$9:$C$38,0),5)),"",IF(ISNUMBER(INDEX(Prognoza!$K$9:$V$38,MATCH($C85,Prognoza!$C$9:$C$38,0),5)),INDEX(Prognoza!$K$9:$V$38,MATCH($C85,Prognoza!$C$9:$C$38,0),5),"")),""))) -> 0 | J85: =IF(C85="","",IF(Plan!F15="Run",IF(ISNUMBER(INDEX(Parametry!$H$18:$S$18,1,5)),INDEX(Parametry!$H$18:$S$18,1,5),""),IF(ISNUMBER(INDEX(Parametry!$H$24:$S$24,1,5)),INDEX(Parametry!$H$24:$S$24,1,5),""))) -> 0 | K85: =IF(C85="","",IF(5<=Parametry!$G$7,0,IF(AND(ISNUMBER(I85),ISNUMBER(J85),J85>=-1),I85*(1+J85),""))) -> 0 | L85: =IF(C85="","",IF(5<=Parametry!$G$7,G85,IF(ISNUMBER(K85),H85+K85,""))) -> 0 | M85: =IF(AND(C85<>"",ISNUMBER(L85)),L85-F85,"") -> 0 | N85: =IF(C85="",0,IF(ISNUMBER(L85),0,1)) -> 0
C86: =IF(Plan!C15="","",Plan!C15) -> IT07 | D86: =IF(C86="","",Plan!D15) -> Projekt MES | E86: =IF(OR(C86="",Parametry!$G$6=""),"",DATE(Parametry!$G$6,6,1)) -> 46539 | F86: =IF(C86="","",Plan!P15) -> 0 | G86: =IF(C86="","",SUMIFS(ERP!$I$9:$I$1008,ERP!$L$9:$L$1008,C86,ERP!$N$9:$N$1008,1,ERP!$M$9:$M$1008,6)) -> 0 | H86: =IF(C86="","",IF(6<=Parametry!$G$7,0,SUMIFS(Umowy!$N$9:$N$108,Umowy!$D$9:$D$108,C86,Umowy!$O$9:$O$108,6))) -> 0 | I86: =IF(C86="","",IF(6<=Parametry!$G$7,0,IF(COUNTIFS(Prognoza!$C$9:$C$38,C86)=1,IF(ISBLANK(INDEX(Prognoza!$K$9:$V$38,MATCH($C86,Prognoza!$C$9:$C$38,0),6)),"",IF(ISNUMBER(INDEX(Prognoza!$K$9:$V$38,MATCH($C86,Prognoza!$C$9:$C$38,0),6)),INDEX(Prognoza!$K$9:$V$38,MATCH($C86,Prognoza!$C$9:$C$38,0),6),"")),""))) -> 0 | J86: =IF(C86="","",IF(Plan!F15="Run",IF(ISNUMBER(INDEX(Parametry!$H$18:$S$18,1,6)),INDEX(Parametry!$H$18:$S$18,1,6),""),IF(ISNUMBER(INDEX(Parametry!$H$24:$S$24,1,6)),INDEX(Parametry!$H$24:$S$24,1,6),""))) -> 0 | K86: =IF(C86="","",IF(6<=Parametry!$G$7,0,IF(AND(ISNUMBER(I86),ISNUMBER(J86),J86>=-1),I86*(1+J86),""))) -> 0 | L86: =IF(C86="","",IF(6<=Parametry!$G$7,G86,IF(ISNUMBER(K86),H86+K86,""))) -> 0 | M86: =IF(AND(C86<>"",ISNUMBER(L86)),L86-F86,"") -> 0 | N86: =IF(C86="",0,IF(ISNUMBER(L86),0,1)) -> 0
C87: =IF(Plan!C15="","",Plan!C15) -> IT07 | D87: =IF(C87="","",Plan!D15) -> Projekt MES | E87: =IF(OR(C87="",Parametry!$G$6=""),"",DATE(Parametry!$G$6,7,1)) -> 46569 | F87: =IF(C87="","",Plan!Q15) -> 0 | G87: =IF(C87="","",SUMIFS(ERP!$I$9:$I$1008,ERP!$L$9:$L$1008,C87,ERP!$N$9:$N$1008,1,ERP!$M$9:$M$1008,7)) -> 0 | H87: =IF(C87="","",IF(7<=Parametry!$G$7,0,SUMIFS(Umowy!$N$9:$N$108,Umowy!$D$9:$D$108,C87,Umowy!$O$9:$O$108,7))) -> 0 | I87: =IF(C87="","",IF(7<=Parametry!$G$7,0,IF(COUNTIFS(Prognoza!$C$9:$C$38,C87)=1,IF(ISBLANK(INDEX(Prognoza!$K$9:$V$38,MATCH($C87,Prognoza!$C$9:$C$38,0),7)),"",IF(ISNUMBER(INDEX(Prognoza!$K$9:$V$38,MATCH($C87,Prognoza!$C$9:$C$38,0),7)),INDEX(Prognoza!$K$9:$V$38,MATCH($C87,Prognoza!$C$9:$C$38,0),7),"")),""))) -> 0 | J87: =IF(C87="","",IF(Plan!F15="Run",IF(ISNUMBER(INDEX(Parametry!$H$18:$S$18,1,7)),INDEX(Parametry!$H$18:$S$18,1,7),""),IF(ISNUMBER(INDEX(Parametry!$H$24:$S$24,1,7)),INDEX(Parametry!$H$24:$S$24,1,7),""))) -> 0 | K87: =IF(C87="","",IF(7<=Parametry!$G$7,0,IF(AND(ISNUMBER(I87),ISNUMBER(J87),J87>=-1),I87*(1+J87),""))) -> 0 | L87: =IF(C87="","",IF(7<=Parametry!$G$7,G87,IF(ISNUMBER(K87),H87+K87,""))) -> 0 | M87: =IF(AND(C87<>"",ISNUMBER(L87)),L87-F87,"") -> 0 | N87: =IF(C87="",0,IF(ISNUMBER(L87),0,1)) -> 0
C88: =IF(Plan!C15="","",Plan!C15) -> IT07 | D88: =IF(C88="","",Plan!D15) -> Projekt MES | E88: =IF(OR(C88="",Parametry!$G$6=""),"",DATE(Parametry!$G$6,8,1)) -> 46600 | F88: =IF(C88="","",Plan!R15) -> 0 | G88: =IF(C88="","",SUMIFS(ERP!$I$9:$I$1008,ERP!$L$9:$L$1008,C88,ERP!$N$9:$N$1008,1,ERP!$M$9:$M$1008,8)) -> 0 | H88: =IF(C88="","",IF(8<=Parametry!$G$7,0,SUMIFS(Umowy!$N$9:$N$108,Umowy!$D$9:$D$108,C88,Umowy!$O$9:$O$108,8))) -> 0 | I88: =IF(C88="","",IF(8<=Parametry!$G$7,0,IF(COUNTIFS(Prognoza!$C$9:$C$38,C88)=1,IF(ISBLANK(INDEX(Prognoza!$K$9:$V$38,MATCH($C88,Prognoza!$C$9:$C$38,0),8)),"",IF(ISNUMBER(INDEX(Prognoza!$K$9:$V$38,MATCH($C88,Prognoza!$C$9:$C$38,0),8)),INDEX(Prognoza!$K$9:$V$38,MATCH($C88,Prognoza!$C$9:$C$38,0),8),"")),""))) -> 0 | J88: =IF(C88="","",IF(Plan!F15="Run",IF(ISNUMBER(INDEX(Parametry!$H$18:$S$18,1,8)),INDEX(Parametry!$H$18:$S$18,1,8),""),IF(ISNUMBER(INDEX(Parametry!$H$24:$S$24,1,8)),INDEX(Parametry!$H$24:$S$24,1,8),""))) -> 0 | K88: =IF(C88="","",IF(8<=Parametry!$G$7,0,IF(AND(ISNUMBER(I88),ISNUMBER(J88),J88>=-1),I88*(1+J88),""))) -> 0 | L88: =IF(C88="","",IF(8<=Parametry!$G$7,G88,IF(ISNUMBER(K88),H88+K88,""))) -> 0 | M88: =IF(AND(C88<>"",ISNUMBER(L88)),L88-F88,"") -> 0 | N88: =IF(C88="",0,IF(ISNUMBER(L88),0,1)) -> 0
C89: =IF(Plan!C15="","",Plan!C15) -> IT07 | D89: =IF(C89="","",Plan!D15) -> Projekt MES | E89: =IF(OR(C89="",Parametry!$G$6=""),"",DATE(Parametry!$G$6,9,1)) -> 46631 | F89: =IF(C89="","",Plan!S15) -> 0 | G89: =IF(C89="","",SUMIFS(ERP!$I$9:$I$1008,ERP!$L$9:$L$1008,C89,ERP!$N$9:$N$1008,1,ERP!$M$9:$M$1008,9)) -> 0 | H89: =IF(C89="","",IF(9<=Parametry!$G$7,0,SUMIFS(Umowy!$N$9:$N$108,Umowy!$D$9:$D$108,C89,Umowy!$O$9:$O$108,9))) -> 0 | I89: =IF(C89="","",IF(9<=Parametry!$G$7,0,IF(COUNTIFS(Prognoza!$C$9:$C$38,C89)=1,IF(ISBLANK(INDEX(Prognoza!$K$9:$V$38,MATCH($C89,Prognoza!$C$9:$C$38,0),9)),"",IF(ISNUMBER(INDEX(Prognoza!$K$9:$V$38,MATCH($C89,Prognoza!$C$9:$C$38,0),9)),INDEX(Prognoza!$K$9:$V$38,MATCH($C89,Prognoza!$C$9:$C$38,0),9),"")),""))) -> 0 | J89: =IF(C89="","",IF(Plan!F15="Run",IF(ISNUMBER(INDEX(Parametry!$H$18:$S$18,1,9)),INDEX(Parametry!$H$18:$S$18,1,9),""),IF(ISNUMBER(INDEX(Parametry!$H$24:$S$24,1,9)),INDEX(Parametry!$H$24:$S$24,1,9),""))) -> 0 | K89: =IF(C89="","",IF(9<=Parametry!$G$7,0,IF(AND(ISNUMBER(I89),ISNUMBER(J89),J89>=-1),I89*(1+J89),""))) -> 0 | L89: =IF(C89="","",IF(9<=Parametry!$G$7,G89,IF(ISNUMBER(K89),H89+K89,""))) -> 0 | M89: =IF(AND(C89<>"",ISNUMBER(L89)),L89-F89,"") -> 0 | N89: =IF(C89="",0,IF(ISNUMBER(L89),0,1)) -> 0
C90: =IF(Plan!C15="","",Plan!C15) -> IT07 | D90: =IF(C90="","",Plan!D15) -> Projekt MES | E90: =IF(OR(C90="",Parametry!$G$6=""),"",DATE(Parametry!$G$6,10,1)) -> 46661 | F90: =IF(C90="","",Plan!T15) -> 0 | G90: =IF(C90="","",SUMIFS(ERP!$I$9:$I$1008,ERP!$L$9:$L$1008,C90,ERP!$N$9:$N$1008,1,ERP!$M$9:$M$1008,10)) -> 0 | H90: =IF(C90="","",IF(10<=Parametry!$G$7,0,SUMIFS(Umowy!$N$9:$N$108,Umowy!$D$9:$D$108,C90,Umowy!$O$9:$O$108,10))) -> 0 | I90: =IF(C90="","",IF(10<=Parametry!$G$7,0,IF(COUNTIFS(Prognoza!$C$9:$C$38,C90)=1,IF(ISBLANK(INDEX(Prognoza!$K$9:$V$38,MATCH($C90,Prognoza!$C$9:$C$38,0),10)),"",IF(ISNUMBER(INDEX(Prognoza!$K$9:$V$38,MATCH($C90,Prognoza!$C$9:$C$38,0),10)),INDEX(Prognoza!$K$9:$V$38,MATCH($C90,Prognoza!$C$9:$C$38,0),10),"")),""))) -> 0 | J90: =IF(C90="","",IF(Plan!F15="Run",IF(ISNUMBER(INDEX(Parametry!$H$18:$S$18,1,10)),INDEX(Parametry!$H$18:$S$18,1,10),""),IF(ISNUMBER(INDEX(Parametry!$H$24:$S$24,1,10)),INDEX(Parametry!$H$24:$S$24,1,10),""))) -> 0 | K90: =IF(C90="","",IF(10<=Parametry!$G$7,0,IF(AND(ISNUMBER(I90),ISNUMBER(J90),J90>=-1),I90*(1+J90),""))) -> 0 | L90: =IF(C90="","",IF(10<=Parametry!$G$7,G90,IF(ISNUMBER(K90),H90+K90,""))) -> 0 | M90: =IF(AND(C90<>"",ISNUMBER(L90)),L90-F90,"") -> 0 | N90: =IF(C90="",0,IF(ISNUMBER(L90),0,1)) -> 0
C91: =IF(Plan!C15="","",Plan!C15) -> IT07 | D91: =IF(C91="","",Plan!D15) -> Projekt MES | E91: =IF(OR(C91="",Parametry!$G$6=""),"",DATE(Parametry!$G$6,11,1)) -> 46692 | F91: =IF(C91="","",Plan!U15) -> 90000 | G91: =IF(C91="","",SUMIFS(ERP!$I$9:$I$1008,ERP!$L$9:$L$1008,C91,ERP!$N$9:$N$1008,1,ERP!$M$9:$M$1008,11)) -> 0 | H91: =IF(C91="","",IF(11<=Parametry!$G$7,0,SUMIFS(Umowy!$N$9:$N$108,Umowy!$D$9:$D$108,C91,Umowy!$O$9:$O$108,11))) -> 0 | I91: =IF(C91="","",IF(11<=Parametry!$G$7,0,IF(COUNTIFS(Prognoza!$C$9:$C$38,C91)=1,IF(ISBLANK(INDEX(Prognoza!$K$9:$V$38,MATCH($C91,Prognoza!$C$9:$C$38,0),11)),"",IF(ISNUMBER(INDEX(Prognoza!$K$9:$V$38,MATCH($C91,Prognoza!$C$9:$C$38,0),11)),INDEX(Prognoza!$K$9:$V$38,MATCH($C91,Prognoza!$C$9:$C$38,0),11),"")),""))) -> 0 | J91: =IF(C91="","",IF(Plan!F15="Run",IF(ISNUMBER(INDEX(Parametry!$H$18:$S$18,1,11)),INDEX(Parametry!$H$18:$S$18,1,11),""),IF(ISNUMBER(INDEX(Parametry!$H$24:$S$24,1,11)),INDEX(Parametry!$H$24:$S$24,1,11),""))) -> 0 | K91: =IF(C91="","",IF(11<=Parametry!$G$7,0,IF(AND(ISNUMBER(I91),ISNUMBER(J91),J91>=-1),I91*(1+J91),""))) -> 0 | L91: =IF(C91="","",IF(11<=Parametry!$G$7,G91,IF(ISNUMBER(K91),H91+K91,""))) -> 0 | M91: =IF(AND(C91<>"",ISNUMBER(L91)),L91-F91,"") -> -90000 | N91: =IF(C91="",0,IF(ISNUMBER(L91),0,1)) -> 0
C92: =IF(Plan!C15="","",Plan!C15) -> IT07 | D92: =IF(C92="","",Plan!D15) -> Projekt MES | E92: =IF(OR(C92="",Parametry!$G$6=""),"",DATE(Parametry!$G$6,12,1)) -> 46722 | F92: =IF(C92="","",Plan!V15) -> 0 | G92: =IF(C92="","",SUMIFS(ERP!$I$9:$I$1008,ERP!$L$9:$L$1008,C92,ERP!$N$9:$N$1008,1,ERP!$M$9:$M$1008,12)) -> 0 | H92: =IF(C92="","",IF(12<=Parametry!$G$7,0,SUMIFS(Umowy!$N$9:$N$108,Umowy!$D$9:$D$108,C92,Umowy!$O$9:$O$108,12))) -> 0 | I92: =IF(C92="","",IF(12<=Parametry!$G$7,0,IF(COUNTIFS(Prognoza!$C$9:$C$38,C92)=1,IF(ISBLANK(INDEX(Prognoza!$K$9:$V$38,MATCH($C92,Prognoza!$C$9:$C$38,0),12)),"",IF(ISNUMBER(INDEX(Prognoza!$K$9:$V$38,MATCH($C92,Prognoza!$C$9:$C$38,0),12)),INDEX(Prognoza!$K$9:$V$38,MATCH($C92,Prognoza!$C$9:$C$38,0),12),"")),""))) -> 0 | J92: =IF(C92="","",IF(Plan!F15="Run",IF(ISNUMBER(INDEX(Parametry!$H$18:$S$18,1,12)),INDEX(Parametry!$H$18:$S$18,1,12),""),IF(ISNUMBER(INDEX(Parametry!$H$24:$S$24,1,12)),INDEX(Parametry!$H$24:$S$24,1,12),""))) -> 0 | K92: =IF(C92="","",IF(12<=Parametry!$G$7,0,IF(AND(ISNUMBER(I92),ISNUMBER(J92),J92>=-1),I92*(1+J92),""))) -> 0 | L92: =IF(C92="","",IF(12<=Parametry!$G$7,G92,IF(ISNUMBER(K92),H92+K92,""))) -> 0 | M92: =IF(AND(C92<>"",ISNUMBER(L92)),L92-F92,"") -> 0 | N92: =IF(C92="",0,IF(ISNUMBER(L92),0,1)) -> 0
C93: =IF(Plan!C16="","",Plan!C16) -> IT08 | D93: =IF(C93="","",Plan!D16) -> Usługi chmurowe | E93: =IF(OR(C93="",Parametry!$G$6=""),"",DATE(Parametry!$G$6,1,1)) -> 46388 | F93: =IF(C93="","",Plan!K16) -> 6000 | G93: =IF(C93="","",SUMIFS(ERP!$I$9:$I$1008,ERP!$L$9:$L$1008,C93,ERP!$N$9:$N$1008,1,ERP!$M$9:$M$1008,1)) -> 6000 | H93: =IF(C93="","",IF(1<=Parametry!$G$7,0,SUMIFS(Umowy!$N$9:$N$108,Umowy!$D$9:$D$108,C93,Umowy!$O$9:$O$108,1))) -> 0 | I93: =IF(C93="","",IF(1<=Parametry!$G$7,0,IF(COUNTIFS(Prognoza!$C$9:$C$38,C93)=1,IF(ISBLANK(INDEX(Prognoza!$K$9:$V$38,MATCH($C93,Prognoza!$C$9:$C$38,0),1)),"",IF(ISNUMBER(INDEX(Prognoza!$K$9:$V$38,MATCH($C93,Prognoza!$C$9:$C$38,0),1)),INDEX(Prognoza!$K$9:$V$38,MATCH($C93,Prognoza!$C$9:$C$38,0),1),"")),""))) -> 0 | J93: =IF(C93="","",IF(Plan!F16="Run",IF(ISNUMBER(INDEX(Parametry!$H$18:$S$18,1,1)),INDEX(Parametry!$H$18:$S$18,1,1),""),IF(ISNUMBER(INDEX(Parametry!$H$24:$S$24,1,1)),INDEX(Parametry!$H$24:$S$24,1,1),""))) -> 0 | K93: =IF(C93="","",IF(1<=Parametry!$G$7,0,IF(AND(ISNUMBER(I93),ISNUMBER(J93),J93>=-1),I93*(1+J93),""))) -> 0 | L93: =IF(C93="","",IF(1<=Parametry!$G$7,G93,IF(ISNUMBER(K93),H93+K93,""))) -> 6000 | M93: =IF(AND(C93<>"",ISNUMBER(L93)),L93-F93,"") -> 0 | N93: =IF(C93="",0,IF(ISNUMBER(L93),0,1)) -> 0
C94: =IF(Plan!C16="","",Plan!C16) -> IT08 | D94: =IF(C94="","",Plan!D16) -> Usługi chmurowe | E94: =IF(OR(C94="",Parametry!$G$6=""),"",DATE(Parametry!$G$6,2,1)) -> 46419 | F94: =IF(C94="","",Plan!L16) -> 6000 | G94: =IF(C94="","",SUMIFS(ERP!$I$9:$I$1008,ERP!$L$9:$L$1008,C94,ERP!$N$9:$N$1008,1,ERP!$M$9:$M$1008,2)) -> 6000 | H94: =IF(C94="","",IF(2<=Parametry!$G$7,0,SUMIFS(Umowy!$N$9:$N$108,Umowy!$D$9:$D$108,C94,Umowy!$O$9:$O$108,2))) -> 0 | I94: =IF(C94="","",IF(2<=Parametry!$G$7,0,IF(COUNTIFS(Prognoza!$C$9:$C$38,C94)=1,IF(ISBLANK(INDEX(Prognoza!$K$9:$V$38,MATCH($C94,Prognoza!$C$9:$C$38,0),2)),"",IF(ISNUMBER(INDEX(Prognoza!$K$9:$V$38,MATCH($C94,Prognoza!$C$9:$C$38,0),2)),INDEX(Prognoza!$K$9:$V$38,MATCH($C94,Prognoza!$C$9:$C$38,0),2),"")),""))) -> 0 | J94: =IF(C94="","",IF(Plan!F16="Run",IF(ISNUMBER(INDEX(Parametry!$H$18:$S$18,1,2)),INDEX(Parametry!$H$18:$S$18,1,2),""),IF(ISNUMBER(INDEX(Parametry!$H$24:$S$24,1,2)),INDEX(Parametry!$H$24:$S$24,1,2),""))) -> 0 | K94: =IF(C94="","",IF(2<=Parametry!$G$7,0,IF(AND(ISNUMBER(I94),ISNUMBER(J94),J94>=-1),I94*(1+J94),""))) -> 0 | L94: =IF(C94="","",IF(2<=Parametry!$G$7,G94,IF(ISNUMBER(K94),H94+K94,""))) -> 6000 | M94: =IF(AND(C94<>"",ISNUMBER(L94)),L94-F94,"") -> 0 | N94: =IF(C94="",0,IF(ISNUMBER(L94),0,1)) -> 0
C95: =IF(Plan!C16="","",Plan!C16) -> IT08 | D95: =IF(C95="","",Plan!D16) -> Usługi chmurowe | E95: =IF(OR(C95="",Parametry!$G$6=""),"",DATE(Parametry!$G$6,3,1)) -> 46447 | F95: =IF(C95="","",Plan!M16) -> 6000 | G95: =IF(C95="","",SUMIFS(ERP!$I$9:$I$1008,ERP!$L$9:$L$1008,C95,ERP!$N$9:$N$1008,1,ERP!$M$9:$M$1008,3)) -> 6000 | H95: =IF(C95="","",IF(3<=Parametry!$G$7,0,SUMIFS(Umowy!$N$9:$N$108,Umowy!$D$9:$D$108,C95,Umowy!$O$9:$O$108,3))) -> 0 | I95: =IF(C95="","",IF(3<=Parametry!$G$7,0,IF(COUNTIFS(Prognoza!$C$9:$C$38,C95)=1,IF(ISBLANK(INDEX(Prognoza!$K$9:$V$38,MATCH($C95,Prognoza!$C$9:$C$38,0),3)),"",IF(ISNUMBER(INDEX(Prognoza!$K$9:$V$38,MATCH($C95,Prognoza!$C$9:$C$38,0),3)),INDEX(Prognoza!$K$9:$V$38,MATCH($C95,Prognoza!$C$9:$C$38,0),3),"")),""))) -> 0 | J95: =IF(C95="","",IF(Plan!F16="Run",IF(ISNUMBER(INDEX(Parametry!$H$18:$S$18,1,3)),INDEX(Parametry!$H$18:$S$18,1,3),""),IF(ISNUMBER(INDEX(Parametry!$H$24:$S$24,1,3)),INDEX(Parametry!$H$24:$S$24,1,3),""))) -> 0 | K95: =IF(C95="","",IF(3<=Parametry!$G$7,0,IF(AND(ISNUMBER(I95),ISNUMBER(J95),J95>=-1),I95*(1+J95),""))) -> 0 | L95: =IF(C95="","",IF(3<=Parametry!$G$7,G95,IF(ISNUMBER(K95),H95+K95,""))) -> 6000 | M95: =IF(AND(C95<>"",ISNUMBER(L95)),L95-F95,"") -> 0 | N95: =IF(C95="",0,IF(ISNUMBER(L95),0,1)) -> 0
C96: =IF(Plan!C16="","",Plan!C16) -> IT08 | D96: =IF(C96="","",Plan!D16) -> Usługi chmurowe | E96: =IF(OR(C96="",Parametry!$G$6=""),"",DATE(Parametry!$G$6,4,1)) -> 46478 | F96: =IF(C96="","",Plan!N16) -> 6000 | G96: =IF(C96="","",SUMIFS(ERP!$I$9:$I$1008,ERP!$L$9:$L$1008,C96,ERP!$N$9:$N$1008,1,ERP!$M$9:$M$1008,4)) -> 6000 | H96: =IF(C96="","",IF(4<=Parametry!$G$7,0,SUMIFS(Umowy!$N$9:$N$108,Umowy!$D$9:$D$108,C96,Umowy!$O$9:$O$108,4))) -> 0 | I96: =IF(C96="","",IF(4<=Parametry!$G$7,0,IF(COUNTIFS(Prognoza!$C$9:$C$38,C96)=1,IF(ISBLANK(INDEX(Prognoza!$K$9:$V$38,MATCH($C96,Prognoza!$C$9:$C$38,0),4)),"",IF(ISNUMBER(INDEX(Prognoza!$K$9:$V$38,MATCH($C96,Prognoza!$C$9:$C$38,0),4)),INDEX(Prognoza!$K$9:$V$38,MATCH($C96,Prognoza!$C$9:$C$38,0),4),"")),""))) -> 0 | J96: =IF(C96="","",IF(Plan!F16="Run",IF(ISNUMBER(INDEX(Parametry!$H$18:$S$18,1,4)),INDEX(Parametry!$H$18:$S$18,1,4),""),IF(ISNUMBER(INDEX(Parametry!$H$24:$S$24,1,4)),INDEX(Parametry!$H$24:$S$24,1,4),""))) -> 0 | K96: =IF(C96="","",IF(4<=Parametry!$G$7,0,IF(AND(ISNUMBER(I96),ISNUMBER(J96),J96>=-1),I96*(1+J96),""))) -> 0 | L96: =IF(C96="","",IF(4<=Parametry!$G$7,G96,IF(ISNUMBER(K96),H96+K96,""))) -> 6000 | M96: =IF(AND(C96<>"",ISNUMBER(L96)),L96-F96,"") -> 0 | N96: =IF(C96="",0,IF(ISNUMBER(L96),0,1)) -> 0
C97: =IF(Plan!C16="","",Plan!C16) -> IT08 | D97: =IF(C97="","",Plan!D16) -> Usługi chmurowe | E97: =IF(OR(C97="",Parametry!$G$6=""),"",DATE(Parametry!$G$6,5,1)) -> 46508 | F97: =IF(C97="","",Plan!O16) -> 6000 | G97: =IF(C97="","",SUMIFS(ERP!$I$9:$I$1008,ERP!$L$9:$L$1008,C97,ERP!$N$9:$N$1008,1,ERP!$M$9:$M$1008,5)) -> 6000 | H97: =IF(C97="","",IF(5<=Parametry!$G$7,0,SUMIFS(Umowy!$N$9:$N$108,Umowy!$D$9:$D$108,C97,Umowy!$O$9:$O$108,5))) -> 0 | I97: =IF(C97="","",IF(5<=Parametry!$G$7,0,IF(COUNTIFS(Prognoza!$C$9:$C$38,C97)=1,IF(ISBLANK(INDEX(Prognoza!$K$9:$V$38,MATCH($C97,Prognoza!$C$9:$C$38,0),5)),"",IF(ISNUMBER(INDEX(Prognoza!$K$9:$V$38,MATCH($C97,Prognoza!$C$9:$C$38,0),5)),INDEX(Prognoza!$K$9:$V$38,MATCH($C97,Prognoza!$C$9:$C$38,0),5),"")),""))) -> 0 | J97: =IF(C97="","",IF(Plan!F16="Run",IF(ISNUMBER(INDEX(Parametry!$H$18:$S$18,1,5)),INDEX(Parametry!$H$18:$S$18,1,5),""),IF(ISNUMBER(INDEX(Parametry!$H$24:$S$24,1,5)),INDEX(Parametry!$H$24:$S$24,1,5),""))) -> 0 | K97: =IF(C97="","",IF(5<=Parametry!$G$7,0,IF(AND(ISNUMBER(I97),ISNUMBER(J97),J97>=-1),I97*(1+J97),""))) -> 0 | L97: =IF(C97="","",IF(5<=Parametry!$G$7,G97,IF(ISNUMBER(K97),H97+K97,""))) -> 6000 | M97: =IF(AND(C97<>"",ISNUMBER(L97)),L97-F97,"") -> 0 | N97: =IF(C97="",0,IF(ISNUMBER(L97),0,1)) -> 0
C98: =IF(Plan!C16="","",Plan!C16) -> IT08 | D98: =IF(C98="","",Plan!D16) -> Usługi chmurowe | E98: =IF(OR(C98="",Parametry!$G$6=""),"",DATE(Parametry!$G$6,6,1)) -> 46539 | F98: =IF(C98="","",Plan!P16) -> 6000 | G98: =IF(C98="","",SUMIFS(ERP!$I$9:$I$1008,ERP!$L$9:$L$1008,C98,ERP!$N$9:$N$1008,1,ERP!$M$9:$M$1008,6)) -> 6000 | H98: =IF(C98="","",IF(6<=Parametry!$G$7,0,SUMIFS(Umowy!$N$9:$N$108,Umowy!$D$9:$D$108,C98,Umowy!$O$9:$O$108,6))) -> 0 | I98: =IF(C98="","",IF(6<=Parametry!$G$7,0,IF(COUNTIFS(Prognoza!$C$9:$C$38,C98)=1,IF(ISBLANK(INDEX(Prognoza!$K$9:$V$38,MATCH($C98,Prognoza!$C$9:$C$38,0),6)),"",IF(ISNUMBER(INDEX(Prognoza!$K$9:$V$38,MATCH($C98,Prognoza!$C$9:$C$38,0),6)),INDEX(Prognoza!$K$9:$V$38,MATCH($C98,Prognoza!$C$9:$C$38,0),6),"")),""))) -> 0 | J98: =IF(C98="","",IF(Plan!F16="Run",IF(ISNUMBER(INDEX(Parametry!$H$18:$S$18,1,6)),INDEX(Parametry!$H$18:$S$18,1,6),""),IF(ISNUMBER(INDEX(Parametry!$H$24:$S$24,1,6)),INDEX(Parametry!$H$24:$S$24,1,6),""))) -> 0 | K98: =IF(C98="","",IF(6<=Parametry!$G$7,0,IF(AND(ISNUMBER(I98),ISNUMBER(J98),J98>=-1),I98*(1+J98),""))) -> 0 | L98: =IF(C98="","",IF(6<=Parametry!$G$7,G98,IF(ISNUMBER(K98),H98+K98,""))) -> 6000 | M98: =IF(AND(C98<>"",ISNUMBER(L98)),L98-F98,"") -> 0 | N98: =IF(C98="",0,IF(ISNUMBER(L98),0,1)) -> 0
C99: =IF(Plan!C16="","",Plan!C16) -> IT08 | D99: =IF(C99="","",Plan!D16) -> Usługi chmurowe | E99: =IF(OR(C99="",Parametry!$G$6=""),"",DATE(Parametry!$G$6,7,1)) -> 46569 | F99: =IF(C99="","",Plan!Q16) -> 6000 | G99: =IF(C99="","",SUMIFS(ERP!$I$9:$I$1008,ERP!$L$9:$L$1008,C99,ERP!$N$9:$N$1008,1,ERP!$M$9:$M$1008,7)) -> 0 | H99: =IF(C99="","",IF(7<=Parametry!$G$7,0,SUMIFS(Umowy!$N$9:$N$108,Umowy!$D$9:$D$108,C99,Umowy!$O$9:$O$108,7))) -> 0 | I99: =IF(C99="","",IF(7<=Parametry!$G$7,0,IF(COUNTIFS(Prognoza!$C$9:$C$38,C99)=1,IF(ISBLANK(INDEX(Prognoza!$K$9:$V$38,MATCH($C99,Prognoza!$C$9:$C$38,0),7)),"",IF(ISNUMBER(INDEX(Prognoza!$K$9:$V$38,MATCH($C99,Prognoza!$C$9:$C$38,0),7)),INDEX(Prognoza!$K$9:$V$38,MATCH($C99,Prognoza!$C$9:$C$38,0),7),"")),""))) -> 7200 | J99: =IF(C99="","",IF(Plan!F16="Run",IF(ISNUMBER(INDEX(Parametry!$H$18:$S$18,1,7)),INDEX(Parametry!$H$18:$S$18,1,7),""),IF(ISNUMBER(INDEX(Parametry!$H$24:$S$24,1,7)),INDEX(Parametry!$H$24:$S$24,1,7),""))) -> 0 | K99: =IF(C99="","",IF(7<=Parametry!$G$7,0,IF(AND(ISNUMBER(I99),ISNUMBER(J99),J99>=-1),I99*(1+J99),""))) -> 7200 | L99: =IF(C99="","",IF(7<=Parametry!$G$7,G99,IF(ISNUMBER(K99),H99+K99,""))) -> 7200 | M99: =IF(AND(C99<>"",ISNUMBER(L99)),L99-F99,"") -> 1200 | N99: =IF(C99="",0,IF(ISNUMBER(L99),0,1)) -> 0
C100: =IF(Plan!C16="","",Plan!C16) -> IT08 | D100: =IF(C100="","",Plan!D16) -> Usługi chmurowe | E100: =IF(OR(C100="",Parametry!$G$6=""),"",DATE(Parametry!$G$6,8,1)) -> 46600 | F100: =IF(C100="","",Plan!R16) -> 6000 | G100: =IF(C100="","",SUMIFS(ERP!$I$9:$I$1008,ERP!$L$9:$L$1008,C100,ERP!$N$9:$N$1008,1,ERP!$M$9:$M$1008,8)) -> 0 | H100: =IF(C100="","",IF(8<=Parametry!$G$7,0,SUMIFS(Umowy!$N$9:$N$108,Umowy!$D$9:$D$108,C100,Umowy!$O$9:$O$108,8))) -> 0 | I100: =IF(C100="","",IF(8<=Parametry!$G$7,0,IF(COUNTIFS(Prognoza!$C$9:$C$38,C100)=1,IF(ISBLANK(INDEX(Prognoza!$K$9:$V$38,MATCH($C100,Prognoza!$C$9:$C$38,0),8)),"",IF(ISNUMBER(INDEX(Prognoza!$K$9:$V$38,MATCH($C100,Prognoza!$C$9:$C$38,0),8)),INDEX(Prognoza!$K$9:$V$38,MATCH($C100,Prognoza!$C$9:$C$38,0),8),"")),""))) -> 7200 | J100: =IF(C100="","",IF(Plan!F16="Run",IF(ISNUMBER(INDEX(Parametry!$H$18:$S$18,1,8)),INDEX(Parametry!$H$18:$S$18,1,8),""),IF(ISNUMBER(INDEX(Parametry!$H$24:$S$24,1,8)),INDEX(Parametry!$H$24:$S$24,1,8),""))) -> 0 | K100: =IF(C100="","",IF(8<=Parametry!$G$7,0,IF(AND(ISNUMBER(I100),ISNUMBER(J100),J100>=-1),I100*(1+J100),""))) -> 7200 | L100: =IF(C100="","",IF(8<=Parametry!$G$7,G100,IF(ISNUMBER(K100),H100+K100,""))) -> 7200 | M100: =IF(AND(C100<>"",ISNUMBER(L100)),L100-F100,"") -> 1200 | N100: =IF(C100="",0,IF(ISNUMBER(L100),0,1)) -> 0
C101: =IF(Plan!C16="","",Plan!C16) -> IT08 | D101: =IF(C101="","",Plan!D16) -> Usługi chmurowe | E101: =IF(OR(C101="",Parametry!$G$6=""),"",DATE(Parametry!$G$6,9,1)) -> 46631 | F101: =IF(C101="","",Plan!S16) -> 6000 | G101: =IF(C101="","",SUMIFS(ERP!$I$9:$I$1008,ERP!$L$9:$L$1008,C101,ERP!$N$9:$N$1008,1,ERP!$M$9:$M$1008,9)) -> 0 | H101: =IF(C101="","",IF(9<=Parametry!$G$7,0,SUMIFS(Umowy!$N$9:$N$108,Umowy!$D$9:$D$108,C101,Umowy!$O$9:$O$108,9))) -> 0 | I101: =IF(C101="","",IF(9<=Parametry!$G$7,0,IF(COUNTIFS(Prognoza!$C$9:$C$38,C101)=1,IF(ISBLANK(INDEX(Prognoza!$K$9:$V$38,MATCH($C101,Prognoza!$C$9:$C$38,0),9)),"",IF(ISNUMBER(INDEX(Prognoza!$K$9:$V$38,MATCH($C101,Prognoza!$C$9:$C$38,0),9)),INDEX(Prognoza!$K$9:$V$38,MATCH($C101,Prognoza!$C$9:$C$38,0),9),"")),""))) -> 7200 | J101: =IF(C101="","",IF(Plan!F16="Run",IF(ISNUMBER(INDEX(Parametry!$H$18:$S$18,1,9)),INDEX(Parametry!$H$18:$S$18,1,9),""),IF(ISNUMBER(INDEX(Parametry!$H$24:$S$24,1,9)),INDEX(Parametry!$H$24:$S$24,1,9),""))) -> 0 | K101: =IF(C101="","",IF(9<=Parametry!$G$7,0,IF(AND(ISNUMBER(I101),ISNUMBER(J101),J101>=-1),I101*(1+J101),""))) -> 7200 | L101: =IF(C101="","",IF(9<=Parametry!$G$7,G101,IF(ISNUMBER(K101),H101+K101,""))) -> 7200 | M101: =IF(AND(C101<>"",ISNUMBER(L101)),L101-F101,"") -> 1200 | N101: =IF(C101="",0,IF(ISNUMBER(L101),0,1)) -> 0
C102: =IF(Plan!C16="","",Plan!C16) -> IT08 | D102: =IF(C102="","",Plan!D16) -> Usługi chmurowe | E102: =IF(OR(C102="",Parametry!$G$6=""),"",DATE(Parametry!$G$6,10,1)) -> 46661 | F102: =IF(C102="","",Plan!T16) -> 6000 | G102: =IF(C102="","",SUMIFS(ERP!$I$9:$I$1008,ERP!$L$9:$L$1008,C102,ERP!$N$9:$N$1008,1,ERP!$M$9:$M$1008,10)) -> 0 | H102: =IF(C102="","",IF(10<=Parametry!$G$7,0,SUMIFS(Umowy!$N$9:$N$108,Umowy!$D$9:$D$108,C102,Umowy!$O$9:$O$108,10))) -> 0 | I102: =IF(C102="","",IF(10<=Parametry!$G$7,0,IF(COUNTIFS(Prognoza!$C$9:$C$38,C102)=1,IF(ISBLANK(INDEX(Prognoza!$K$9:$V$38,MATCH($C102,Prognoza!$C$9:$C$38,0),10)),"",IF(ISNUMBER(INDEX(Prognoza!$K$9:$V$38,MATCH($C102,Prognoza!$C$9:$C$38,0),10)),INDEX(Prognoza!$K$9:$V$38,MATCH($C102,Prognoza!$C$9:$C$38,0),10),"")),""))) -> 7200 | J102: =IF(C102="","",IF(Plan!F16="Run",IF(ISNUMBER(INDEX(Parametry!$H$18:$S$18,1,10)),INDEX(Parametry!$H$18:$S$18,1,10),""),IF(ISNUMBER(INDEX(Parametry!$H$24:$S$24,1,10)),INDEX(Parametry!$H$24:$S$24,1,10),""))) -> 0 | K102: =IF(C102="","",IF(10<=Parametry!$G$7,0,IF(AND(ISNUMBER(I102),ISNUMBER(J102),J102>=-1),I102*(1+J102),""))) -> 7200 | L102: =IF(C102="","",IF(10<=Parametry!$G$7,G102,IF(ISNUMBER(K102),H102+K102,""))) -> 7200 | M102: =IF(AND(C102<>"",ISNUMBER(L102)),L102-F102,"") -> 1200 | N102: =IF(C102="",0,IF(ISNUMBER(L102),0,1)) -> 0
...

Sheet Alokacja
C2: Alokacja na biznes
C3: PRZYKŁAD HIPOTETYCZNY. Dane nie opisują rzeczywistej firmy.
C4: Wariant: | D4: =Parametry!$G$9 -> Bazowy
C8: ID | D8: Pozycja | E8: Klucz | F8: Jednostka | G8: Suma klucza | H8: Plan roczny | I8: Prognoza roku | J8: Waga 1 | K8: Waga 2 | L8: Waga 3 | M8: Waga 4 | N8: =Parametry!G29 -> Produkcja | O8: =Parametry!H29 -> Logistyka | P8: =Parametry!I29 -> Sprzedaż | Q8: =Parametry!J29 -> Administracja
C9: =IF(Plan!C9="","",Plan!C9) -> IT01 | D9: =IF(C9="","",Plan!D9) -> Licencje stanowiskowe | E9: =IF(C9="","",Plan!H9) -> USERS | F9: =IF(C9="","",IF(COUNTIFS(Parametry!$C$35:$C$46,E9)=1,INDEX(Parametry!$E$35:$E$46,MATCH(E9,Parametry!$C$35:$C$46,0)),"")) -> Liczba użytkowników | G9: =IF(C9="","",IF(COUNTIFS(Parametry!$C$35:$C$46,E9)=1,INDEX(Parametry!$K$35:$K$46,MATCH(E9,Parametry!$C$35:$C$46,0)),"")) -> 200 | H9: =IF(C9="","",Plan!I9) -> 216000 | I9: =IF(AND(C9<>"",Model!$E$6=1),SUMIFS(Model!$L$9:$L$368,Model!$C$9:$C$368,C9),"") -> 216000 | J9: =IF(C9="","",IF(COUNTIFS(Parametry!$C$35:$C$46,E9)=1,INDEX(Parametry!$G$35:$G$46,MATCH(E9,Parametry!$C$35:$C$46,0)),"")) -> 120 | K9: =IF(C9="","",IF(COUNTIFS(Parametry!$C$35:$C$46,E9)=1,INDEX(Parametry!$H$35:$H$46,MATCH(E9,Parametry!$C$35:$C$46,0)),"")) -> 40 | L9: =IF(C9="","",IF(COUNTIFS(Parametry!$C$35:$C$46,E9)=1,INDEX(Parametry!$I$35:$I$46,MATCH(E9,Parametry!$C$35:$C$46,0)),"")) -> 30 | M9: =IF(C9="","",IF(COUNTIFS(Parametry!$C$35:$C$46,E9)=1,INDEX(Parametry!$J$35:$J$46,MATCH(E9,Parametry!$C$35:$C$46,0)),"")) -> 10 | N9: =IF(AND(ISNUMBER(I9),ISNUMBER(G9),G9>0),I9*J9/G9,"") -> 129600 | O9: =IF(AND(ISNUMBER(I9),ISNUMBER(G9),G9>0),I9*K9/G9,"") -> 43200 | P9: =IF(AND(ISNUMBER(I9),ISNUMBER(G9),G9>0),I9*L9/G9,"") -> 32400 | Q9: =IF(AND(ISNUMBER(I9),ISNUMBER(G9),G9>0),I9*M9/G9,"") -> 10800
C10: =IF(Plan!C10="","",Plan!C10) -> IT02 | D10: =IF(C10="","",Plan!D10) -> Utrzymanie ERP | E10: =IF(C10="","",Plan!H10) -> ERP | F10: =IF(C10="","",IF(COUNTIFS(Parametry!$C$35:$C$46,E10)=1,INDEX(Parametry!$E$35:$E$46,MATCH(E10,Parametry!$C$35:$C$46,0)),"")) -> Udział wykorzystania | G10: =IF(C10="","",IF(COUNTIFS(Parametry!$C$35:$C$46,E10)=1,INDEX(Parametry!$K$35:$K$46,MATCH(E10,Parametry!$C$35:$C$46,0)),"")) -> 100 | H10: =IF(C10="","",Plan!I10) -> 144000 | I10: =IF(AND(C10<>"",Model!$E$6=1),SUMIFS(Model!$L$9:$L$368,Model!$C$9:$C$368,C10),"") -> 144000 | J10: =IF(C10="","",IF(COUNTIFS(Parametry!$C$35:$C$46,E10)=1,INDEX(Parametry!$G$35:$G$46,MATCH(E10,Parametry!$C$35:$C$46,0)),"")) -> 70 | K10: =IF(C10="","",IF(COUNTIFS(Parametry!$C$35:$C$46,E10)=1,INDEX(Parametry!$H$35:$H$46,MATCH(E10,Parametry!$C$35:$C$46,0)),"")) -> 20 | L10: =IF(C10="","",IF(COUNTIFS(Parametry!$C$35:$C$46,E10)=1,INDEX(Parametry!$I$35:$I$46,MATCH(E10,Parametry!$C$35:$C$46,0)),"")) -> 5 | M10: =IF(C10="","",IF(COUNTIFS(Parametry!$C$35:$C$46,E10)=1,INDEX(Parametry!$J$35:$J$46,MATCH(E10,Parametry!$C$35:$C$46,0)),"")) -> 5 | N10: =IF(AND(ISNUMBER(I10),ISNUMBER(G10),G10>0),I10*J10/G10,"") -> 100800 | O10: =IF(AND(ISNUMBER(I10),ISNUMBER(G10),G10>0),I10*K10/G10,"") -> 28800 | P10: =IF(AND(ISNUMBER(I10),ISNUMBER(G10),G10>0),I10*L10/G10,"") -> 7200 | Q10: =IF(AND(ISNUMBER(I10),ISNUMBER(G10),G10>0),I10*M10/G10,"") -> 7200
C11: =IF(Plan!C11="","",Plan!C11) -> IT03 | D11: =IF(C11="","",Plan!D11) -> Backup i odtwarzanie | E11: =IF(C11="","",Plan!H11) -> STORAGE | F11: =IF(C11="","",IF(COUNTIFS(Parametry!$C$35:$C$46,E11)=1,INDEX(Parametry!$E$35:$E$46,MATCH(E11,Parametry!$C$35:$C$46,0)),"")) -> Wolumen danych | G11: =IF(C11="","",IF(COUNTIFS(Parametry!$C$35:$C$46,E11)=1,INDEX(Parametry!$K$35:$K$46,MATCH(E11,Parametry!$C$35:$C$46,0)),"")) -> 100 | H11: =IF(C11="","",Plan!I11) -> 36000 | I11: =IF(AND(C11<>"",Model!$E$6=1),SUMIFS(Model!$L$9:$L$368,Model!$C$9:$C$368,C11),"") -> 36000 | J11: =IF(C11="","",IF(COUNTIFS(Parametry!$C$35:$C$46,E11)=1,INDEX(Parametry!$G$35:$G$46,MATCH(E11,Parametry!$C$35:$C$46,0)),"")) -> 65 | K11: =IF(C11="","",IF(COUNTIFS(Parametry!$C$35:$C$46,E11)=1,INDEX(Parametry!$H$35:$H$46,MATCH(E11,Parametry!$C$35:$C$46,0)),"")) -> 20 | L11: =IF(C11="","",IF(COUNTIFS(Parametry!$C$35:$C$46,E11)=1,INDEX(Parametry!$I$35:$I$46,MATCH(E11,Parametry!$C$35:$C$46,0)),"")) -> 10 | M11: =IF(C11="","",IF(COUNTIFS(Parametry!$C$35:$C$46,E11)=1,INDEX(Parametry!$J$35:$J$46,MATCH(E11,Parametry!$C$35:$C$46,0)),"")) -> 5 | N11: =IF(AND(ISNUMBER(I11),ISNUMBER(G11),G11>0),I11*J11/G11,"") -> 23400 | O11: =IF(AND(ISNUMBER(I11),ISNUMBER(G11),G11>0),I11*K11/G11,"") -> 7200 | P11: =IF(AND(ISNUMBER(I11),ISNUMBER(G11),G11>0),I11*L11/G11,"") -> 3600 | Q11: =IF(AND(ISNUMBER(I11),ISNUMBER(G11),G11>0),I11*M11/G11,"") -> 1800
C12: =IF(Plan!C12="","",Plan!C12) -> IT04 | D12: =IF(C12="","",Plan!D12) -> Ochrona środowiska | E12: =IF(C12="","",Plan!H12) -> USERS | F12: =IF(C12="","",IF(COUNTIFS(Parametry!$C$35:$C$46,E12)=1,INDEX(Parametry!$E$35:$E$46,MATCH(E12,Parametry!$C$35:$C$46,0)),"")) -> Liczba użytkowników | G12: =IF(C12="","",IF(COUNTIFS(Parametry!$C$35:$C$46,E12)=1,INDEX(Parametry!$K$35:$K$46,MATCH(E12,Parametry!$C$35:$C$46,0)),"")) -> 200 | H12: =IF(C12="","",Plan!I12) -> 60000 | I12: =IF(AND(C12<>"",Model!$E$6=1),SUMIFS(Model!$L$9:$L$368,Model!$C$9:$C$368,C12),"") -> 60000 | J12: =IF(C12="","",IF(COUNTIFS(Parametry!$C$35:$C$46,E12)=1,INDEX(Parametry!$G$35:$G$46,MATCH(E12,Parametry!$C$35:$C$46,0)),"")) -> 120 | K12: =IF(C12="","",IF(COUNTIFS(Parametry!$C$35:$C$46,E12)=1,INDEX(Parametry!$H$35:$H$46,MATCH(E12,Parametry!$C$35:$C$46,0)),"")) -> 40 | L12: =IF(C12="","",IF(COUNTIFS(Parametry!$C$35:$C$46,E12)=1,INDEX(Parametry!$I$35:$I$46,MATCH(E12,Parametry!$C$35:$C$46,0)),"")) -> 30 | M12: =IF(C12="","",IF(COUNTIFS(Parametry!$C$35:$C$46,E12)=1,INDEX(Parametry!$J$35:$J$46,MATCH(E12,Parametry!$C$35:$C$46,0)),"")) -> 10 | N12: =IF(AND(ISNUMBER(I12),ISNUMBER(G12),G12>0),I12*J12/G12,"") -> 36000 | O12: =IF(AND(ISNUMBER(I12),ISNUMBER(G12),G12>0),I12*K12/G12,"") -> 12000 | P12: =IF(AND(ISNUMBER(I12),ISNUMBER(G12),G12>0),I12*L12/G12,"") -> 9000 | Q12: =IF(AND(ISNUMBER(I12),ISNUMBER(G12),G12>0),I12*M12/G12,"") -> 3000
C13: =IF(Plan!C13="","",Plan!C13) -> IT05 | D13: =IF(C13="","",Plan!D13) -> Odświeżenie sieci | E13: =IF(C13="","",Plan!H13) -> ASSETS | F13: =IF(C13="","",IF(COUNTIFS(Parametry!$C$35:$C$46,E13)=1,INDEX(Parametry!$E$35:$E$46,MATCH(E13,Parametry!$C$35:$C$46,0)),"")) -> Liczba urządzeń | G13: =IF(C13="","",IF(COUNTIFS(Parametry!$C$35:$C$46,E13)=1,INDEX(Parametry!$K$35:$K$46,MATCH(E13,Parametry!$C$35:$C$46,0)),"")) -> 150 | H13: =IF(C13="","",Plan!I13) -> 60000 | I13: =IF(AND(C13<>"",Model!$E$6=1),SUMIFS(Model!$L$9:$L$368,Model!$C$9:$C$368,C13),"") -> 64000 | J13: =IF(C13="","",IF(COUNTIFS(Parametry!$C$35:$C$46,E13)=1,INDEX(Parametry!$G$35:$G$46,MATCH(E13,Parametry!$C$35:$C$46,0)),"")) -> 90 | K13: =IF(C13="","",IF(COUNTIFS(Parametry!$C$35:$C$46,E13)=1,INDEX(Parametry!$H$35:$H$46,MATCH(E13,Parametry!$C$35:$C$46,0)),"")) -> 20 | L13: =IF(C13="","",IF(COUNTIFS(Parametry!$C$35:$C$46,E13)=1,INDEX(Parametry!$I$35:$I$46,MATCH(E13,Parametry!$C$35:$C$46,0)),"")) -> 20 | M13: =IF(C13="","",IF(COUNTIFS(Parametry!$C$35:$C$46,E13)=1,INDEX(Parametry!$J$35:$J$46,MATCH(E13,Parametry!$C$35:$C$46,0)),"")) -> 20 | N13: =IF(AND(ISNUMBER(I13),ISNUMBER(G13),G13>0),I13*J13/G13,"") -> 38400 | O13: =IF(AND(ISNUMBER(I13),ISNUMBER(G13),G13>0),I13*K13/G13,"") -> 8533.3333 | P13: =IF(AND(ISNUMBER(I13),ISNUMBER(G13),G13>0),I13*L13/G13,"") -> 8533.3333 | Q13: =IF(AND(ISNUMBER(I13),ISNUMBER(G13),G13>0),I13*M13/G13,"") -> 8533.3333
C14: =IF(Plan!C14="","",Plan!C14) -> IT06 | D14: =IF(C14="","",Plan!D14) -> Projekt WMS | E14: =IF(C14="","",Plan!H14) -> LOG | F14: =IF(C14="","",IF(COUNTIFS(Parametry!$C$35:$C$46,E14)=1,INDEX(Parametry!$E$35:$E$46,MATCH(E14,Parametry!$C$35:$C$46,0)),"")) -> Przypisanie bezpośrednie | G14: =IF(C14="","",IF(COUNTIFS(Parametry!$C$35:$C$46,E14)=1,INDEX(Parametry!$K$35:$K$46,MATCH(E14,Parametry!$C$35:$C$46,0)),"")) -> 1 | H14: =IF(C14="","",Plan!I14) -> 120000 | I14: =IF(AND(C14<>"",Model!$E$6=1),SUMIFS(Model!$L$9:$L$368,Model!$C$9:$C$368,C14),"") -> 120000 | J14: =IF(C14="","",IF(COUNTIFS(Parametry!$C$35:$C$46,E14)=1,INDEX(Parametry!$G$35:$G$46,MATCH(E14,Parametry!$C$35:$C$46,0)),"")) -> 0 | K14: =IF(C14="","",IF(COUNTIFS(Parametry!$C$35:$C$46,E14)=1,INDEX(Parametry!$H$35:$H$46,MATCH(E14,Parametry!$C$35:$C$46,0)),"")) -> 1 | L14: =IF(C14="","",IF(COUNTIFS(Parametry!$C$35:$C$46,E14)=1,INDEX(Parametry!$I$35:$I$46,MATCH(E14,Parametry!$C$35:$C$46,0)),"")) -> 0 | M14: =IF(C14="","",IF(COUNTIFS(Parametry!$C$35:$C$46,E14)=1,INDEX(Parametry!$J$35:$J$46,MATCH(E14,Parametry!$C$35:$C$46,0)),"")) -> 0 | N14: =IF(AND(ISNUMBER(I14),ISNUMBER(G14),G14>0),I14*J14/G14,"") -> 0 | O14: =IF(AND(ISNUMBER(I14),ISNUMBER(G14),G14>0),I14*K14/G14,"") -> 120000 | P14: =IF(AND(ISNUMBER(I14),ISNUMBER(G14),G14>0),I14*L14/G14,"") -> 0 | Q14: =IF(AND(ISNUMBER(I14),ISNUMBER(G14),G14>0),I14*M14/G14,"") -> 0
C15: =IF(Plan!C15="","",Plan!C15) -> IT07 | D15: =IF(C15="","",Plan!D15) -> Projekt MES | E15: =IF(C15="","",Plan!H15) -> PROD | F15: =IF(C15="","",IF(COUNTIFS(Parametry!$C$35:$C$46,E15)=1,INDEX(Parametry!$E$35:$E$46,MATCH(E15,Parametry!$C$35:$C$46,0)),"")) -> Przypisanie bezpośrednie | G15: =IF(C15="","",IF(COUNTIFS(Parametry!$C$35:$C$46,E15)=1,INDEX(Parametry!$K$35:$K$46,MATCH(E15,Parametry!$C$35:$C$46,0)),"")) -> 1 | H15: =IF(C15="","",Plan!I15) -> 90000 | I15: =IF(AND(C15<>"",Model!$E$6=1),SUMIFS(Model!$L$9:$L$368,Model!$C$9:$C$368,C15),"") -> 0 | J15: =IF(C15="","",IF(COUNTIFS(Parametry!$C$35:$C$46,E15)=1,INDEX(Parametry!$G$35:$G$46,MATCH(E15,Parametry!$C$35:$C$46,0)),"")) -> 1 | K15: =IF(C15="","",IF(COUNTIFS(Parametry!$C$35:$C$46,E15)=1,INDEX(Parametry!$H$35:$H$46,MATCH(E15,Parametry!$C$35:$C$46,0)),"")) -> 0 | L15: =IF(C15="","",IF(COUNTIFS(Parametry!$C$35:$C$46,E15)=1,INDEX(Parametry!$I$35:$I$46,MATCH(E15,Parametry!$C$35:$C$46,0)),"")) -> 0 | M15: =IF(C15="","",IF(COUNTIFS(Parametry!$C$35:$C$46,E15)=1,INDEX(Parametry!$J$35:$J$46,MATCH(E15,Parametry!$C$35:$C$46,0)),"")) -> 0 | N15: =IF(AND(ISNUMBER(I15),ISNUMBER(G15),G15>0),I15*J15/G15,"") -> 0 | O15: =IF(AND(ISNUMBER(I15),ISNUMBER(G15),G15>0),I15*K15/G15,"") -> 0 | P15: =IF(AND(ISNUMBER(I15),ISNUMBER(G15),G15>0),I15*L15/G15,"") -> 0 | Q15: =IF(AND(ISNUMBER(I15),ISNUMBER(G15),G15>0),I15*M15/G15,"") -> 0
C16: =IF(Plan!C16="","",Plan!C16) -> IT08 | D16: =IF(C16="","",Plan!D16) -> Usługi chmurowe | E16: =IF(C16="","",Plan!H16) -> STORAGE | F16: =IF(C16="","",IF(COUNTIFS(Parametry!$C$35:$C$46,E16)=1,INDEX(Parametry!$E$35:$E$46,MATCH(E16,Parametry!$C$35:$C$46,0)),"")) -> Wolumen danych | G16: =IF(C16="","",IF(COUNTIFS(Parametry!$C$35:$C$46,E16)=1,INDEX(Parametry!$K$35:$K$46,MATCH(E16,Parametry!$C$35:$C$46,0)),"")) -> 100 | H16: =IF(C16="","",Plan!I16) -> 72000 | I16: =IF(AND(C16<>"",Model!$E$6=1),SUMIFS(Model!$L$9:$L$368,Model!$C$9:$C$368,C16),"") -> 79200 | J16: =IF(C16="","",IF(COUNTIFS(Parametry!$C$35:$C$46,E16)=1,INDEX(Parametry!$G$35:$G$46,MATCH(E16,Parametry!$C$35:$C$46,0)),"")) -> 65 | K16: =IF(C16="","",IF(COUNTIFS(Parametry!$C$35:$C$46,E16)=1,INDEX(Parametry!$H$35:$H$46,MATCH(E16,Parametry!$C$35:$C$46,0)),"")) -> 20 | L16: =IF(C16="","",IF(COUNTIFS(Parametry!$C$35:$C$46,E16)=1,INDEX(Parametry!$I$35:$I$46,MATCH(E16,Parametry!$C$35:$C$46,0)),"")) -> 10 | M16: =IF(C16="","",IF(COUNTIFS(Parametry!$C$35:$C$46,E16)=1,INDEX(Parametry!$J$35:$J$46,MATCH(E16,Parametry!$C$35:$C$46,0)),"")) -> 5 | N16: =IF(AND(ISNUMBER(I16),ISNUMBER(G16),G16>0),I16*J16/G16,"") -> 51480 | O16: =IF(AND(ISNUMBER(I16),ISNUMBER(G16),G16>0),I16*K16/G16,"") -> 15840 | P16: =IF(AND(ISNUMBER(I16),ISNUMBER(G16),G16>0),I16*L16/G16,"") -> 7920 | Q16: =IF(AND(ISNUMBER(I16),ISNUMBER(G16),G16>0),I16*M16/G16,"") -> 3960
C17: =IF(Plan!C17="","",Plan!C17) -> IT09 | D17: =IF(C17="","",Plan!D17) -> Zespół IT | E17: =IF(C17="","",Plan!H17) -> HOURS | F17: =IF(C17="","",IF(COUNTIFS(Parametry!$C$35:$C$46,E17)=1,INDEX(Parametry!$E$35:$E$46,MATCH(E17,Parametry!$C$35:$C$46,0)),"")) -> Godziny wsparcia | G17: =IF(C17="","",IF(COUNTIFS(Parametry!$C$35:$C$46,E17)=1,INDEX(Parametry!$K$35:$K$46,MATCH(E17,Parametry!$C$35:$C$46,0)),"")) -> 80 | H17: =IF(C17="","",Plan!I17) -> 384000 | I17: =IF(AND(C17<>"",Model!$E$6=1),SUMIFS(Model!$L$9:$L$368,Model!$C$9:$C$368,C17),"") -> 384000 | J17: =IF(C17="","",IF(COUNTIFS(Parametry!$C$35:$C$46,E17)=1,INDEX(Parametry!$G$35:$G$46,MATCH(E17,Parametry!$C$35:$C$46,0)),"")) -> 40 | K17: =IF(C17="","",IF(COUNTIFS(Parametry!$C$35:$C$46,E17)=1,INDEX(Parametry!$H$35:$H$46,MATCH(E17,Parametry!$C$35:$C$46,0)),"")) -> 20 | L17: =IF(C17="","",IF(COUNTIFS(Parametry!$C$35:$C$46,E17)=1,INDEX(Parametry!$I$35:$I$46,MATCH(E17,Parametry!$C$35:$C$46,0)),"")) -> 10 | M17: =IF(C17="","",IF(COUNTIFS(Parametry!$C$35:$C$46,E17)=1,INDEX(Parametry!$J$35:$J$46,MATCH(E17,Parametry!$C$35:$C$46,0)),"")) -> 10 | N17: =IF(AND(ISNUMBER(I17),ISNUMBER(G17),G17>0),I17*J17/G17,"") -> 192000 | O17: =IF(AND(ISNUMBER(I17),ISNUMBER(G17),G17>0),I17*K17/G17,"") -> 96000 | P17: =IF(AND(ISNUMBER(I17),ISNUMBER(G17),G17>0),I17*L17/G17,"") -> 48000 | Q17: =IF(AND(ISNUMBER(I17),ISNUMBER(G17),G17>0),I17*M17/G17,"") -> 48000
C18: =IF(Plan!C18="","",Plan!C18) -> IT10 | D18: =IF(C18="","",Plan!D18) -> Prace wydajnościowe ERP | E18: =IF(C18="","",Plan!H18) -> PROD | F18: =IF(C18="","",IF(COUNTIFS(Parametry!$C$35:$C$46,E18)=1,INDEX(Parametry!$E$35:$E$46,MATCH(E18,Parametry!$C$35:$C$46,0)),"")) -> Przypisanie bezpośrednie | G18: =IF(C18="","",IF(COUNTIFS(Parametry!$C$35:$C$46,E18)=1,INDEX(Parametry!$K$35:$K$46,MATCH(E18,Parametry!$C$35:$C$46,0)),"")) -> 1 | H18: =IF(C18="","",Plan!I18) -> 18000 | I18: =IF(AND(C18<>"",Model!$E$6=1),SUMIFS(Model!$L$9:$L$368,Model!$C$9:$C$368,C18),"") -> 18000 | J18: =IF(C18="","",IF(COUNTIFS(Parametry!$C$35:$C$46,E18)=1,INDEX(Parametry!$G$35:$G$46,MATCH(E18,Parametry!$C$35:$C$46,0)),"")) -> 1 | K18: =IF(C18="","",IF(COUNTIFS(Parametry!$C$35:$C$46,E18)=1,INDEX(Parametry!$H$35:$H$46,MATCH(E18,Parametry!$C$35:$C$46,0)),"")) -> 0 | L18: =IF(C18="","",IF(COUNTIFS(Parametry!$C$35:$C$46,E18)=1,INDEX(Parametry!$I$35:$I$46,MATCH(E18,Parametry!$C$35:$C$46,0)),"")) -> 0 | M18: =IF(C18="","",IF(COUNTIFS(Parametry!$C$35:$C$46,E18)=1,INDEX(Parametry!$J$35:$J$46,MATCH(E18,Parametry!$C$35:$C$46,0)),"")) -> 0 | N18: =IF(AND(ISNUMBER(I18),ISNUMBER(G18),G18>0),I18*J18/G18,"") -> 18000 | O18: =IF(AND(ISNUMBER(I18),ISNUMBER(G18),G18>0),I18*K18/G18,"") -> 0 | P18: =IF(AND(ISNUMBER(I18),ISNUMBER(G18),G18>0),I18*L18/G18,"") -> 0 | Q18: =IF(AND(ISNUMBER(I18),ISNUMBER(G18),G18>0),I18*M18/G18,"") -> 0
C19: =IF(Plan!C19="","",Plan!C19) -> IT11 | D19: =IF(C19="","",Plan!D19) -> Rozwój kompetencji | E19: =IF(C19="","",Plan!H19) -> USERS | F19: =IF(C19="","",IF(COUNTIFS(Parametry!$C$35:$C$46,E19)=1,INDEX(Parametry!$E$35:$E$46,MATCH(E19,Parametry!$C$35:$C$46,0)),"")) -> Liczba użytkowników | G19: =IF(C19="","",IF(COUNTIFS(Parametry!$C$35:$C$46,E19)=1,INDEX(Parametry!$K$35:$K$46,MATCH(E19,Parametry!$C$35:$C$46,0)),"")) -> 200 | H19: =IF(C19="","",Plan!I19) -> 12000 | I19: =IF(AND(C19<>"",Model!$E$6=1),SUMIFS(Model!$L$9:$L$368,Model!$C$9:$C$368,C19),"") -> 12000 | J19: =IF(C19="","",IF(COUNTIFS(Parametry!$C$35:$C$46,E19)=1,INDEX(Parametry!$G$35:$G$46,MATCH(E19,Parametry!$C$35:$C$46,0)),"")) -> 120 | K19: =IF(C19="","",IF(COUNTIFS(Parametry!$C$35:$C$46,E19)=1,INDEX(Parametry!$H$35:$H$46,MATCH(E19,Parametry!$C$35:$C$46,0)),"")) -> 40 | L19: =IF(C19="","",IF(COUNTIFS(Parametry!$C$35:$C$46,E19)=1,INDEX(Parametry!$I$35:$I$46,MATCH(E19,Parametry!$C$35:$C$46,0)),"")) -> 30 | M19: =IF(C19="","",IF(COUNTIFS(Parametry!$C$35:$C$46,E19)=1,INDEX(Parametry!$J$35:$J$46,MATCH(E19,Parametry!$C$35:$C$46,0)),"")) -> 10 | N19: =IF(AND(ISNUMBER(I19),ISNUMBER(G19),G19>0),I19*J19/G19,"") -> 7200 | O19: =IF(AND(ISNUMBER(I19),ISNUMBER(G19),G19>0),I19*K19/G19,"") -> 2400 | P19: =IF(AND(ISNUMBER(I19),ISNUMBER(G19),G19>0),I19*L19/G19,"") -> 1800 | Q19: =IF(AND(ISNUMBER(I19),ISNUMBER(G19),G19>0),I19*M19/G19,"") -> 600
C20: =IF(Plan!C20="","",Plan!C20) -> IT12 | D20: =IF(C20="","",Plan!D20) -> Rezerwa zarządcza | E20: =IF(C20="","",Plan!H20) -> ASSETS | F20: =IF(C20="","",IF(COUNTIFS(Parametry!$C$35:$C$46,E20)=1,INDEX(Parametry!$E$35:$E$46,MATCH(E20,Parametry!$C$35:$C$46,0)),"")) -> Liczba urządzeń | G20: =IF(C20="","",IF(COUNTIFS(Parametry!$C$35:$C$46,E20)=1,INDEX(Parametry!$K$35:$K$46,MATCH(E20,Parametry!$C$35:$C$46,0)),"")) -> 150 | H20: =IF(C20="","",Plan!I20) -> 20000 | I20: =IF(AND(C20<>"",Model!$E$6=1),SUMIFS(Model!$L$9:$L$368,Model!$C$9:$C$368,C20),"") -> 5000 | J20: =IF(C20="","",IF(COUNTIFS(Parametry!$C$35:$C$46,E20)=1,INDEX(Parametry!$G$35:$G$46,MATCH(E20,Parametry!$C$35:$C$46,0)),"")) -> 90 | K20: =IF(C20="","",IF(COUNTIFS(Parametry!$C$35:$C$46,E20)=1,INDEX(Parametry!$H$35:$H$46,MATCH(E20,Parametry!$C$35:$C$46,0)),"")) -> 20 | L20: =IF(C20="","",IF(COUNTIFS(Parametry!$C$35:$C$46,E20)=1,INDEX(Parametry!$I$35:$I$46,MATCH(E20,Parametry!$C$35:$C$46,0)),"")) -> 20 | M20: =IF(C20="","",IF(COUNTIFS(Parametry!$C$35:$C$46,E20)=1,INDEX(Parametry!$J$35:$J$46,MATCH(E20,Parametry!$C$35:$C$46,0)),"")) -> 20 | N20: =IF(AND(ISNUMBER(I20),ISNUMBER(G20),G20>0),I20*J20/G20,"") -> 3000 | O20: =IF(AND(ISNUMBER(I20),ISNUMBER(G20),G20>0),I20*K20/G20,"") -> 666.66667 | P20: =IF(AND(ISNUMBER(I20),ISNUMBER(G20),G20>0),I20*L20/G20,"") -> 666.66667 | Q20: =IF(AND(ISNUMBER(I20),ISNUMBER(G20),G20>0),I20*M20/G20,"") -> 666.66667
... C38: =IF(Plan!C38="","",Plan!C38) | D38: =IF(C38="","",Plan!D38) | E38: =IF(C38="","",Plan!H38) | F38: =IF(C38="","",IF(COUNTIFS(Parametry!$C$35:$C$46,E38)=1,INDEX(Parametry!$E$35:$E$46,MATCH(E38,Parametry!$C$35:$C$46,0)),"")) | G38: =IF(C38="","",IF(COUNTIFS(Parametry!$C$35:$C$46,E38)=1,INDEX(Parametry!$K$35:$K$46,MATCH(E38,Parametry!$C$35:$C$46,0)),"")) | H38: =IF(C38="","",Plan!I38) | I38: =IF(AND(C38<>"",Model!$E$6=1),SUMIFS(Model!$L$9:$L$368,Model!$C$9:$C$368,C38),"") | J38: =IF(C38="","",IF(COUNTIFS(Parametry!$C$35:$C$46,E38)=1,INDEX(Parametry!$G$35:$G$46,MATCH(E38,Parametry!$C$35:$C$46,0)),"")) | K38: =IF(C38="","",IF(COUNTIFS(Parametry!$C$35:$C$46,E38)=1,INDEX(Parametry!$H$35:$H$46,MATCH(E38,Parametry!$C$35:$C$46,0)),"")) | L38: =IF(C38="","",IF(COUNTIFS(Parametry!$C$35:$C$46,E38)=1,INDEX(Parametry!$I$35:$I$46,MATCH(E38,Parametry!$C$35:$C$46,0)),"")) | M38: =IF(C38="","",IF(COUNTIFS(Parametry!$C$35:$C$46,E38)=1,INDEX(Parametry!$J$35:$J$46,MATCH(E38,Parametry!$C$35:$C$46,0)),"")) | N38: =IF(AND(ISNUMBER(I38),ISNUMBER(G38),G38>0),I38*J38/G38,"") | O38: =IF(AND(ISNUMBER(I38),ISNUMBER(G38),G38>0),I38*K38/G38,"") | P38: =IF(AND(ISNUMBER(I38),ISNUMBER(G38),G38>0),I38*L38/G38,"") | Q38: =IF(AND(ISNUMBER(I38),ISNUMBER(G38),G38>0),I38*M38/G38,"")

Sheet Plan
C2: Plan zatwierdzony
C3: PRZYKŁAD HIPOTETYCZNY. Dane nie opisują rzeczywistej firmy.
C4: Wariant: | D4: =Parametry!$G$9 -> Bazowy
C8: ID | D8: Pozycja | E8: Właściciel | F8: Run / Change | G8: OpEx / CapEx | H8: Klucz alokacji | I8: Plan roczny | K8: =IF(Parametry!$G$6="","",DATE(Parametry!$G$6,1,1)) -> 46388 | L8: =IF(Parametry!$G$6="","",DATE(Parametry!$G$6,2,1)) -> 46419 | M8: =IF(Parametry!$G$6="","",DATE(Parametry!$G$6,3,1)) -> 46447 | N8: =IF(Parametry!$G$6="","",DATE(Parametry!$G$6,4,1)) -> 46478 | O8: =IF(Parametry!$G$6="","",DATE(Parametry!$G$6,5,1)) -> 46508 | P8: =IF(Parametry!$G$6="","",DATE(Parametry!$G$6,6,1)) -> 46539 | Q8: =IF(Parametry!$G$6="","",DATE(Parametry!$G$6,7,1)) -> 46569 | R8: =IF(Parametry!$G$6="","",DATE(Parametry!$G$6,8,1)) -> 46600 | S8: =IF(Parametry!$G$6="","",DATE(Parametry!$G$6,9,1)) -> 46631 | T8: =IF(Parametry!$G$6="","",DATE(Parametry!$G$6,10,1)) -> 46661 | U8: =IF(Parametry!$G$6="","",DATE(Parametry!$G$6,11,1)) -> 46692 | V8: =IF(Parametry!$G$6="","",DATE(Parametry!$G$6,12,1)) -> 46722 | X8: Błędy | Y8: Do poprawy
C9: IT01 | D9: Licencje stanowiskowe | E9: Workplace | F9: Run | G9: OpEx | H9: USERS | I9: =IF(C9="","",SUM(K9:V9)) -> 216000 | K9: 18000 | L9: 18000 | M9: 18000 | N9: 18000 | O9: 18000 | P9: 18000 | Q9: 18000 | R9: 18000 | S9: 18000 | T9: 18000 | U9: 18000 | V9: 18000 | X9: =IF(C9="",IF(COUNTA(D9:H9)+COUNT(K9:V9)>0,1,0),IF(OR(COUNTIFS($C$9:$C$38,C9)<>1,D9="",E9="",AND(F9<>"Run",F9<>"Change"),AND(G9<>"OpEx",G9<>"CapEx"),COUNTIFS(Parametry!$C$35:$C$46,H9)<>1,COUNT(K9:V9)<>12),1,0)) -> 0 | Y9: =IF(X9=0,"",IF(C9="","Brak ID",IF(COUNTIFS($C$9:$C$38,C9)<>1,"Duplikat ID",IF(COUNT(K9:V9)<>12,"Uzupełnij 12 miesięcy","Sprawdź opis, właściciela i klucz"))))
C10: IT02 | D10: Utrzymanie ERP | E10: Applications | F10: Run | G10: OpEx | H10: ERP | I10: =IF(C10="","",SUM(K10:V10)) -> 144000 | K10: 144000 | L10: 0 | M10: 0 | N10: 0 | O10: 0 | P10: 0 | Q10: 0 | R10: 0 | S10: 0 | T10: 0 | U10: 0 | V10: 0 | X10: =IF(C10="",IF(COUNTA(D10:H10)+COUNT(K10:V10)>0,1,0),IF(OR(COUNTIFS($C$9:$C$38,C10)<>1,D10="",E10="",AND(F10<>"Run",F10<>"Change"),AND(G10<>"OpEx",G10<>"CapEx"),COUNTIFS(Parametry!$C$35:$C$46,H10)<>1,COUNT(K10:V10)<>12),1,0)) -> 0 | Y10: =IF(X10=0,"",IF(C10="","Brak ID",IF(COUNTIFS($C$9:$C$38,C10)<>1,"Duplikat ID",IF(COUNT(K10:V10)<>12,"Uzupełnij 12 miesięcy","Sprawdź opis, właściciela i klucz"))))
C11: IT03 | D11: Backup i odtwarzanie | E11: Infrastructure | F11: Run | G11: OpEx | H11: STORAGE | I11: =IF(C11="","",SUM(K11:V11)) -> 36000 | K11: 3000 | L11: 3000 | M11: 3000 | N11: 3000 | O11: 3000 | P11: 3000 | Q11: 3000 | R11: 3000 | S11: 3000 | T11: 3000 | U11: 3000 | V11: 3000 | X11: =IF(C11="",IF(COUNTA(D11:H11)+COUNT(K11:V11)>0,1,0),IF(OR(COUNTIFS($C$9:$C$38,C11)<>1,D11="",E11="",AND(F11<>"Run",F11<>"Change"),AND(G11<>"OpEx",G11<>"CapEx"),COUNTIFS(Parametry!$C$35:$C$46,H11)<>1,COUNT(K11:V11)<>12),1,0)) -> 0 | Y11: =IF(X11=0,"",IF(C11="","Brak ID",IF(COUNTIFS($C$9:$C$38,C11)<>1,"Duplikat ID",IF(COUNT(K11:V11)<>12,"Uzupełnij 12 miesięcy","Sprawdź opis, właściciela i klucz"))))
C12: IT04 | D12: Ochrona środowiska | E12: Security | F12: Run | G12: OpEx | H12: USERS | I12: =IF(C12="","",SUM(K12:V12)) -> 60000 | K12: 5000 | L12: 5000 | M12: 5000 | N12: 5000 | O12: 5000 | P12: 5000 | Q12: 5000 | R12: 5000 | S12: 5000 | T12: 5000 | U12: 5000 | V12: 5000 | X12: =IF(C12="",IF(COUNTA(D12:H12)+COUNT(K12:V12)>0,1,0),IF(OR(COUNTIFS($C$9:$C$38,C12)<>1,D12="",E12="",AND(F12<>"Run",F12<>"Change"),AND(G12<>"OpEx",G12<>"CapEx"),COUNTIFS(Parametry!$C$35:$C$46,H12)<>1,COUNT(K12:V12)<>12),1,0)) -> 0 | Y12: =IF(X12=0,"",IF(C12="","Brak ID",IF(COUNTIFS($C$9:$C$38,C12)<>1,"Duplikat ID",IF(COUNT(K12:V12)<>12,"Uzupełnij 12 miesięcy","Sprawdź opis, właściciela i klucz"))))
C13: IT05 | D13: Odświeżenie sieci | E13: Infrastructure | F13: Run | G13: CapEx | H13: ASSETS | I13: =IF(C13="","",SUM(K13:V13)) -> 60000 | K13: 0 | L13: 0 | M13: 60000 | N13: 0 | O13: 0 | P13: 0 | Q13: 0 | R13: 0 | S13: 0 | T13: 0 | U13: 0 | V13: 0 | X13: =IF(C13="",IF(COUNTA(D13:H13)+COUNT(K13:V13)>0,1,0),IF(OR(COUNTIFS($C$9:$C$38,C13)<>1,D13="",E13="",AND(F13<>"Run",F13<>"Change"),AND(G13<>"OpEx",G13<>"CapEx"),COUNTIFS(Parametry!$C$35:$C$46,H13)<>1,COUNT(K13:V13)<>12),1,0)) -> 0 | Y13: =IF(X13=0,"",IF(C13="","Brak ID",IF(COUNTIFS($C$9:$C$38,C13)<>1,"Duplikat ID",IF(COUNT(K13:V13)<>12,"Uzupełnij 12 miesięcy","Sprawdź opis, właściciela i klucz"))))
C14: IT06 | D14: Projekt WMS | E14: Applications | F14: Change | G14: CapEx | H14: LOG | I14: =IF(C14="","",SUM(K14:V14)) -> 120000 | K14: 0 | L14: 0 | M14: 0 | N14: 40000 | O14: 0 | P14: 0 | Q14: 0 | R14: 0 | S14: 80000 | T14: 0 | U14: 0 | V14: 0 | X14: =IF(C14="",IF(COUNTA(D14:H14)+COUNT(K14:V14)>0,1,0),IF(OR(COUNTIFS($C$9:$C$38,C14)<>1,D14="",E14="",AND(F14<>"Run",F14<>"Change"),AND(G14<>"OpEx",G14<>"CapEx"),COUNTIFS(Parametry!$C$35:$C$46,H14)<>1,COUNT(K14:V14)<>12),1,0)) -> 0 | Y14: =IF(X14=0,"",IF(C14="","Brak ID",IF(COUNTIFS($C$9:$C$38,C14)<>1,"Duplikat ID",IF(COUNT(K14:V14)<>12,"Uzupełnij 12 miesięcy","Sprawdź opis, właściciela i klucz"))))
C15: IT07 | D15: Projekt MES | E15: Applications | F15: Change | G15: CapEx | H15: PROD | I15: =IF(C15="","",SUM(K15:V15)) -> 90000 | K15: 0 | L15: 0 | M15: 0 | N15: 0 | O15: 0 | P15: 0 | Q15: 0 | R15: 0 | S15: 0 | T15: 0 | U15: 90000 | V15: 0 | X15: =IF(C15="",IF(COUNTA(D15:H15)+COUNT(K15:V15)>0,1,0),IF(OR(COUNTIFS($C$9:$C$38,C15)<>1,D15="",E15="",AND(F15<>"Run",F15<>"Change"),AND(G15<>"OpEx",G15<>"CapEx"),COUNTIFS(Parametry!$C$35:$C$46,H15)<>1,COUNT(K15:V15)<>12),1,0)) -> 0 | Y15: =IF(X15=0,"",IF(C15="","Brak ID",IF(COUNTIFS($C$9:$C$38,C15)<>1,"Duplikat ID",IF(COUNT(K15:V15)<>12,"Uzupełnij 12 miesięcy","Sprawdź opis, właściciela i klucz"))))
C16: IT08 | D16: Usługi chmurowe | E16: Infrastructure | F16: Run | G16: OpEx | H16: STORAGE | I16: =IF(C16="","",SUM(K16:V16)) -> 72000 | K16: 6000 | L16: 6000 | M16: 6000 | N16: 6000 | O16: 6000 | P16: 6000 | Q16: 6000 | R16: 6000 | S16: 6000 | T16: 6000 | U16: 6000 | V16: 6000 | X16: =IF(C16="",IF(COUNTA(D16:H16)+COUNT(K16:V16)>0,1,0),IF(OR(COUNTIFS($C$9:$C$38,C16)<>1,D16="",E16="",AND(F16<>"Run",F16<>"Change"),AND(G16<>"OpEx",G16<>"CapEx"),COUNTIFS(Parametry!$C$35:$C$46,H16)<>1,COUNT(K16:V16)<>12),1,0)) -> 0 | Y16: =IF(X16=0,"",IF(C16="","Brak ID",IF(COUNTIFS($C$9:$C$38,C16)<>1,"Duplikat ID",IF(COUNT(K16:V16)<>12,"Uzupełnij 12 miesięcy","Sprawdź opis, właściciela i klucz"))))
C17: IT09 | D17: Zespół IT | E17: IT management | F17: Run | G17: OpEx | H17: HOURS | I17: =IF(C17="","",SUM(K17:V17)) -> 384000 | K17: 32000 | L17: 32000 | M17: 32000 | N17: 32000 | O17: 32000 | P17: 32000 | Q17: 32000 | R17: 32000 | S17: 32000 | T17: 32000 | U17: 32000 | V17: 32000 | X17: =IF(C17="",IF(COUNTA(D17:H17)+COUNT(K17:V17)>0,1,0),IF(OR(COUNTIFS($C$9:$C$38,C17)<>1,D17="",E17="",AND(F17<>"Run",F17<>"Change"),AND(G17<>"OpEx",G17<>"CapEx"),COUNTIFS(Parametry!$C$35:$C$46,H17)<>1,COUNT(K17:V17)<>12),1,0)) -> 0 | Y17: =IF(X17=0,"",IF(C17="","Brak ID",IF(COUNTIFS($C$9:$C$38,C17)<>1,"Duplikat ID",IF(COUNT(K17:V17)<>12,"Uzupełnij 12 miesięcy","Sprawdź opis, właściciela i klucz"))))
C18: IT10 | D18: Prace wydajnościowe ERP | E18: Applications | F18: Change | G18: OpEx | H18: PROD | I18: =IF(C18="","",SUM(K18:V18)) -> 18000 | K18: 0 | L18: 0 | M18: 0 | N18: 0 | O18: 18000 | P18: 0 | Q18: 0 | R18: 0 | S18: 0 | T18: 0 | U18: 0 | V18: 0 | X18: =IF(C18="",IF(COUNTA(D18:H18)+COUNT(K18:V18)>0,1,0),IF(OR(COUNTIFS($C$9:$C$38,C18)<>1,D18="",E18="",AND(F18<>"Run",F18<>"Change"),AND(G18<>"OpEx",G18<>"CapEx"),COUNTIFS(Parametry!$C$35:$C$46,H18)<>1,COUNT(K18:V18)<>12),1,0)) -> 0 | Y18: =IF(X18=0,"",IF(C18="","Brak ID",IF(COUNTIFS($C$9:$C$38,C18)<>1,"Duplikat ID",IF(COUNT(K18:V18)<>12,"Uzupełnij 12 miesięcy","Sprawdź opis, właściciela i klucz"))))
C19: IT11 | D19: Rozwój kompetencji | E19: IT management | F19: Run | G19: OpEx | H19: USERS | I19: =IF(C19="","",SUM(K19:V19)) -> 12000 | K19: 0 | L19: 0 | M19: 0 | N19: 0 | O19: 0 | P19: 0 | Q19: 0 | R19: 0 | S19: 0 | T19: 12000 | U19: 0 | V19: 0 | X19: =IF(C19="",IF(COUNTA(D19:H19)+COUNT(K19:V19)>0,1,0),IF(OR(COUNTIFS($C$9:$C$38,C19)<>1,D19="",E19="",AND(F19<>"Run",F19<>"Change"),AND(G19<>"OpEx",G19<>"CapEx"),COUNTIFS(Parametry!$C$35:$C$46,H19)<>1,COUNT(K19:V19)<>12),1,0)) -> 0 | Y19: =IF(X19=0,"",IF(C19="","Brak ID",IF(COUNTIFS($C$9:$C$38,C19)<>1,"Duplikat ID",IF(COUNT(K19:V19)<>12,"Uzupełnij 12 miesięcy","Sprawdź opis, właściciela i klucz"))))
C20: IT12 | D20: Rezerwa zarządcza | E20: IT management | F20: Run | G20: OpEx | H20: ASSETS | I20: =IF(C20="","",SUM(K20:V20)) -> 20000 | K20: 0 | L20: 0 | M20: 0 | N20: 0 | O20: 0 | P20: 0 | Q20: 0 | R20: 0 | S20: 0 | T20: 0 | U20: 0 | V20: 20000 | X20: =IF(C20="",IF(COUNTA(D20:H20)+COUNT(K20:V20)>0,1,0),IF(OR(COUNTIFS($C$9:$C$38,C20)<>1,D20="",E20="",AND(F20<>"Run",F20<>"Change"),AND(G20<>"OpEx",G20<>"CapEx"),COUNTIFS(Parametry!$C$35:$C$46,H20)<>1,COUNT(K20:V20)<>12),1,0)) -> 0 | Y20: =IF(X20=0,"",IF(C20="","Brak ID",IF(COUNTIFS($C$9:$C$38,C20)<>1,"Duplikat ID",IF(COUNT(K20:V20)<>12,"Uzupełnij 12 miesięcy","Sprawdź opis, właściciela i klucz"))))
C21: IT13 | D21: Praca poza planem | E21: Applications | F21: Change | G21: OpEx | H21: PROD | I21: =IF(C21="","",SUM(K21:V21)) -> 0 | K21: 0 | L21: 0 | M21: 0 | N21: 0 | O21: 0 | P21: 0 | Q21: 0 | R21: 0 | S21: 0 | T21: 0 | U21: 0 | V21: 0 | X21: =IF(C21="",IF(COUNTA(D21:H21)+COUNT(K21:V21)>0,1,0),IF(OR(COUNTIFS($C$9:$C$38,C21)<>1,D21="",E21="",AND(F21<>"Run",F21<>"Change"),AND(G21<>"OpEx",G21<>"CapEx"),COUNTIFS(Parametry!$C$35:$C$46,H21)<>1,COUNT(K21:V21)<>12),1,0)) -> 0 | Y21: =IF(X21=0,"",IF(C21="","Brak ID",IF(COUNTIFS($C$9:$C$38,C21)<>1,"Duplikat ID",IF(COUNT(K21:V21)<>12,"Uzupełnij 12 miesięcy","Sprawdź opis, właściciela i klucz"))))
I22: =IF(C22="","",SUM(K22:V22)) | X22: =IF(C22="",IF(COUNTA(D22:H22)+COUNT(K22:V22)>0,1,0),IF(OR(COUNTIFS($C$9:$C$38,C22)<>1,D22="",E22="",AND(F22<>"Run",F22<>"Change"),AND(G22<>"OpEx",G22<>"CapEx"),COUNTIFS(Parametry!$C$35:$C$46,H22)<>1,COUNT(K22:V22)<>12),1,0)) -> 0 | Y22: =IF(X22=0,"",IF(C22="","Brak ID",IF(COUNTIFS($C$9:$C$38,C22)<>1,"Duplikat ID",IF(COUNT(K22:V22)<>12,"Uzupełnij 12 miesięcy","Sprawdź opis, właściciela i klucz"))))
I23: =IF(C23="","",SUM(K23:V23)) | X23: =IF(C23="",IF(COUNTA(D23:H23)+COUNT(K23:V23)>0,1,0),IF(OR(COUNTIFS($C$9:$C$38,C23)<>1,D23="",E23="",AND(F23<>"Run",F23<>"Change"),AND(G23<>"OpEx",G23<>"CapEx"),COUNTIFS(Parametry!$C$35:$C$46,H23)<>1,COUNT(K23:V23)<>12),1,0)) -> 0 | Y23: =IF(X23=0,"",IF(C23="","Brak ID",IF(COUNTIFS($C$9:$C$38,C23)<>1,"Duplikat ID",IF(COUNT(K23:V23)<>12,"Uzupełnij 12 miesięcy","Sprawdź opis, właściciela i klucz"))))
I24: =IF(C24="","",SUM(K24:V24)) | X24: =IF(C24="",IF(COUNTA(D24:H24)+COUNT(K24:V24)>0,1,0),IF(OR(COUNTIFS($C$9:$C$38,C24)<>1,D24="",E24="",AND(F24<>"Run",F24<>"Change"),AND(G24<>"OpEx",G24<>"CapEx"),COUNTIFS(Parametry!$C$35:$C$46,H24)<>1,COUNT(K24:V24)<>12),1,0)) -> 0 | Y24: =IF(X24=0,"",IF(C24="","Brak ID",IF(COUNTIFS($C$9:$C$38,C24)<>1,"Duplikat ID",IF(COUNT(K24:V24)<>12,"Uzupełnij 12 miesięcy","Sprawdź opis, właściciela i klucz"))))
I25: =IF(C25="","",SUM(K25:V25)) | X25: =IF(C25="",IF(COUNTA(D25:H25)+COUNT(K25:V25)>0,1,0),IF(OR(COUNTIFS($C$9:$C$38,C25)<>1,D25="",E25="",AND(F25<>"Run",F25<>"Change"),AND(G25<>"OpEx",G25<>"CapEx"),COUNTIFS(Parametry!$C$35:$C$46,H25)<>1,COUNT(K25:V25)<>12),1,0)) -> 0 | Y25: =IF(X25=0,"",IF(C25="","Brak ID",IF(COUNTIFS($C$9:$C$38,C25)<>1,"Duplikat ID",IF(COUNT(K25:V25)<>12,"Uzupełnij 12 miesięcy","Sprawdź opis, właściciela i klucz"))))
I26: =IF(C26="","",SUM(K26:V26)) | X26: =IF(C26="",IF(COUNTA(D26:H26)+COUNT(K26:V26)>0,1,0),IF(OR(COUNTIFS($C$9:$C$38,C26)<>1,D26="",E26="",AND(F26<>"Run",F26<>"Change"),AND(G26<>"OpEx",G26<>"CapEx"),COUNTIFS(Parametry!$C$35:$C$46,H26)<>1,COUNT(K26:V26)<>12),1,0)) -> 0 | Y26: =IF(X26=0,"",IF(C26="","Brak ID",IF(COUNTIFS($C$9:$C$38,C26)<>1,"Duplikat ID",IF(COUNT(K26:V26)<>12,"Uzupełnij 12 miesięcy","Sprawdź opis, właściciela i klucz"))))
I27: =IF(C27="","",SUM(K27:V27)) | X27: =IF(C27="",IF(COUNTA(D27:H27)+COUNT(K27:V27)>0,1,0),IF(OR(COUNTIFS($C$9:$C$38,C27)<>1,D27="",E27="",AND(F27<>"Run",F27<>"Change"),AND(G27<>"OpEx",G27<>"CapEx"),COUNTIFS(Parametry!$C$35:$C$46,H27)<>1,COUNT(K27:V27)<>12),1,0)) -> 0 | Y27: =IF(X27=0,"",IF(C27="","Brak ID",IF(COUNTIFS($C$9:$C$38,C27)<>1,"Duplikat ID",IF(COUNT(K27:V27)<>12,"Uzupełnij 12 miesięcy","Sprawdź opis, właściciela i klucz"))))
I28: =IF(C28="","",SUM(K28:V28)) | X28: =IF(C28="",IF(COUNTA(D28:H28)+COUNT(K28:V28)>0,1,0),IF(OR(COUNTIFS($C$9:$C$38,C28)<>1,D28="",E28="",AND(F28<>"Run",F28<>"Change"),AND(G28<>"OpEx",G28<>"CapEx"),COUNTIFS(Parametry!$C$35:$C$46,H28)<>1,COUNT(K28:V28)<>12),1,0)) -> 0 | Y28: =IF(X28=0,"",IF(C28="","Brak ID",IF(COUNTIFS($C$9:$C$38,C28)<>1,"Duplikat ID",IF(COUNT(K28:V28)<>12,"Uzupełnij 12 miesięcy","Sprawdź opis, właściciela i klucz"))))
I29: =IF(C29="","",SUM(K29:V29)) | X29: =IF(C29="",IF(COUNTA(D29:H29)+COUNT(K29:V29)>0,1,0),IF(OR(COUNTIFS($C$9:$C$38,C29)<>1,D29="",E29="",AND(F29<>"Run",F29<>"Change"),AND(G29<>"OpEx",G29<>"CapEx"),COUNTIFS(Parametry!$C$35:$C$46,H29)<>1,COUNT(K29:V29)<>12),1,0)) -> 0 | Y29: =IF(X29=0,"",IF(C29="","Brak ID",IF(COUNTIFS($C$9:$C$38,C29)<>1,"Duplikat ID",IF(COUNT(K29:V29)<>12,"Uzupełnij 12 miesięcy","Sprawdź opis, właściciela i klucz"))))
I30: =IF(C30="","",SUM(K30:V30)) | X30: =IF(C30="",IF(COUNTA(D30:H30)+COUNT(K30:V30)>0,1,0),IF(OR(COUNTIFS($C$9:$C$38,C30)<>1,D30="",E30="",AND(F30<>"Run",F30<>"Change"),AND(G30<>"OpEx",G30<>"CapEx"),COUNTIFS(Parametry!$C$35:$C$46,H30)<>1,COUNT(K30:V30)<>12),1,0)) -> 0 | Y30: =IF(X30=0,"",IF(C30="","Brak ID",IF(COUNTIFS($C$9:$C$38,C30)<>1,"Duplikat ID",IF(COUNT(K30:V30)<>12,"Uzupełnij 12 miesięcy","Sprawdź opis, właściciela i klucz"))))
I31: =IF(C31="","",SUM(K31:V31)) | X31: =IF(C31="",IF(COUNTA(D31:H31)+COUNT(K31:V31)>0,1,0),IF(OR(COUNTIFS($C$9:$C$38,C31)<>1,D31="",E31="",AND(F31<>"Run",F31<>"Change"),AND(G31<>"OpEx",G31<>"CapEx"),COUNTIFS(Parametry!$C$35:$C$46,H31)<>1,COUNT(K31:V31)<>12),1,0)) -> 0 | Y31: =IF(X31=0,"",IF(C31="","Brak ID",IF(COUNTIFS($C$9:$C$38,C31)<>1,"Duplikat ID",IF(COUNT(K31:V31)<>12,"Uzupełnij 12 miesięcy","Sprawdź opis, właściciela i klucz"))))
I32: =IF(C32="","",SUM(K32:V32)) | X32: =IF(C32="",IF(COUNTA(D32:H32)+COUNT(K32:V32)>0,1,0),IF(OR(COUNTIFS($C$9:$C$38,C32)<>1,D32="",E32="",AND(F32<>"Run",F32<>"Change"),AND(G32<>"OpEx",G32<>"CapEx"),COUNTIFS(Parametry!$C$35:$C$46,H32)<>1,COUNT(K32:V32)<>12),1,0)) -> 0 | Y32: =IF(X32=0,"",IF(C32="","Brak ID",IF(COUNTIFS($C$9:$C$38,C32)<>1,"Duplikat ID",IF(COUNT(K32:V32)<>12,"Uzupełnij 12 miesięcy","Sprawdź opis, właściciela i klucz"))))
I33: =IF(C33="","",SUM(K33:V33)) | X33: =IF(C33="",IF(COUNTA(D33:H33)+COUNT(K33:V33)>0,1,0),IF(OR(COUNTIFS($C$9:$C$38,C33)<>1,D33="",E33="",AND(F33<>"Run",F33<>"Change"),AND(G33<>"OpEx",G33<>"CapEx"),COUNTIFS(Parametry!$C$35:$C$46,H33)<>1,COUNT(K33:V33)<>12),1,0)) -> 0 | Y33: =IF(X33=0,"",IF(C33="","Brak ID",IF(COUNTIFS($C$9:$C$38,C33)<>1,"Duplikat ID",IF(COUNT(K33:V33)<>12,"Uzupełnij 12 miesięcy","Sprawdź opis, właściciela i klucz"))))
... I38: =IF(C38="","",SUM(K38:V38)) | X38: =IF(C38="",IF(COUNTA(D38:H38)+COUNT(K38:V38)>0,1,0),IF(OR(COUNTIFS($C$9:$C$38,C38)<>1,D38="",E38="",AND(F38<>"Run",F38<>"Change"),AND(G38<>"OpEx",G38<>"CapEx"),COUNTIFS(Parametry!$C$35:$C$46,H38)<>1,COUNT(K38:V38)<>12),1,0)) -> 0 | Y38: =IF(X38=0,"",IF(C38="","Brak ID",IF(COUNTIFS($C$9:$C$38,C38)<>1,"Duplikat ID",IF(COUNT(K38:V38)<>12,"Uzupełnij 12 miesięcy","Sprawdź opis, właściciela i klucz"))))

Sheet Umowy
C2: Umowy i etapy zobowiązań
C3: PRZYKŁAD HIPOTETYCZNY. Dane nie opisują rzeczywistej firmy.
C4: Wariant: | D4: =Parametry!$G$9 -> Bazowy
C8: ID | D8: ID budżetu | E8: Partner | F8: Etap / zakres | G8: Termin ujęcia | H8: Kwota | I8: Zmiana zatwierdzona | J8: Odnowienie | K8: Termin decyzji | L8: Właściciel | M8: Rozliczone | N8: Otwarte | O8: Miesiąc prognozy | P8: Błędy | Q8: Do poprawy | R8: Odnowienie do przeglądu | S8: Ponad zobowiązanie
C9: IT01-7 | D9: IT01 | E9: Partner IT01 | F9: Etap 7 | G9: 46583 | H9: 18000 | I9: 0 | L9: IT owner | M9: =IF(C9="","",SUMIFS(ERP!$I$9:$I$1008,ERP!$F$9:$F$1008,C9,ERP!$N$9:$N$1008,1)) -> 0 | N9: =IF(C9="","",MAX(0,SUM(H9:I9)-M9)) -> 18000 | O9: =IF(OR(C9="",NOT(ISNUMBER(Parametry!$G$10)),NOT(ISNUMBER(G9))),0,IF(OR(N9=0,YEAR(G9)>Parametry!$G$6),0,IF(G9<=Parametry!$G$10,Parametry!$G$7+1,MONTH(G9)))) -> 7 | P9: =IF(C9="",IF(COUNTA(D9:L9)>0,1,0),IF(OR(COUNTIFS($C$9:$C$108,C9)<>1,COUNTIFS(Plan!$C$9:$C$38,D9)<>1,NOT(ISNUMBER(G9)),NOT(ISNUMBER(H9)),AND(I9<>"",NOT(ISNUMBER(I9))),SUM(H9:I9)<0,L9=""),1,0)) -> 0 | Q9: =IF(P9=0,"","Sprawdź ID, przypisanie, datę i kwotę") | R9: =IF(C9="","",IF(J9="","",IF(K9="","Brak terminu decyzji",IF(AND(ISNUMBER(Parametry!$G$10),K9<=Parametry!$G$10+Parametry!$G$11),"Sprawdź odnowienie","")))) | S9: =IF(C9="","",MAX(0,M9-SUM(H9:I9))) -> 0
C10: IT03-7 | D10: IT03 | E10: Partner IT03 | F10: Etap 7 | G10: 46583 | H10: 3000 | I10: 0 | L10: IT owner | M10: =IF(C10="","",SUMIFS(ERP!$I$9:$I$1008,ERP!$F$9:$F$1008,C10,ERP!$N$9:$N$1008,1)) -> 0 | N10: =IF(C10="","",MAX(0,SUM(H10:I10)-M10)) -> 3000 | O10: =IF(OR(C10="",NOT(ISNUMBER(Parametry!$G$10)),NOT(ISNUMBER(G10))),0,IF(OR(N10=0,YEAR(G10)>Parametry!$G$6),0,IF(G10<=Parametry!$G$10,Parametry!$G$7+1,MONTH(G10)))) -> 7 | P10: =IF(C10="",IF(COUNTA(D10:L10)>0,1,0),IF(OR(COUNTIFS($C$9:$C$108,C10)<>1,COUNTIFS(Plan!$C$9:$C$38,D10)<>1,NOT(ISNUMBER(G10)),NOT(ISNUMBER(H10)),AND(I10<>"",NOT(ISNUMBER(I10))),SUM(H10:I10)<0,L10=""),1,0)) -> 0 | Q10: =IF(P10=0,"","Sprawdź ID, przypisanie, datę i kwotę") | R10: =IF(C10="","",IF(J10="","",IF(K10="","Brak terminu decyzji",IF(AND(ISNUMBER(Parametry!$G$10),K10<=Parametry!$G$10+Parametry!$G$11),"Sprawdź odnowienie","")))) | S10: =IF(C10="","",MAX(0,M10-SUM(H10:I10))) -> 0
C11: IT04-7 | D11: IT04 | E11: Partner IT04 | F11: Etap 7 | G11: 46583 | H11: 5000 | I11: 0 | L11: IT owner | M11: =IF(C11="","",SUMIFS(ERP!$I$9:$I$1008,ERP!$F$9:$F$1008,C11,ERP!$N$9:$N$1008,1)) -> 0 | N11: =IF(C11="","",MAX(0,SUM(H11:I11)-M11)) -> 5000 | O11: =IF(OR(C11="",NOT(ISNUMBER(Parametry!$G$10)),NOT(ISNUMBER(G11))),0,IF(OR(N11=0,YEAR(G11)>Parametry!$G$6),0,IF(G11<=Parametry!$G$10,Parametry!$G$7+1,MONTH(G11)))) -> 7 | P11: =IF(C11="",IF(COUNTA(D11:L11)>0,1,0),IF(OR(COUNTIFS($C$9:$C$108,C11)<>1,COUNTIFS(Plan!$C$9:$C$38,D11)<>1,NOT(ISNUMBER(G11)),NOT(ISNUMBER(H11)),AND(I11<>"",NOT(ISNUMBER(I11))),SUM(H11:I11)<0,L11=""),1,0)) -> 0 | Q11: =IF(P11=0,"","Sprawdź ID, przypisanie, datę i kwotę") | R11: =IF(C11="","",IF(J11="","",IF(K11="","Brak terminu decyzji",IF(AND(ISNUMBER(Parametry!$G$10),K11<=Parametry!$G$10+Parametry!$G$11),"Sprawdź odnowienie","")))) | S11: =IF(C11="","",MAX(0,M11-SUM(H11:I11))) -> 0
C12: IT01-8 | D12: IT01 | E12: Partner IT01 | F12: Etap 8 | G12: 46614 | H12: 18000 | I12: 0 | L12: IT owner | M12: =IF(C12="","",SUMIFS(ERP!$I$9:$I$1008,ERP!$F$9:$F$1008,C12,ERP!$N$9:$N$1008,1)) -> 0 | N12: =IF(C12="","",MAX(0,SUM(H12:I12)-M12)) -> 18000 | O12: =IF(OR(C12="",NOT(ISNUMBER(Parametry!$G$10)),NOT(ISNUMBER(G12))),0,IF(OR(N12=0,YEAR(G12)>Parametry!$G$6),0,IF(G12<=Parametry!$G$10,Parametry!$G$7+1,MONTH(G12)))) -> 8 | P12: =IF(C12="",IF(COUNTA(D12:L12)>0,1,0),IF(OR(COUNTIFS($C$9:$C$108,C12)<>1,COUNTIFS(Plan!$C$9:$C$38,D12)<>1,NOT(ISNUMBER(G12)),NOT(ISNUMBER(H12)),AND(I12<>"",NOT(ISNUMBER(I12))),SUM(H12:I12)<0,L12=""),1,0)) -> 0 | Q12: =IF(P12=0,"","Sprawdź ID, przypisanie, datę i kwotę") | R12: =IF(C12="","",IF(J12="","",IF(K12="","Brak terminu decyzji",IF(AND(ISNUMBER(Parametry!$G$10),K12<=Parametry!$G$10+Parametry!$G$11),"Sprawdź odnowienie","")))) | S12: =IF(C12="","",MAX(0,M12-SUM(H12:I12))) -> 0
C13: IT03-8 | D13: IT03 | E13: Partner IT03 | F13: Etap 8 | G13: 46614 | H13: 3000 | I13: 0 | L13: IT owner | M13: =IF(C13="","",SUMIFS(ERP!$I$9:$I$1008,ERP!$F$9:$F$1008,C13,ERP!$N$9:$N$1008,1)) -> 0 | N13: =IF(C13="","",MAX(0,SUM(H13:I13)-M13)) -> 3000 | O13: =IF(OR(C13="",NOT(ISNUMBER(Parametry!$G$10)),NOT(ISNUMBER(G13))),0,IF(OR(N13=0,YEAR(G13)>Parametry!$G$6),0,IF(G13<=Parametry!$G$10,Parametry!$G$7+1,MONTH(G13)))) -> 8 | P13: =IF(C13="",IF(COUNTA(D13:L13)>0,1,0),IF(OR(COUNTIFS($C$9:$C$108,C13)<>1,COUNTIFS(Plan!$C$9:$C$38,D13)<>1,NOT(ISNUMBER(G13)),NOT(ISNUMBER(H13)),AND(I13<>"",NOT(ISNUMBER(I13))),SUM(H13:I13)<0,L13=""),1,0)) -> 0 | Q13: =IF(P13=0,"","Sprawdź ID, przypisanie, datę i kwotę") | R13: =IF(C13="","",IF(J13="","",IF(K13="","Brak terminu decyzji",IF(AND(ISNUMBER(Parametry!$G$10),K13<=Parametry!$G$10+Parametry!$G$11),"Sprawdź odnowienie","")))) | S13: =IF(C13="","",MAX(0,M13-SUM(H13:I13))) -> 0
C14: IT04-8 | D14: IT04 | E14: Partner IT04 | F14: Etap 8 | G14: 46614 | H14: 5000 | I14: 0 | L14: IT owner | M14: =IF(C14="","",SUMIFS(ERP!$I$9:$I$1008,ERP!$F$9:$F$1008,C14,ERP!$N$9:$N$1008,1)) -> 0 | N14: =IF(C14="","",MAX(0,SUM(H14:I14)-M14)) -> 5000 | O14: =IF(OR(C14="",NOT(ISNUMBER(Parametry!$G$10)),NOT(ISNUMBER(G14))),0,IF(OR(N14=0,YEAR(G14)>Parametry!$G$6),0,IF(G14<=Parametry!$G$10,Parametry!$G$7+1,MONTH(G14)))) -> 8 | P14: =IF(C14="",IF(COUNTA(D14:L14)>0,1,0),IF(OR(COUNTIFS($C$9:$C$108,C14)<>1,COUNTIFS(Plan!$C$9:$C$38,D14)<>1,NOT(ISNUMBER(G14)),NOT(ISNUMBER(H14)),AND(I14<>"",NOT(ISNUMBER(I14))),SUM(H14:I14)<0,L14=""),1,0)) -> 0 | Q14: =IF(P14=0,"","Sprawdź ID, przypisanie, datę i kwotę") | R14: =IF(C14="","",IF(J14="","",IF(K14="","Brak terminu decyzji",IF(AND(ISNUMBER(Parametry!$G$10),K14<=Parametry!$G$10+Parametry!$G$11),"Sprawdź odnowienie","")))) | S14: =IF(C14="","",MAX(0,M14-SUM(H14:I14))) -> 0
C15: IT01-9 | D15: IT01 | E15: Partner IT01 | F15: Etap 9 | G15: 46645 | H15: 18000 | I15: 0 | L15: IT owner | M15: =IF(C15="","",SUMIFS(ERP!$I$9:$I$1008,ERP!$F$9:$F$1008,C15,ERP!$N$9:$N$1008,1)) -> 0 | N15: =IF(C15="","",MAX(0,SUM(H15:I15)-M15)) -> 18000 | O15: =IF(OR(C15="",NOT(ISNUMBER(Parametry!$G$10)),NOT(ISNUMBER(G15))),0,IF(OR(N15=0,YEAR(G15)>Parametry!$G$6),0,IF(G15<=Parametry!$G$10,Parametry!$G$7+1,MONTH(G15)))) -> 9 | P15: =IF(C15="",IF(COUNTA(D15:L15)>0,1,0),IF(OR(COUNTIFS($C$9:$C$108,C15)<>1,COUNTIFS(Plan!$C$9:$C$38,D15)<>1,NOT(ISNUMBER(G15)),NOT(ISNUMBER(H15)),AND(I15<>"",NOT(ISNUMBER(I15))),SUM(H15:I15)<0,L15=""),1,0)) -> 0 | Q15: =IF(P15=0,"","Sprawdź ID, przypisanie, datę i kwotę") | R15: =IF(C15="","",IF(J15="","",IF(K15="","Brak terminu decyzji",IF(AND(ISNUMBER(Parametry!$G$10),K15<=Parametry!$G$10+Parametry!$G$11),"Sprawdź odnowienie","")))) | S15: =IF(C15="","",MAX(0,M15-SUM(H15:I15))) -> 0
C16: IT03-9 | D16: IT03 | E16: Partner IT03 | F16: Etap 9 | G16: 46645 | H16: 3000 | I16: 0 | L16: IT owner | M16: =IF(C16="","",SUMIFS(ERP!$I$9:$I$1008,ERP!$F$9:$F$1008,C16,ERP!$N$9:$N$1008,1)) -> 0 | N16: =IF(C16="","",MAX(0,SUM(H16:I16)-M16)) -> 3000 | O16: =IF(OR(C16="",NOT(ISNUMBER(Parametry!$G$10)),NOT(ISNUMBER(G16))),0,IF(OR(N16=0,YEAR(G16)>Parametry!$G$6),0,IF(G16<=Parametry!$G$10,Parametry!$G$7+1,MONTH(G16)))) -> 9 | P16: =IF(C16="",IF(COUNTA(D16:L16)>0,1,0),IF(OR(COUNTIFS($C$9:$C$108,C16)<>1,COUNTIFS(Plan!$C$9:$C$38,D16)<>1,NOT(ISNUMBER(G16)),NOT(ISNUMBER(H16)),AND(I16<>"",NOT(ISNUMBER(I16))),SUM(H16:I16)<0,L16=""),1,0)) -> 0 | Q16: =IF(P16=0,"","Sprawdź ID, przypisanie, datę i kwotę") | R16: =IF(C16="","",IF(J16="","",IF(K16="","Brak terminu decyzji",IF(AND(ISNUMBER(Parametry!$G$10),K16<=Parametry!$G$10+Parametry!$G$11),"Sprawdź odnowienie","")))) | S16: =IF(C16="","",MAX(0,M16-SUM(H16:I16))) -> 0
C17: IT04-9 | D17: IT04 | E17: Partner IT04 | F17: Etap 9 | G17: 46645 | H17: 5000 | I17: 0 | L17: IT owner | M17: =IF(C17="","",SUMIFS(ERP!$I$9:$I$1008,ERP!$F$9:$F$1008,C17,ERP!$N$9:$N$1008,1)) -> 0 | N17: =IF(C17="","",MAX(0,SUM(H17:I17)-M17)) -> 5000 | O17: =IF(OR(C17="",NOT(ISNUMBER(Parametry!$G$10)),NOT(ISNUMBER(G17))),0,IF(OR(N17=0,YEAR(G17)>Parametry!$G$6),0,IF(G17<=Parametry!$G$10,Parametry!$G$7+1,MONTH(G17)))) -> 9 | P17: =IF(C17="",IF(COUNTA(D17:L17)>0,1,0),IF(OR(COUNTIFS($C$9:$C$108,C17)<>1,COUNTIFS(Plan!$C$9:$C$38,D17)<>1,NOT(ISNUMBER(G17)),NOT(ISNUMBER(H17)),AND(I17<>"",NOT(ISNUMBER(I17))),SUM(H17:I17)<0,L17=""),1,0)) -> 0 | Q17: =IF(P17=0,"","Sprawdź ID, przypisanie, datę i kwotę") | R17: =IF(C17="","",IF(J17="","",IF(K17="","Brak terminu decyzji",IF(AND(ISNUMBER(Parametry!$G$10),K17<=Parametry!$G$10+Parametry!$G$11),"Sprawdź odnowienie","")))) | S17: =IF(C17="","",MAX(0,M17-SUM(H17:I17))) -> 0
C18: IT01-10 | D18: IT01 | E18: Partner IT01 | F18: Etap 10 | G18: 46675 | H18: 18000 | I18: 0 | L18: IT owner | M18: =IF(C18="","",SUMIFS(ERP!$I$9:$I$1008,ERP!$F$9:$F$1008,C18,ERP!$N$9:$N$1008,1)) -> 0 | N18: =IF(C18="","",MAX(0,SUM(H18:I18)-M18)) -> 18000 | O18: =IF(OR(C18="",NOT(ISNUMBER(Parametry!$G$10)),NOT(ISNUMBER(G18))),0,IF(OR(N18=0,YEAR(G18)>Parametry!$G$6),0,IF(G18<=Parametry!$G$10,Parametry!$G$7+1,MONTH(G18)))) -> 10 | P18: =IF(C18="",IF(COUNTA(D18:L18)>0,1,0),IF(OR(COUNTIFS($C$9:$C$108,C18)<>1,COUNTIFS(Plan!$C$9:$C$38,D18)<>1,NOT(ISNUMBER(G18)),NOT(ISNUMBER(H18)),AND(I18<>"",NOT(ISNUMBER(I18))),SUM(H18:I18)<0,L18=""),1,0)) -> 0 | Q18: =IF(P18=0,"","Sprawdź ID, przypisanie, datę i kwotę") | R18: =IF(C18="","",IF(J18="","",IF(K18="","Brak terminu decyzji",IF(AND(ISNUMBER(Parametry!$G$10),K18<=Parametry!$G$10+Parametry!$G$11),"Sprawdź odnowienie","")))) | S18: =IF(C18="","",MAX(0,M18-SUM(H18:I18))) -> 0
C19: IT03-10 | D19: IT03 | E19: Partner IT03 | F19: Etap 10 | G19: 46675 | H19: 3000 | I19: 0 | L19: IT owner | M19: =IF(C19="","",SUMIFS(ERP!$I$9:$I$1008,ERP!$F$9:$F$1008,C19,ERP!$N$9:$N$1008,1)) -> 0 | N19: =IF(C19="","",MAX(0,SUM(H19:I19)-M19)) -> 3000 | O19: =IF(OR(C19="",NOT(ISNUMBER(Parametry!$G$10)),NOT(ISNUMBER(G19))),0,IF(OR(N19=0,YEAR(G19)>Parametry!$G$6),0,IF(G19<=Parametry!$G$10,Parametry!$G$7+1,MONTH(G19)))) -> 10 | P19: =IF(C19="",IF(COUNTA(D19:L19)>0,1,0),IF(OR(COUNTIFS($C$9:$C$108,C19)<>1,COUNTIFS(Plan!$C$9:$C$38,D19)<>1,NOT(ISNUMBER(G19)),NOT(ISNUMBER(H19)),AND(I19<>"",NOT(ISNUMBER(I19))),SUM(H19:I19)<0,L19=""),1,0)) -> 0 | Q19: =IF(P19=0,"","Sprawdź ID, przypisanie, datę i kwotę") | R19: =IF(C19="","",IF(J19="","",IF(K19="","Brak terminu decyzji",IF(AND(ISNUMBER(Parametry!$G$10),K19<=Parametry!$G$10+Parametry!$G$11),"Sprawdź odnowienie","")))) | S19: =IF(C19="","",MAX(0,M19-SUM(H19:I19))) -> 0
C20: IT04-10 | D20: IT04 | E20: Partner IT04 | F20: Etap 10 | G20: 46675 | H20: 5000 | I20: 0 | L20: IT owner | M20: =IF(C20="","",SUMIFS(ERP!$I$9:$I$1008,ERP!$F$9:$F$1008,C20,ERP!$N$9:$N$1008,1)) -> 0 | N20: =IF(C20="","",MAX(0,SUM(H20:I20)-M20)) -> 5000 | O20: =IF(OR(C20="",NOT(ISNUMBER(Parametry!$G$10)),NOT(ISNUMBER(G20))),0,IF(OR(N20=0,YEAR(G20)>Parametry!$G$6),0,IF(G20<=Parametry!$G$10,Parametry!$G$7+1,MONTH(G20)))) -> 10 | P20: =IF(C20="",IF(COUNTA(D20:L20)>0,1,0),IF(OR(COUNTIFS($C$9:$C$108,C20)<>1,COUNTIFS(Plan!$C$9:$C$38,D20)<>1,NOT(ISNUMBER(G20)),NOT(ISNUMBER(H20)),AND(I20<>"",NOT(ISNUMBER(I20))),SUM(H20:I20)<0,L20=""),1,0)) -> 0 | Q20: =IF(P20=0,"","Sprawdź ID, przypisanie, datę i kwotę") | R20: =IF(C20="","",IF(J20="","",IF(K20="","Brak terminu decyzji",IF(AND(ISNUMBER(Parametry!$G$10),K20<=Parametry!$G$10+Parametry!$G$11),"Sprawdź odnowienie","")))) | S20: =IF(C20="","",MAX(0,M20-SUM(H20:I20))) -> 0
... C26: IT04-12 | D26: IT04 | E26: Partner IT04 | F26: Etap 12 | G26: 46736 | H26: 5000 | I26: 0 | L26: IT owner | M26: =IF(C26="","",SUMIFS(ERP!$I$9:$I$1008,ERP!$F$9:$F$1008,C26,ERP!$N$9:$N$1008,1)) -> 0 | N26: =IF(C26="","",MAX(0,SUM(H26:I26)-M26)) -> 5000 | O26: =IF(OR(C26="",NOT(ISNUMBER(Parametry!$G$10)),NOT(ISNUMBER(G26))),0,IF(OR(N26=0,YEAR(G26)>Parametry!$G$6),0,IF(G26<=Parametry!$G$10,Parametry!$G$7+1,MONTH(G26)))) -> 12 | P26: =IF(C26="",IF(COUNTA(D26:L26)>0,1,0),IF(OR(COUNTIFS($C$9:$C$108,C26)<>1,COUNTIFS(Plan!$C$9:$C$38,D26)<>1,NOT(ISNUMBER(G26)),NOT(ISNUMBER(H26)),AND(I26<>"",NOT(ISNUMBER(I26))),SUM(H26:I26)<0,L26=""),1,0)) -> 0 | Q26: =IF(P26=0,"","Sprawdź ID, przypisanie, datę i kwotę") | R26: =IF(C26="","",IF(J26="","",IF(K26="","Brak terminu decyzji",IF(AND(ISNUMBER(Parametry!$G$10),K26<=Parametry!$G$10+Parametry!$G$11),"Sprawdź odnowienie","")))) | S26: =IF(C26="","",MAX(0,M26-SUM(H26:I26))) -> 0
C27: ERP-ANNUAL | D27: IT02 | E27: Partner ERP | F27: Annual support | G27: 46402 | H27: 144000 | I27: 0 | J27: 46753 | K27: 46660 | L27: Applications | M27: =IF(C27="","",SUMIFS(ERP!$I$9:$I$1008,ERP!$F$9:$F$1008,C27,ERP!$N$9:$N$1008,1)) -> 118000 | N27: =IF(C27="","",MAX(0,SUM(H27:I27)-M27)) -> 26000 | O27: =IF(OR(C27="",NOT(ISNUMBER(Parametry!$G$10)),NOT(ISNUMBER(G27))),0,IF(OR(N27=0,YEAR(G27)>Parametry!$G$6),0,IF(G27<=Parametry!$G$10,Parametry!$G$7+1,MONTH(G27)))) -> 7 | P27: =IF(C27="",IF(COUNTA(D27:L27)>0,1,0),IF(OR(COUNTIFS($C$9:$C$108,C27)<>1,COUNTIFS(Plan!$C$9:$C$38,D27)<>1,NOT(ISNUMBER(G27)),NOT(ISNUMBER(H27)),AND(I27<>"",NOT(ISNUMBER(I27))),SUM(H27:I27)<0,L27=""),1,0)) -> 0 | Q27: =IF(P27=0,"","Sprawdź ID, przypisanie, datę i kwotę") | R27: =IF(C27="","",IF(J27="","",IF(K27="","Brak terminu decyzji",IF(AND(ISNUMBER(Parametry!$G$10),K27<=Parametry!$G$10+Parametry!$G$11),"Sprawdź odnowienie","")))) | S27: =IF(C27="","",MAX(0,M27-SUM(H27:I27))) -> 0
C28: WMS-2 | D28: IT06 | E28: Partner WMS | F28: Acceptance milestone | G28: 46645 | H28: 80000 | I28: 0 | L28: Applications | M28: =IF(C28="","",SUMIFS(ERP!$I$9:$I$1008,ERP!$F$9:$F$1008,C28,ERP!$N$9:$N$1008,1)) -> 0 | N28: =IF(C28="","",MAX(0,SUM(H28:I28)-M28)) -> 80000 | O28: =IF(OR(C28="",NOT(ISNUMBER(Parametry!$G$10)),NOT(ISNUMBER(G28))),0,IF(OR(N28=0,YEAR(G28)>Parametry!$G$6),0,IF(G28<=Parametry!$G$10,Parametry!$G$7+1,MONTH(G28)))) -> 9 | P28: =IF(C28="",IF(COUNTA(D28:L28)>0,1,0),IF(OR(COUNTIFS($C$9:$C$108,C28)<>1,COUNTIFS(Plan!$C$9:$C$38,D28)<>1,NOT(ISNUMBER(G28)),NOT(ISNUMBER(H28)),AND(I28<>"",NOT(ISNUMBER(I28))),SUM(H28:I28)<0,L28=""),1,0)) -> 0 | Q28: =IF(P28=0,"","Sprawdź ID, przypisanie, datę i kwotę") | R28: =IF(C28="","",IF(J28="","",IF(K28="","Brak terminu decyzji",IF(AND(ISNUMBER(Parametry!$G$10),K28<=Parametry!$G$10+Parametry!$G$11),"Sprawdź odnowienie","")))) | S28: =IF(C28="","",MAX(0,M28-SUM(H28:I28))) -> 0
C29: MES-NEXT | D29: IT07 | E29: Partner MES | F29: Next-year milestone | G29: 46767 | H29: 90000 | I29: 0 | L29: Applications | M29: =IF(C29="","",SUMIFS(ERP!$I$9:$I$1008,ERP!$F$9:$F$1008,C29,ERP!$N$9:$N$1008,1)) -> 0 | N29: =IF(C29="","",MAX(0,SUM(H29:I29)-M29)) -> 90000 | O29: =IF(OR(C29="",NOT(ISNUMBER(Parametry!$G$10)),NOT(ISNUMBER(G29))),0,IF(OR(N29=0,YEAR(G29)>Parametry!$G$6),0,IF(G29<=Parametry!$G$10,Parametry!$G$7+1,MONTH(G29)))) -> 0 | P29: =IF(C29="",IF(COUNTA(D29:L29)>0,1,0),IF(OR(COUNTIFS($C$9:$C$108,C29)<>1,COUNTIFS(Plan!$C$9:$C$38,D29)<>1,NOT(ISNUMBER(G29)),NOT(ISNUMBER(H29)),AND(I29<>"",NOT(ISNUMBER(I29))),SUM(H29:I29)<0,L29=""),1,0)) -> 0 | Q29: =IF(P29=0,"","Sprawdź ID, przypisanie, datę i kwotę") | R29: =IF(C29="","",IF(J29="","",IF(K29="","Brak terminu decyzji",IF(AND(ISNUMBER(Parametry!$G$10),K29<=Parametry!$G$10+Parametry!$G$11),"Sprawdź odnowienie","")))) | S29: =IF(C29="","",MAX(0,M29-SUM(H29:I29))) -> 0
M30: =IF(C30="","",SUMIFS(ERP!$I$9:$I$1008,ERP!$F$9:$F$1008,C30,ERP!$N$9:$N$1008,1)) | N30: =IF(C30="","",MAX(0,SUM(H30:I30)-M30)) | O30: =IF(OR(C30="",NOT(ISNUMBER(Parametry!$G$10)),NOT(ISNUMBER(G30))),0,IF(OR(N30=0,YEAR(G30)>Parametry!$G$6),0,IF(G30<=Parametry!$G$10,Parametry!$G$7+1,MONTH(G30)))) -> 0 | P30: =IF(C30="",IF(COUNTA(D30:L30)>0,1,0),IF(OR(COUNTIFS($C$9:$C$108,C30)<>1,COUNTIFS(Plan!$C$9:$C$38,D30)<>1,NOT(ISNUMBER(G30)),NOT(ISNUMBER(H30)),AND(I30<>"",NOT(ISNUMBER(I30))),SUM(H30:I30)<0,L30=""),1,0)) -> 0 | Q30: =IF(P30=0,"","Sprawdź ID, przypisanie, datę i kwotę") | R30: =IF(C30="","",IF(J30="","",IF(K30="","Brak terminu decyzji",IF(AND(ISNUMBER(Parametry!$G$10),K30<=Parametry!$G$10+Parametry!$G$11),"Sprawdź odnowienie","")))) | S30: =IF(C30="","",MAX(0,M30-SUM(H30:I30)))
M31: =IF(C31="","",SUMIFS(ERP!$I$9:$I$1008,ERP!$F$9:$F$1008,C31,ERP!$N$9:$N$1008,1)) | N31: =IF(C31="","",MAX(0,SUM(H31:I31)-M31)) | O31: =IF(OR(C31="",NOT(ISNUMBER(Parametry!$G$10)),NOT(ISNUMBER(G31))),0,IF(OR(N31=0,YEAR(G31)>Parametry!$G$6),0,IF(G31<=Parametry!$G$10,Parametry!$G$7+1,MONTH(G31)))) -> 0 | P31: =IF(C31="",IF(COUNTA(D31:L31)>0,1,0),IF(OR(COUNTIFS($C$9:$C$108,C31)<>1,COUNTIFS(Plan!$C$9:$C$38,D31)<>1,NOT(ISNUMBER(G31)),NOT(ISNUMBER(H31)),AND(I31<>"",NOT(ISNUMBER(I31))),SUM(H31:I31)<0,L31=""),1,0)) -> 0 | Q31: =IF(P31=0,"","Sprawdź ID, przypisanie, datę i kwotę") | R31: =IF(C31="","",IF(J31="","",IF(K31="","Brak terminu decyzji",IF(AND(ISNUMBER(Parametry!$G$10),K31<=Parametry!$G$10+Parametry!$G$11),"Sprawdź odnowienie","")))) | S31: =IF(C31="","",MAX(0,M31-SUM(H31:I31)))
M32: =IF(C32="","",SUMIFS(ERP!$I$9:$I$1008,ERP!$F$9:$F$1008,C32,ERP!$N$9:$N$1008,1)) | N32: =IF(C32="","",MAX(0,SUM(H32:I32)-M32)) | O32: =IF(OR(C32="",NOT(ISNUMBER(Parametry!$G$10)),NOT(ISNUMBER(G32))),0,IF(OR(N32=0,YEAR(G32)>Parametry!$G$6),0,IF(G32<=Parametry!$G$10,Parametry!$G$7+1,MONTH(G32)))) -> 0 | P32: =IF(C32="",IF(COUNTA(D32:L32)>0,1,0),IF(OR(COUNTIFS($C$9:$C$108,C32)<>1,COUNTIFS(Plan!$C$9:$C$38,D32)<>1,NOT(ISNUMBER(G32)),NOT(ISNUMBER(H32)),AND(I32<>"",NOT(ISNUMBER(I32))),SUM(H32:I32)<0,L32=""),1,0)) -> 0 | Q32: =IF(P32=0,"","Sprawdź ID, przypisanie, datę i kwotę") | R32: =IF(C32="","",IF(J32="","",IF(K32="","Brak terminu decyzji",IF(AND(ISNUMBER(Parametry!$G$10),K32<=Parametry!$G$10+Parametry!$G$11),"Sprawdź odnowienie","")))) | S32: =IF(C32="","",MAX(0,M32-SUM(H32:I32)))
M33: =IF(C33="","",SUMIFS(ERP!$I$9:$I$1008,ERP!$F$9:$F$1008,C33,ERP!$N$9:$N$1008,1)) | N33: =IF(C33="","",MAX(0,SUM(H33:I33)-M33)) | O33: =IF(OR(C33="",NOT(ISNUMBER(Parametry!$G$10)),NOT(ISNUMBER(G33))),0,IF(OR(N33=0,YEAR(G33)>Parametry!$G$6),0,IF(G33<=Parametry!$G$10,Parametry!$G$7+1,MONTH(G33)))) -> 0 | P33: =IF(C33="",IF(COUNTA(D33:L33)>0,1,0),IF(OR(COUNTIFS($C$9:$C$108,C33)<>1,COUNTIFS(Plan!$C$9:$C$38,D33)<>1,NOT(ISNUMBER(G33)),NOT(ISNUMBER(H33)),AND(I33<>"",NOT(ISNUMBER(I33))),SUM(H33:I33)<0,L33=""),1,0)) -> 0 | Q33: =IF(P33=0,"","Sprawdź ID, przypisanie, datę i kwotę") | R33: =IF(C33="","",IF(J33="","",IF(K33="","Brak terminu decyzji",IF(AND(ISNUMBER(Parametry!$G$10),K33<=Parametry!$G$10+Parametry!$G$11),"Sprawdź odnowienie","")))) | S33: =IF(C33="","",MAX(0,M33-SUM(H33:I33)))
M34: =IF(C34="","",SUMIFS(ERP!$I$9:$I$1008,ERP!$F$9:$F$1008,C34,ERP!$N$9:$N$1008,1)) | N34: =IF(C34="","",MAX(0,SUM(H34:I34)-M34)) | O34: =IF(OR(C34="",NOT(ISNUMBER(Parametry!$G$10)),NOT(ISNUMBER(G34))),0,IF(OR(N34=0,YEAR(G34)>Parametry!$G$6),0,IF(G34<=Parametry!$G$10,Parametry!$G$7+1,MONTH(G34)))) -> 0 | P34: =IF(C34="",IF(COUNTA(D34:L34)>0,1,0),IF(OR(COUNTIFS($C$9:$C$108,C34)<>1,COUNTIFS(Plan!$C$9:$C$38,D34)<>1,NOT(ISNUMBER(G34)),NOT(ISNUMBER(H34)),AND(I34<>"",NOT(ISNUMBER(I34))),SUM(H34:I34)<0,L34=""),1,0)) -> 0 | Q34: =IF(P34=0,"","Sprawdź ID, przypisanie, datę i kwotę") | R34: =IF(C34="","",IF(J34="","",IF(K34="","Brak terminu decyzji",IF(AND(ISNUMBER(Parametry!$G$10),K34<=Parametry!$G$10+Parametry!$G$11),"Sprawdź odnowienie","")))) | S34: =IF(C34="","",MAX(0,M34-SUM(H34:I34)))
M35: =IF(C35="","",SUMIFS(ERP!$I$9:$I$1008,ERP!$F$9:$F$1008,C35,ERP!$N$9:$N$1008,1)) | N35: =IF(C35="","",MAX(0,SUM(H35:I35)-M35)) | O35: =IF(OR(C35="",NOT(ISNUMBER(Parametry!$G$10)),NOT(ISNUMBER(G35))),0,IF(OR(N35=0,YEAR(G35)>Parametry!$G$6),0,IF(G35<=Parametry!$G$10,Parametry!$G$7+1,MONTH(G35)))) -> 0 | P35: =IF(C35="",IF(COUNTA(D35:L35)>0,1,0),IF(OR(COUNTIFS($C$9:$C$108,C35)<>1,COUNTIFS(Plan!$C$9:$C$38,D35)<>1,NOT(ISNUMBER(G35)),NOT(ISNUMBER(H35)),AND(I35<>"",NOT(ISNUMBER(I35))),SUM(H35:I35)<0,L35=""),1,0)) -> 0 | Q35: =IF(P35=0,"","Sprawdź ID, przypisanie, datę i kwotę") | R35: =IF(C35="","",IF(J35="","",IF(K35="","Brak terminu decyzji",IF(AND(ISNUMBER(Parametry!$G$10),K35<=Parametry!$G$10+Parametry!$G$11),"Sprawdź odnowienie","")))) | S35: =IF(C35="","",MAX(0,M35-SUM(H35:I35)))
M36: =IF(C36="","",SUMIFS(ERP!$I$9:$I$1008,ERP!$F$9:$F$1008,C36,ERP!$N$9:$N$1008,1)) | N36: =IF(C36="","",MAX(0,SUM(H36:I36)-M36)) | O36: =IF(OR(C36="",NOT(ISNUMBER(Parametry!$G$10)),NOT(ISNUMBER(G36))),0,IF(OR(N36=0,YEAR(G36)>Parametry!$G$6),0,IF(G36<=Parametry!$G$10,Parametry!$G$7+1,MONTH(G36)))) -> 0 | P36: =IF(C36="",IF(COUNTA(D36:L36)>0,1,0),IF(OR(COUNTIFS($C$9:$C$108,C36)<>1,COUNTIFS(Plan!$C$9:$C$38,D36)<>1,NOT(ISNUMBER(G36)),NOT(ISNUMBER(H36)),AND(I36<>"",NOT(ISNUMBER(I36))),SUM(H36:I36)<0,L36=""),1,0)) -> 0 | Q36: =IF(P36=0,"","Sprawdź ID, przypisanie, datę i kwotę") | R36: =IF(C36="","",IF(J36="","",IF(K36="","Brak terminu decyzji",IF(AND(ISNUMBER(Parametry!$G$10),K36<=Parametry!$G$10+Parametry!$G$11),"Sprawdź odnowienie","")))) | S36: =IF(C36="","",MAX(0,M36-SUM(H36:I36)))
M37: =IF(C37="","",SUMIFS(ERP!$I$9:$I$1008,ERP!$F$9:$F$1008,C37,ERP!$N$9:$N$1008,1)) | N37: =IF(C37="","",MAX(0,SUM(H37:I37)-M37)) | O37: =IF(OR(C37="",NOT(ISNUMBER(Parametry!$G$10)),NOT(ISNUMBER(G37))),0,IF(OR(N37=0,YEAR(G37)>Parametry!$G$6),0,IF(G37<=Parametry!$G$10,Parametry!$G$7+1,MONTH(G37)))) -> 0 | P37: =IF(C37="",IF(COUNTA(D37:L37)>0,1,0),IF(OR(COUNTIFS($C$9:$C$108,C37)<>1,COUNTIFS(Plan!$C$9:$C$38,D37)<>1,NOT(ISNUMBER(G37)),NOT(ISNUMBER(H37)),AND(I37<>"",NOT(ISNUMBER(I37))),SUM(H37:I37)<0,L37=""),1,0)) -> 0 | Q37: =IF(P37=0,"","Sprawdź ID, przypisanie, datę i kwotę") | R37: =IF(C37="","",IF(J37="","",IF(K37="","Brak terminu decyzji",IF(AND(ISNUMBER(Parametry!$G$10),K37<=Parametry!$G$10+Parametry!$G$11),"Sprawdź odnowienie","")))) | S37: =IF(C37="","",MAX(0,M37-SUM(H37:I37)))
M38: =IF(C38="","",SUMIFS(ERP!$I$9:$I$1008,ERP!$F$9:$F$1008,C38,ERP!$N$9:$N$1008,1)) | N38: =IF(C38="","",MAX(0,SUM(H38:I38)-M38)) | O38: =IF(OR(C38="",NOT(ISNUMBER(Parametry!$G$10)),NOT(ISNUMBER(G38))),0,IF(OR(N38=0,YEAR(G38)>Parametry!$G$6),0,IF(G38<=Parametry!$G$10,Parametry!$G$7+1,MONTH(G38)))) -> 0 | P38: =IF(C38="",IF(COUNTA(D38:L38)>0,1,0),IF(OR(COUNTIFS($C$9:$C$108,C38)<>1,COUNTIFS(Plan!$C$9:$C$38,D38)<>1,NOT(ISNUMBER(G38)),NOT(ISNUMBER(H38)),AND(I38<>"",NOT(ISNUMBER(I38))),SUM(H38:I38)<0,L38=""),1,0)) -> 0 | Q38: =IF(P38=0,"","Sprawdź ID, przypisanie, datę i kwotę") | R38: =IF(C38="","",IF(J38="","",IF(K38="","Brak terminu decyzji",IF(AND(ISNUMBER(Parametry!$G$10),K38<=Parametry!$G$10+Parametry!$G$11),"Sprawdź odnowienie","")))) | S38: =IF(C38="","",MAX(0,M38-SUM(H38:I38)))
M39: =IF(C39="","",SUMIFS(ERP!$I$9:$I$1008,ERP!$F$9:$F$1008,C39,ERP!$N$9:$N$1008,1)) | N39: =IF(C39="","",MAX(0,SUM(H39:I39)-M39)) | O39: =IF(OR(C39="",NOT(ISNUMBER(Parametry!$G$10)),NOT(ISNUMBER(G39))),0,IF(OR(N39=0,YEAR(G39)>Parametry!$G$6),0,IF(G39<=Parametry!$G$10,Parametry!$G$7+1,MONTH(G39)))) -> 0 | P39: =IF(C39="",IF(COUNTA(D39:L39)>0,1,0),IF(OR(COUNTIFS($C$9:$C$108,C39)<>1,COUNTIFS(Plan!$C$9:$C$38,D39)<>1,NOT(ISNUMBER(G39)),NOT(ISNUMBER(H39)),AND(I39<>"",NOT(ISNUMBER(I39))),SUM(H39:I39)<0,L39=""),1,0)) -> 0 | Q39: =IF(P39=0,"","Sprawdź ID, przypisanie, datę i kwotę") | R39: =IF(C39="","",IF(J39="","",IF(K39="","Brak terminu decyzji",IF(AND(ISNUMBER(Parametry!$G$10),K39<=Parametry!$G$10+Parametry!$G$11),"Sprawdź odnowienie","")))) | S39: =IF(C39="","",MAX(0,M39-SUM(H39:I39)))
M40: =IF(C40="","",SUMIFS(ERP!$I$9:$I$1008,ERP!$F$9:$F$1008,C40,ERP!$N$9:$N$1008,1)) | N40: =IF(C40="","",MAX(0,SUM(H40:I40)-M40)) | O40: =IF(OR(C40="",NOT(ISNUMBER(Parametry!$G$10)),NOT(ISNUMBER(G40))),0,IF(OR(N40=0,YEAR(G40)>Parametry!$G$6),0,IF(G40<=Parametry!$G$10,Parametry!$G$7+1,MONTH(G40)))) -> 0 | P40: =IF(C40="",IF(COUNTA(D40:L40)>0,1,0),IF(OR(COUNTIFS($C$9:$C$108,C40)<>1,COUNTIFS(Plan!$C$9:$C$38,D40)<>1,NOT(ISNUMBER(G40)),NOT(ISNUMBER(H40)),AND(I40<>"",NOT(ISNUMBER(I40))),SUM(H40:I40)<0,L40=""),1,0)) -> 0 | Q40: =IF(P40=0,"","Sprawdź ID, przypisanie, datę i kwotę") | R40: =IF(C40="","",IF(J40="","",IF(K40="","Brak terminu decyzji",IF(AND(ISNUMBER(Parametry!$G$10),K40<=Parametry!$G$10+Parametry!$G$11),"Sprawdź odnowienie","")))) | S40: =IF(C40="","",MAX(0,M40-SUM(H40:I40)))
M41: =IF(C41="","",SUMIFS(ERP!$I$9:$I$1008,ERP!$F$9:$F$1008,C41,ERP!$N$9:$N$1008,1)) | N41: =IF(C41="","",MAX(0,SUM(H41:I41)-M41)) | O41: =IF(OR(C41="",NOT(ISNUMBER(Parametry!$G$10)),NOT(ISNUMBER(G41))),0,IF(OR(N41=0,YEAR(G41)>Parametry!$G$6),0,IF(G41<=Parametry!$G$10,Parametry!$G$7+1,MONTH(G41)))) -> 0 | P41: =IF(C41="",IF(COUNTA(D41:L41)>0,1,0),IF(OR(COUNTIFS($C$9:$C$108,C41)<>1,COUNTIFS(Plan!$C$9:$C$38,D41)<>1,NOT(ISNUMBER(G41)),NOT(ISNUMBER(H41)),AND(I41<>"",NOT(ISNUMBER(I41))),SUM(H41:I41)<0,L41=""),1,0)) -> 0 | Q41: =IF(P41=0,"","Sprawdź ID, przypisanie, datę i kwotę") | R41: =IF(C41="","",IF(J41="","",IF(K41="","Brak terminu decyzji",IF(AND(ISNUMBER(Parametry!$G$10),K41<=Parametry!$G$10+Parametry!$G$11),"Sprawdź odnowienie","")))) | S41: =IF(C41="","",MAX(0,M41-SUM(H41:I41)))
... M108: =IF(C108="","",SUMIFS(ERP!$I$9:$I$1008,ERP!$F$9:$F$1008,C108,ERP!$N$9:$N$1008,1)) | N108: =IF(C108="","",MAX(0,SUM(H108:I108)-M108)) | O108: =IF(OR(C108="",NOT(ISNUMBER(Parametry!$G$10)),NOT(ISNUMBER(G108))),0,IF(OR(N108=0,YEAR(G108)>Parametry!$G$6),0,IF(G108<=Parametry!$G$10,Parametry!$G$7+1,MONTH(G108)))) -> 0 | P108: =IF(C108="",IF(COUNTA(D108:L108)>0,1,0),IF(OR(COUNTIFS($C$9:$C$108,C108)<>1,COUNTIFS(Plan!$C$9:$C$38,D108)<>1,NOT(ISNUMBER(G108)),NOT(ISNUMBER(H108)),AND(I108<>"",NOT(ISNUMBER(I108))),SUM(H108:I108)<0,L108=""),1,0)) -> 0 | Q108: =IF(P108=0,"","Sprawdź ID, przypisanie, datę i kwotę") | R108: =IF(C108="","",IF(J108="","",IF(K108="","Brak terminu decyzji",IF(AND(ISNUMBER(Parametry!$G$10),K108<=Parametry!$G$10+Parametry!$G$11),"Sprawdź odnowienie","")))) | S108: =IF(C108="","",MAX(0,M108-SUM(H108:I108)))

Sheet ERP
C2: Dane wykonania z ERP
C3: PRZYKŁAD HIPOTETYCZNY. Dane nie opisują rzeczywistej firmy.
C4: Wariant: | D4: =Parametry!$G$9 -> Bazowy
C8: RowID | D8: Date | E8: ERPKey | F8: CommitmentID | G8: Counterparty | H8: Description | I8: AmountPLN | J8: Batch | L8: ID budżetu | M8: Miesiąc | N8: W okresie | O8: Błędy | P8: Do poprawy | Q8: Poza okresem
