Workbook

Sheet Raport
C2: RM. | E2: Budżet IT
E3: =IF(Parametry!$G$5="","Uzupełnij nazwę firmy w Parametrach",Parametry!$G$5)&" / "&IF(Parametry!$G$6="","",Parametry!$G$6) -> Firma modelowa / 2027
E4: PRZYKŁAD HIPOTETYCZNY | I4: ="Wariant: "&Parametry!$G$9 -> Wariant: Bazowy
C5: ="Stan na: "&IF(ISNUMBER(Parametry!$G$10),TEXT(Parametry!$G$10,"yyyy-mm-dd"),"—")&" | Właściciel: "&IF(Parametry!$G$14="","—",Parametry!$G$14) -> Stan na: yyyy-06-30 | Właściciel: IT owner
C6: Plan roczny (PLN) | G6: Wykonanie okresu (PLN) | K6: Prognoza roku (PLN)
C7: =IF(AND(Model!$E$5=1,COUNTA(Plan!$C$9:$C$38)>0,SUM(Plan!$X$9:$X$38)=0),SUM(Plan!$I$9:$I$38),"") -> 1232000 | G7: =IF(AND(AND(Model!$E$5=1,COUNTA(Plan!$C$9:$C$38)>0,SUM(Plan!$X$9:$X$38)=0),SUM(ERP!$O$9:$O$1008)=0),SUM(Model!$G$9:$G$368),"") -> 627000 | K7: =IF(Model!$E$6=1,SUM(Model!$L$9:$L$368),"") -> 1141200
C10: Odchylenie prognozy | G10: =IF(AND(ISNUMBER(C7),ISNUMBER(K7)),K7-C7,"") -> -90800 | I10: =IF(AND(ISNUMBER(C7),ISNUMBER(K7)),IF(C7=0,"n.a.",(K7-C7)/C7),"") -> -0.073701299
C12: =IF(Model!$E$5=0,"Uzupełnij rok, okres i wariant w Parametrach",IF(COUNTA(Plan!$C$9:$C$38)=0,"Wprowadź plan i mapowanie danych",IF(Model!$I$5>0,"Popraw błędy źródeł. Szczegóły w Kontroli.",IF(Model!$M$5>0,"Uzupełnij prognozę niezakontraktowaną lub korekty wariantu","Prognoza kompletna. Odchylenie dodatnie oznacza przekroczenie planu.")))) -> Prognoza kompletna. Odchylenie dodatnie oznacza przekroczenie planu.
C14: PLN bez VAT. Zamknięte miesiące: wykonanie. Pozostałe: otwarte zobowiązania i prognoza niezakontraktowana.
C16: Miesiąc | D16: Plan PLN | E16: Wykonanie / prognoza | F16: Odchylenie PLN
C17: Sty | D17: =IF(ISNUMBER($C$7),SUMIFS(Model!$F$9:$F$368,Model!$E$9:$E$368,DATE(Parametry!$G$6,1,1)),"") -> 208000 | E17: =IF(Model!$E$6=1,SUMIFS(Model!$L$9:$L$368,Model!$E$9:$E$368,DATE(Parametry!$G$6,1,1)),"") -> 184000 | F17: =IF(AND(ISNUMBER(D17),ISNUMBER(E17)),E17-D17,"") -> -24000
C18: Lut | D18: =IF(ISNUMBER($C$7),SUMIFS(Model!$F$9:$F$368,Model!$E$9:$E$368,DATE(Parametry!$G$6,2,1)),"") -> 64000 | E18: =IF(Model!$E$6=1,SUMIFS(Model!$L$9:$L$368,Model!$E$9:$E$368,DATE(Parametry!$G$6,2,1)),"") -> 64000 | F18: =IF(AND(ISNUMBER(D18),ISNUMBER(E18)),E18-D18,"") -> 0
C19: Mar | D19: =IF(ISNUMBER($C$7),SUMIFS(Model!$F$9:$F$368,Model!$E$9:$E$368,DATE(Parametry!$G$6,3,1)),"") -> 124000 | E19: =IF(Model!$E$6=1,SUMIFS(Model!$L$9:$L$368,Model!$E$9:$E$368,DATE(Parametry!$G$6,3,1)),"") -> 128000 | F19: =IF(AND(ISNUMBER(D19),ISNUMBER(E19)),E19-D19,"") -> 4000
C20: Kwi | D20: =IF(ISNUMBER($C$7),SUMIFS(Model!$F$9:$F$368,Model!$E$9:$E$368,DATE(Parametry!$G$6,4,1)),"") -> 104000 | E20: =IF(Model!$E$6=1,SUMIFS(Model!$L$9:$L$368,Model!$E$9:$E$368,DATE(Parametry!$G$6,4,1)),"") -> 104000 | F20: =IF(AND(ISNUMBER(D20),ISNUMBER(E20)),E20-D20,"") -> 0
C21: Maj | D21: =IF(ISNUMBER($C$7),SUMIFS(Model!$F$9:$F$368,Model!$E$9:$E$368,DATE(Parametry!$G$6,5,1)),"") -> 82000 | E21: =IF(Model!$E$6=1,SUMIFS(Model!$L$9:$L$368,Model!$E$9:$E$368,DATE(Parametry!$G$6,5,1)),"") -> 82000 | F21: =IF(AND(ISNUMBER(D21),ISNUMBER(E21)),E21-D21,"") -> 0
C22: Cze | D22: =IF(ISNUMBER($C$7),SUMIFS(Model!$F$9:$F$368,Model!$E$9:$E$368,DATE(Parametry!$G$6,6,1)),"") -> 64000 | E22: =IF(Model!$E$6=1,SUMIFS(Model!$L$9:$L$368,Model!$E$9:$E$368,DATE(Parametry!$G$6,6,1)),"") -> 65000 | F22: =IF(AND(ISNUMBER(D22),ISNUMBER(E22)),E22-D22,"") -> 1000
C23: Lip | D23: =IF(ISNUMBER($C$7),SUMIFS(Model!$F$9:$F$368,Model!$E$9:$E$368,DATE(Parametry!$G$6,7,1)),"") -> 64000 | E23: =IF(Model!$E$6=1,SUMIFS(Model!$L$9:$L$368,Model!$E$9:$E$368,DATE(Parametry!$G$6,7,1)),"") -> 91200 | F23: =IF(AND(ISNUMBER(D23),ISNUMBER(E23)),E23-D23,"") -> 27200
C24: Sie | D24: =IF(ISNUMBER($C$7),SUMIFS(Model!$F$9:$F$368,Model!$E$9:$E$368,DATE(Parametry!$G$6,8,1)),"") -> 64000 | E24: =IF(Model!$E$6=1,SUMIFS(Model!$L$9:$L$368,Model!$E$9:$E$368,DATE(Parametry!$G$6,8,1)),"") -> 65200 | F24: =IF(AND(ISNUMBER(D24),ISNUMBER(E24)),E24-D24,"") -> 1200
C25: Wrz | D25: =IF(ISNUMBER($C$7),SUMIFS(Model!$F$9:$F$368,Model!$E$9:$E$368,DATE(Parametry!$G$6,9,1)),"") -> 144000 | E25: =IF(Model!$E$6=1,SUMIFS(Model!$L$9:$L$368,Model!$E$9:$E$368,DATE(Parametry!$G$6,9,1)),"") -> 145200 | F25: =IF(AND(ISNUMBER(D25),ISNUMBER(E25)),E25-D25,"") -> 1200
C26: Paź | D26: =IF(ISNUMBER($C$7),SUMIFS(Model!$F$9:$F$368,Model!$E$9:$E$368,DATE(Parametry!$G$6,10,1)),"") -> 76000 | E26: =IF(Model!$E$6=1,SUMIFS(Model!$L$9:$L$368,Model!$E$9:$E$368,DATE(Parametry!$G$6,10,1)),"") -> 77200 | F26: =IF(AND(ISNUMBER(D26),ISNUMBER(E26)),E26-D26,"") -> 1200
C27: Lis | D27: =IF(ISNUMBER($C$7),SUMIFS(Model!$F$9:$F$368,Model!$E$9:$E$368,DATE(Parametry!$G$6,11,1)),"") -> 154000 | E27: =IF(Model!$E$6=1,SUMIFS(Model!$L$9:$L$368,Model!$E$9:$E$368,DATE(Parametry!$G$6,11,1)),"") -> 65200 | F27: =IF(AND(ISNUMBER(D27),ISNUMBER(E27)),E27-D27,"") -> -88800
C28: Gru | D28: =IF(ISNUMBER($C$7),SUMIFS(Model!$F$9:$F$368,Model!$E$9:$E$368,DATE(Parametry!$G$6,12,1)),"") -> 84000 | E28: =IF(Model!$E$6=1,SUMIFS(Model!$L$9:$L$368,Model!$E$9:$E$368,DATE(Parametry!$G$6,12,1)),"") -> 70200 | F28: =IF(AND(ISNUMBER(D28),ISNUMBER(E28)),E28-D28,"") -> -13800
C32: Zobowiązania, odnowienia i alokacja na biznes
C34: Otwarte do końca roku (PLN) | G34: =IF(Model!$E$6=1,SUMIFS(Umowy!$N$9:$N$108,Umowy!$O$9:$O$108,">0",Umowy!$O$9:$O$108,"<=12"),"") -> 262000 | J34: Jednostka biznesowa | K34: Prognoza PLN | L34: Udział
C35: Otwarte poza rokiem (PLN) | G35: =IF(Model!$E$6=1,SUM(Umowy!$N$9:$N$108)-G34,"") -> 90000 | J35: =Parametry!G29 -> Produkcja | K35: =IF(Model!$E$6=1,SUM(Alokacja!$N$9:$N$38),"") -> 602880 | L35: =IF(AND(ISNUMBER(K35),ISNUMBER($K$7)),IF($K$7=0,"n.a.",K35/$K$7),"") -> 0.52828601
C36: Przeterminowane etapy | G36: =IF(Model!$E$5=1,COUNTIFS(Umowy!$G$9:$G$108,">0",Umowy!$G$9:$G$108,"<="&Parametry!$G$10,Umowy!$N$9:$N$108,">0"),"") -> 1 | J36: =Parametry!H29 -> Logistyka | K36: =IF(Model!$E$6=1,SUM(Alokacja!$O$9:$O$38),"") -> 334640 | L36: =IF(AND(ISNUMBER(K36),ISNUMBER($K$7)),IF($K$7=0,"n.a.",K36/$K$7),"") -> 0.29323519
C37: Odnowienia do przeglądu | G37: =COUNTIFS(Umowy!$R$9:$R$108,"Sprawdź odnowienie")+COUNTIFS(Umowy!$R$9:$R$108,"Brak terminu decyzji") -> 0 | J37: =Parametry!I29 -> Sprzedaż | K37: =IF(Model!$E$6=1,SUM(Alokacja!$P$9:$P$38),"") -> 119120 | L37: =IF(AND(ISNUMBER(K37),ISNUMBER($K$7)),IF($K$7=0,"n.a.",K37/$K$7),"") -> 0.10438135
J38: =Parametry!J29 -> Administracja | K38: =IF(Model!$E$6=1,SUM(Alokacja!$Q$9:$Q$38),"") -> 84560 | L38: =IF(AND(ISNUMBER(K38),ISNUMBER($K$7)),IF($K$7=0,"n.a.",K38/$K$7),"") -> 0.074097441
C41: Decyzje i uzgodnienia
C43: Decyzja / temat | D43: Uzasadnienie | E43: Właściciel | F43: Termin | G43: Status
C44: Etap MES w kolejnym roku | D44: 90 000 PLN poza rokiem | E44: Applications | F44: 46583 | G44: Do decyzji
C45: Rozliczenie umowy ERP | D45: 26 000 PLN otwarte | E45: Applications | F45: 46578 | G45: W toku
C46: Odchylenie sieci | D46: 4 000 PLN ponad plan | E46: Infrastructure | F46: 46588 | G46: Do decyzji
C49: Alokacja roczna opiera się na kluczach w Parametrach. Pełny TCO wymaga dodatkowo kosztów cyklu życia.
C51: Rafał Mokrowiecki mokrowiecki.pl M2 v1.0 2026-11-01

Sheet Parametry
C2: Parametry i klucze
C3: PRZYKŁAD HIPOTETYCZNY. Dane nie opisują rzeczywistej firmy.
C4: Wariant: | D4: =Parametry!$G$9 -> Bazowy
C5: Firma | G5: Firma modelowa | H5: PLN bez VAT. Rok kalendarzowy.
C6: Rok budżetu | G6: 2027
C7: Zamknięte miesiące (0–12) | G7: 6
C8: Wariant (1–3) | G8: 1 | H8: Wariant zmienia tylko przyszłą część niezakontraktowaną.
C9: Aktywny wariant | G9: =IF(AND(ISNUMBER(G8),G8>=1,G8<=3,G8=INT(G8)),CHOOSE(G8,"Bazowy","Wzrost kosztów","Ograniczenie zakresu"),"") -> Bazowy
C10: Data raportu | G10: =IF(AND(ISNUMBER(G6),G6>=2000,G6<=2100,G6=INT(G6),ISNUMBER(G7),G7>=0,G7<=12,G7=INT(G7)),DATE(G6,G7+1,1)-1,"") -> 46568
C11: Przegląd odnowień: dni | G11: 90
C12: Kontrola importu: wiersze | G12: 36
C13: Kontrola importu: suma PLN | G13: 627000
C14: Właściciel raportu | G14: IT owner
C15: Kolor akcentowy | G15: #FF4A1F
H17: =IF($G$6="","",DATE($G$6,1,1)) -> 46388 | I17: =IF($G$6="","",DATE($G$6,2,1)) -> 46419 | J17: =IF($G$6="","",DATE($G$6,3,1)) -> 46447 | K17: =IF($G$6="","",DATE($G$6,4,1)) -> 46478 | L17: =IF($G$6="","",DATE($G$6,5,1)) -> 46508 | M17: =IF($G$6="","",DATE($G$6,6,1)) -> 46539 | N17: =IF($G$6="","",DATE($G$6,7,1)) -> 46569 | O17: =IF($G$6="","",DATE($G$6,8,1)) -> 46600 | P17: =IF($G$6="","",DATE($G$6,9,1)) -> 46631 | Q17: =IF($G$6="","",DATE($G$6,10,1)) -> 46661 | R17: =IF($G$6="","",DATE($G$6,11,1)) -> 46692 | S17: =IF($G$6="","",DATE($G$6,12,1)) -> 46722
C18: Utrzymanie: aktywna korekta | H18: =IF($G$9="","",IF(CHOOSE($G$8,ISBLANK(H19),ISBLANK(H20),ISBLANK(H21)),"",IF(ISNUMBER(CHOOSE($G$8,H19,H20,H21)),CHOOSE($G$8,H19,H20,H21),""))) -> 0 | I18: =IF($G$9="","",IF(CHOOSE($G$8,ISBLANK(I19),ISBLANK(I20),ISBLANK(I21)),"",IF(ISNUMBER(CHOOSE($G$8,I19,I20,I21)),CHOOSE($G$8,I19,I20,I21),""))) -> 0 | J18: =IF($G$9="","",IF(CHOOSE($G$8,ISBLANK(J19),ISBLANK(J20),ISBLANK(J21)),"",IF(ISNUMBER(CHOOSE($G$8,J19,J20,J21)),CHOOSE($G$8,J19,J20,J21),""))) -> 0 | K18: =IF($G$9="","",IF(CHOOSE($G$8,ISBLANK(K19),ISBLANK(K20),ISBLANK(K21)),"",IF(ISNUMBER(CHOOSE($G$8,K19,K20,K21)),CHOOSE($G$8,K19,K20,K21),""))) -> 0 | L18: =IF($G$9="","",IF(CHOOSE($G$8,ISBLANK(L19),ISBLANK(L20),ISBLANK(L21)),"",IF(ISNUMBER(CHOOSE($G$8,L19,L20,L21)),CHOOSE($G$8,L19,L20,L21),""))) -> 0 | M18: =IF($G$9="","",IF(CHOOSE($G$8,ISBLANK(M19),ISBLANK(M20),ISBLANK(M21)),"",IF(ISNUMBER(CHOOSE($G$8,M19,M20,M21)),CHOOSE($G$8,M19,M20,M21),""))) -> 0 | N18: =IF($G$9="","",IF(CHOOSE($G$8,ISBLANK(N19),ISBLANK(N20),ISBLANK(N21)),"",IF(ISNUMBER(CHOOSE($G$8,N19,N20,N21)),CHOOSE($G$8,N19,N20,N21),""))) -> 0 | O18: =IF($G$9="","",IF(CHOOSE($G$8,ISBLANK(O19),ISBLANK(O20),ISBLANK(O21)),"",IF(ISNUMBER(CHOOSE($G$8,O19,O20,O21)),CHOOSE($G$8,O19,O20,O21),""))) -> 0 | ... S18: =IF($G$9="","",IF(CHOOSE($G$8,ISBLANK(S19),ISBLANK(S20),ISBLANK(S21)),"",IF(ISNUMBER(CHOOSE($G$8,S19,S20,S21)),CHOOSE($G$8,S19,S20,S21),""))) -> 0
C19: Bazowy | H19: 0 | I19: 0 | J19: 0 | K19: 0 | L19: 0 | M19: 0 | N19: 0 | O19: 0 | P19: 0 | Q19: 0 | R19: 0 | S19: 0
C20: Wzrost kosztów | H20: 0.08 | I20: 0.08 | J20: 0.08 | K20: 0.08 | L20: 0.08 | M20: 0.08 | N20: 0.08 | O20: 0.08 | P20: 0.08 | Q20: 0.08 | R20: 0.08 | S20: 0.08
C21: Ograniczenie zakresu | H21: -0.1 | I21: -0.1 | J21: -0.1 | K21: -0.1 | L21: -0.1 | M21: -0.1 | N21: -0.1 | O21: -0.1 | P21: -0.1 | Q21: -0.1 | R21: -0.1 | S21: -0.1
C24: Rozwój: aktywna korekta | H24: =IF($G$9="","",IF(CHOOSE($G$8,ISBLANK(H25),ISBLANK(H26),ISBLANK(H27)),"",IF(ISNUMBER(CHOOSE($G$8,H25,H26,H27)),CHOOSE($G$8,H25,H26,H27),""))) -> 0 | I24: =IF($G$9="","",IF(CHOOSE($G$8,ISBLANK(I25),ISBLANK(I26),ISBLANK(I27)),"",IF(ISNUMBER(CHOOSE($G$8,I25,I26,I27)),CHOOSE($G$8,I25,I26,I27),""))) -> 0 | J24: =IF($G$9="","",IF(CHOOSE($G$8,ISBLANK(J25),ISBLANK(J26),ISBLANK(J27)),"",IF(ISNUMBER(CHOOSE($G$8,J25,J26,J27)),CHOOSE($G$8,J25,J26,J27),""))) -> 0 | K24: =IF($G$9="","",IF(CHOOSE($G$8,ISBLANK(K25),ISBLANK(K26),ISBLANK(K27)),"",IF(ISNUMBER(CHOOSE($G$8,K25,K26,K27)),CHOOSE($G$8,K25,K26,K27),""))) -> 0 | L24: =IF($G$9="","",IF(CHOOSE($G$8,ISBLANK(L25),ISBLANK(L26),ISBLANK(L27)),"",IF(ISNUMBER(CHOOSE($G$8,L25,L26,L27)),CHOOSE($G$8,L25,L26,L27),""))) -> 0 | M24: =IF($G$9="","",IF(CHOOSE($G$8,ISBLANK(M25),ISBLANK(M26),ISBLANK(M27)),"",IF(ISNUMBER(CHOOSE($G$8,M25,M26,M27)),CHOOSE($G$8,M25,M26,M27),""))) -> 0 | N24: =IF($G$9="","",IF(CHOOSE($G$8,ISBLANK(N25),ISBLANK(N26),ISBLANK(N27)),"",IF(ISNUMBER(CHOOSE($G$8,N25,N26,N27)),CHOOSE($G$8,N25,N26,N27),""))) -> 0 | O24: =IF($G$9="","",IF(CHOOSE($G$8,ISBLANK(O25),ISBLANK(O26),ISBLANK(O27)),"",IF(ISNUMBER(CHOOSE($G$8,O25,O26,O27)),CHOOSE($G$8,O25,O26,O27),""))) -> 0 | ... S24: =IF($G$9="","",IF(CHOOSE($G$8,ISBLANK(S25),ISBLANK(S26),ISBLANK(S27)),"",IF(ISNUMBER(CHOOSE($G$8,S25,S26,S27)),CHOOSE($G$8,S25,S26,S27),""))) -> 0
C25: Bazowy | H25: 0 | I25: 0 | J25: 0 | K25: 0 | L25: 0 | M25: 0 | N25: 0 | O25: 0 | P25: 0 | Q25: 0 | R25: 0 | S25: 0
C26: Wzrost kosztów | H26: 0.15 | I26: 0.15 | J26: 0.15 | K26: 0.15 | L26: 0.15 | M26: 0.15 | N26: 0.15 | O26: 0.15 | P26: 0.15 | Q26: 0.15 | R26: 0.15 | S26: 0.15
C27: Ograniczenie zakresu | H27: -0.2 | I27: -0.2 | J27: -0.2 | K27: -0.2 | L27: -0.2 | M27: -0.2 | N27: -0.2 | O27: -0.2 | P27: -0.2 | Q27: -0.2 | R27: -0.2 | S27: -0.2
C29: Jednostki biznesowe | G29: Produkcja | H29: Logistyka | I29: Sprzedaż | J29: Administracja
C32: Klucze alokacji: liczby jednostek, nie gotowe procenty
C34: ID | D34: Nazwa | E34: Jednostka klucza | F34: Podstawa i okres | G34: =G29 -> Produkcja | H34: =H29 -> Logistyka | I34: =I29 -> Sprzedaż | J34: =J29 -> Administracja | K34: Suma | L34: Błędy
C35: PROD | D35: Produkcja bezpośrednio | E35: Przypisanie bezpośrednie | F35: Przykład, 2027 | G35: 1 | H35: 0 | I35: 0 | J35: 0 | K35: =IF(C35="","",SUM(G35:J35)) -> 1 | L35: =IF(C35="",0,IF(OR(COUNTIFS($C$35:$C$46,C35)<>1,D35="",E35="",F35="",COUNT(G35:J35)<>4,MIN(G35:J35)<0,K35<=0),1,0)) -> 0
C36: LOG | D36: Logistyka bezpośrednio | E36: Przypisanie bezpośrednie | F36: Przykład, 2027 | G36: 0 | H36: 1 | I36: 0 | J36: 0 | K36: =IF(C36="","",SUM(G36:J36)) -> 1 | L36: =IF(C36="",0,IF(OR(COUNTIFS($C$35:$C$46,C36)<>1,D36="",E36="",F36="",COUNT(G36:J36)<>4,MIN(G36:J36)<0,K36<=0),1,0)) -> 0
C37: USERS | D37: Użytkownicy | E37: Liczba użytkowników | F37: Przykład, 2027 | G37: 120 | H37: 40 | I37: 30 | J37: 10 | K37: =IF(C37="","",SUM(G37:J37)) -> 200 | L37: =IF(C37="",0,IF(OR(COUNTIFS($C$35:$C$46,C37)<>1,D37="",E37="",F37="",COUNT(G37:J37)<>4,MIN(G37:J37)<0,K37<=0),1,0)) -> 0
C38: ERP | D38: Wykorzystanie ERP | E38: Udział wykorzystania | F38: Przykład, 2027 | G38: 70 | H38: 20 | I38: 5 | J38: 5 | K38: =IF(C38="","",SUM(G38:J38)) -> 100 | L38: =IF(C38="",0,IF(OR(COUNTIFS($C$35:$C$46,C38)<>1,D38="",E38="",F38="",COUNT(G38:J38)<>4,MIN(G38:J38)<0,K38<=0),1,0)) -> 0
C39: STORAGE | D39: Zasoby danych | E39: Wolumen danych | F39: Przykład, 2027 | G39: 65 | H39: 20 | I39: 10 | J39: 5 | K39: =IF(C39="","",SUM(G39:J39)) -> 100 | L39: =IF(C39="",0,IF(OR(COUNTIFS($C$35:$C$46,C39)<>1,D39="",E39="",F39="",COUNT(G39:J39)<>4,MIN(G39:J39)<0,K39<=0),1,0)) -> 0
C40: ASSETS | D40: Urządzenia | E40: Liczba urządzeń | F40: Przykład, 2027 | G40: 90 | H40: 20 | I40: 20 | J40: 20 | K40: =IF(C40="","",SUM(G40:J40)) -> 150 | L40: =IF(C40="",0,IF(OR(COUNTIFS($C$35:$C$46,C40)<>1,D40="",E40="",F40="",COUNT(G40:J40)<>4,MIN(G40:J40)<0,K40<=0),1,0)) -> 0
C41: HOURS | D41: Nakład pracy IT | E41: Godziny wsparcia | F41: Przykład, 2027 | G41: 40 | H41: 20 | I41: 10 | J41: 10 | K41: =IF(C41="","",SUM(G41:J41)) -> 80 | L41: =IF(C41="",0,IF(OR(COUNTIFS($C$35:$C$46,C41)<>1,D41="",E41="",F41="",COUNT(G41:J41)<>4,MIN(G41:J41)<0,K41<=0),1,0)) -> 0
K42: =IF(C42="","",SUM(G42:J42)) | L42: =IF(C42="",0,IF(OR(COUNTIFS($C$35:$C$46,C42)<>1,D42="",E42="",F42="",COUNT(G42:J42)<>4,MIN(G42:J42)<0,K42<=0),1,0)) -> 0
K43: =IF(C43="","",SUM(G43:J43)) | L43: =IF(C43="",0,IF(OR(COUNTIFS($C$35:$C$46,C43)<>1,D43="",E43="",F43="",COUNT(G43:J43)<>4,MIN(G43:J43)<0,K43<=0),1,0)) -> 0
K44: =IF(C44="","",SUM(G44:J44)) | L44: =IF(C44="",0,IF(OR(COUNTIFS($C$35:$C$46,C44)<>1,D44="",E44="",F44="",COUNT(G44:J44)<>4,MIN(G44:J44)<0,K44<=0),1,0)) -> 0
K45: =IF(C45="","",SUM(G45:J45)) | L45: =IF(C45="",0,IF(OR(COUNTIFS($C$35:$C$46,C45)<>1,D45="",E45="",F45="",COUNT(G45:J45)<>4,MIN(G45:J45)<0,K45<=0),1,0)) -> 0
K46: =IF(C46="","",SUM(G46:J46)) | L46: =IF(C46="",0,IF(OR(COUNTIFS($C$35:$C$46,C46)<>1,D46="",E46="",F46="",COUNT(G46:J46)<>4,MIN(G46:J46)<0,K46<=0),1,0)) -> 0
C51: Mapowanie klucza eksportu ERP na pozycję budżetu
C53: Klucz ERP | D53: ID budżetu | E53: Opis mapowania | F53: Błędy | G53: Źródło / właściciel
...

Sheet Model
C2: Model miesięczny
C3: PRZYKŁAD HIPOTETYCZNY. Dane nie opisują rzeczywistej firmy.
C4: Wariant: | D4: =Parametry!$G$9 -> Bazowy
C5: Parametry poprawne | E5: =IF(AND(ISNUMBER(Parametry!$G$10),Parametry!$G$9<>""),1,0) -> 1 | G5: Błędy źródeł | I5: =SUM(Plan!$X$9:$X$38,ERP!$O$9:$O$1008,Umowy!$P$9:$P$108,Prognoza!$F$9:$F$38,Parametry!$L$35:$L$46,Parametry!$F$54:$F$113) -> 0 | K5: Braki prognozy | M5: =SUM(N9:N368) -> 0
C6: Prognoza kompletna | E6: =IF(AND(E5=1,COUNTA(Plan!$C$9:$C$38)>0,I5=0,M5=0),1,0) -> 1
C8: ID | D8: Pozycja | E8: Miesiąc | F8: Plan | G8: Wykonanie | H8: Otwarte zobowiązania | I8: Baza niezakontraktowana | J8: Korekta wariantu | K8: Aktywna prognoza swobodna | L8: Wykonanie / prognoza | M8: Odchylenie | N8: Brak danych
C9: =IF(Plan!C9="","",Plan!C9) -> IT01 | D9: =IF(C9="","",Plan!D9) -> Licencje stanowiskowe | E9: =IF(OR(C9="",Parametry!$G$6=""),"",DATE(Parametry!$G$6,1,1)) -> 46388 | F9: =IF(C9="","",Plan!K9) -> 18000 | G9: =IF(C9="","",SUMIFS(ERP!$I$9:$I$1008,ERP!$L$9:$L$1008,C9,ERP!$N$9:$N$1008,1,ERP!$M$9:$M$1008,1)) -> 18000 | H9: =IF(C9="","",IF(1<=Parametry!$G$7,0,SUMIFS(Umowy!$N$9:$N$108,Umowy!$D$9:$D$108,C9,Umowy!$O$9:$O$108,1))) -> 0 | I9: =IF(C9="","",IF(1<=Parametry!$G$7,0,IF(COUNTIFS(Prognoza!$C$9:$C$38,C9)=1,IF(ISBLANK(INDEX(Prognoza!$K$9:$V$38,MATCH($C9,Prognoza!$C$9:$C$38,0),1)),"",IF(ISNUMBER(INDEX(Prognoza!$K$9:$V$38,MATCH($C9,Prognoza!$C$9:$C$38,0),1)),INDEX(Prognoza!$K$9:$V$38,MATCH($C9,Prognoza!$C$9:$C$38,0),1),"")),""))) -> 0 | J9: =IF(C9="","",IF(Plan!F9="Run",IF(ISNUMBER(INDEX(Parametry!$H$18:$S$18,1,1)),INDEX(Parametry!$H$18:$S$18,1,1),""),IF(ISNUMBER(INDEX(Parametry!$H$24:$S$24,1,1)),INDEX(Parametry!$H$24:$S$24,1,1),""))) -> 0 | K9: =IF(C9="","",IF(1<=Parametry!$G$7,0,IF(AND(ISNUMBER(I9),ISNUMBER(J9),J9>=-1),I9*(1+J9),""))) -> 0 | L9: =IF(C9="","",IF(1<=Parametry!$G$7,G9,IF(ISNUMBER(K9),H9+K9,""))) -> 18000 | M9: =IF(AND(C9<>"",ISNUMBER(L9)),L9-F9,"") -> 0 | N9: =IF(C9="",0,IF(ISNUMBER(L9),0,1)) -> 0
C10: =IF(Plan!C9="","",Plan!C9) -> IT01 | D10: =IF(C10="","",Plan!D9) -> Licencje stanowiskowe | E10: =IF(OR(C10="",Parametry!$G$6=""),"",DATE(Parametry!$G$6,2,1)) -> 46419 | F10: =IF(C10="","",Plan!L9) -> 18000 | G10: =IF(C10="","",SUMIFS(ERP!$I$9:$I$1008,ERP!$L$9:$L$1008,C10,ERP!$N$9:$N$1008,1,ERP!$M$9:$M$1008,2)) -> 18000 | H10: =IF(C10="","",IF(2<=Parametry!$G$7,0,SUMIFS(Umowy!$N$9:$N$108,Umowy!$D$9:$D$108,C10,Umowy!$O$9:$O$108,2))) -> 0 | I10: =IF(C10="","",IF(2<=Parametry!$G$7,0,IF(COUNTIFS(Prognoza!$C$9:$C$38,C10)=1,IF(ISBLANK(INDEX(Prognoza!$K$9:$V$38,MATCH($C10,Prognoza!$C$9:$C$38,0),2)),"",IF(ISNUMBER(INDEX(Prognoza!$K$9:$V$38,MATCH($C10,Prognoza!$C$9:$C$38,0),2)),INDEX(Prognoza!$K$9:$V$38,MATCH($C10,Prognoza!$C$9:$C$38,0),2),"")),""))) -> 0 | J10: =IF(C10="","",IF(Plan!F9="Run",IF(ISNUMBER(INDEX(Parametry!$H$18:$S$18,1,2)),INDEX(Parametry!$H$18:$S$18,1,2),""),IF(ISNUMBER(INDEX(Parametry!$H$24:$S$24,1,2)),INDEX(Parametry!$H$24:$S$24,1,2),""))) -> 0 | K10: =IF(C10="","",IF(2<=Parametry!$G$7,0,IF(AND(ISNUMBER(I10),ISNUMBER(J10),J10>=-1),I10*(1+J10),""))) -> 0 | L10: =IF(C10="","",IF(2<=Parametry!$G$7,G10,IF(ISNUMBER(K10),H10+K10,""))) -> 18000 | M10: =IF(AND(C10<>"",ISNUMBER(L10)),L10-F10,"") -> 0 | N10: =IF(C10="",0,IF(ISNUMBER(L10),0,1)) -> 0
C11: =IF(Plan!C9="","",Plan!C9) -> IT01 | D11: =IF(C11="","",Plan!D9) -> Licencje stanowiskowe | E11: =IF(OR(C11="",Parametry!$G$6=""),"",DATE(Parametry!$G$6,3,1)) -> 46447 | F11: =IF(C11="","",Plan!M9) -> 18000 | G11: =IF(C11="","",SUMIFS(ERP!$I$9:$I$1008,ERP!$L$9:$L$1008,C11,ERP!$N$9:$N$1008,1,ERP!$M$9:$M$1008,3)) -> 18000 | H11: =IF(C11="","",IF(3<=Parametry!$G$7,0,SUMIFS(Umowy!$N$9:$N$108,Umowy!$D$9:$D$108,C11,Umowy!$O$9:$O$108,3))) -> 0 | I11: =IF(C11="","",IF(3<=Parametry!$G$7,0,IF(COUNTIFS(Prognoza!$C$9:$C$38,C11)=1,IF(ISBLANK(INDEX(Prognoza!$K$9:$V$38,MATCH($C11,Prognoza!$C$9:$C$38,0),3)),"",IF(ISNUMBER(INDEX(Prognoza!$K$9:$V$38,MATCH($C11,Prognoza!$C$9:$C$38,0),3)),INDEX(Prognoza!$K$9:$V$38,MATCH($C11,Prognoza!$C$9:$C$38,0),3),"")),""))) -> 0 | J11: =IF(C11="","",IF(Plan!F9="Run",IF(ISNUMBER(INDEX(Parametry!$H$18:$S$18,1,3)),INDEX(Parametry!$H$18:$S$18,1,3),""),IF(ISNUMBER(INDEX(Parametry!$H$24:$S$24,1,3)),INDEX(Parametry!$H$24:$S$24,1,3),""))) -> 0 | K11: =IF(C11="","",IF(3<=Parametry!$G$7,0,IF(AND(ISNUMBER(I11),ISNUMBER(J11),J11>=-1),I11*(1+J11),""))) -> 0 | L11: =IF(C11="","",IF(3<=Parametry!$G$7,G11,IF(ISNUMBER(K11),H11+K11,""))) -> 18000 | M11: =IF(AND(C11<>"",ISNUMBER(L11)),L11-F11,"") -> 0 | N11: =IF(C11="",0,IF(ISNUMBER(L11),0,1)) -> 0
C12: =IF(Plan!C9="","",Plan!C9) -> IT01 | D12: =IF(C12="","",Plan!D9) -> Licencje stanowiskowe | E12: =IF(OR(C12="",Parametry!$G$6=""),"",DATE(Parametry!$G$6,4,1)) -> 46478 | F12: =IF(C12="","",Plan!N9) -> 18000 | G12: =IF(C12="","",SUMIFS(ERP!$I$9:$I$1008,ERP!$L$9:$L$1008,C12,ERP!$N$9:$N$1008,1,ERP!$M$9:$M$1008,4)) -> 18000 | H12: =IF(C12="","",IF(4<=Parametry!$G$7,0,SUMIFS(Umowy!$N$9:$N$108,Umowy!$D$9:$D$108,C12,Umowy!$O$9:$O$108,4))) -> 0 | I12: =IF(C12="","",IF(4<=Parametry!$G$7,0,IF(COUNTIFS(Prognoza!$C$9:$C$38,C12)=1,IF(ISBLANK(INDEX(Prognoza!$K$9:$V$38,MATCH($C12,Prognoza!$C$9:$C$38,0),4)),"",IF(ISNUMBER(INDEX(Prognoza!$K$9:$V$38,MATCH($C12,Prognoza!$C$9:$C$38,0),4)),INDEX(Prognoza!$K$9:$V$38,MATCH($C12,Prognoza!$C$9:$C$38,0),4),"")),""))) -> 0 | J12: =IF(C12="","",IF(Plan!F9="Run",IF(ISNUMBER(INDEX(Parametry!$H$18:$S$18,1,4)),INDEX(Parametry!$H$18:$S$18,1,4),""),IF(ISNUMBER(INDEX(Parametry!$H$24:$S$24,1,4)),INDEX(Parametry!$H$24:$S$24,1,4),""))) -> 0 | K12: =IF(C12="","",IF(4<=Parametry!$G$7,0,IF(AND(ISNUMBER(I12),ISNUMBER(J12),J12>=-1),I12*(1+J12),""))) -> 0 | L12: =IF(C12="","",IF(4<=Parametry!$G$7,G12,IF(ISNUMBER(K12),H12+K12,""))) -> 18000 | M12: =IF(AND(C12<>"",ISNUMBER(L12)),L12-F12,"") -> 0 | N12: =IF(C12="",0,IF(ISNUMBER(L12),0,1)) -> 0
C13: =IF(Plan!C9="","",Plan!C9) -> IT01 | D13: =IF(C13="","",Plan!D9) -> Licencje stanowiskowe | E13: =IF(OR(C13="",Parametry!$G$6=""),"",DATE(Parametry!$G$6,5,1)) -> 46508 | F13: =IF(C13="","",Plan!O9) -> 18000 | G13: =IF(C13="","",SUMIFS(ERP!$I$9:$I$1008,ERP!$L$9:$L$1008,C13,ERP!$N$9:$N$1008,1,ERP!$M$9:$M$1008,5)) -> 18000 | H13: =IF(C13="","",IF(5<=Parametry!$G$7,0,SUMIFS(Umowy!$N$9:$N$108,Umowy!$D$9:$D$108,C13,Umowy!$O$9:$O$108,5))) -> 0 | I13: =IF(C13="","",IF(5<=Parametry!$G$7,0,IF(COUNTIFS(Prognoza!$C$9:$C$38,C13)=1,IF(ISBLANK(INDEX(Prognoza!$K$9:$V$38,MATCH($C13,Prognoza!$C$9:$C$38,0),5)),"",IF(ISNUMBER(INDEX(Prognoza!$K$9:$V$38,MATCH($C13,Prognoza!$C$9:$C$38,0),5)),INDEX(Prognoza!$K$9:$V$38,MATCH($C13,Prognoza!$C$9:$C$38,0),5),"")),""))) -> 0 | J13: =IF(C13="","",IF(Plan!F9="Run",IF(ISNUMBER(INDEX(Parametry!$H$18:$S$18,1,5)),INDEX(Parametry!$H$18:$S$18,1,5),""),IF(ISNUMBER(INDEX(Parametry!$H$24:$S$24,1,5)),INDEX(Parametry!$H$24:$S$24,1,5),""))) -> 0 | K13: =IF(C13="","",IF(5<=Parametry!$G$7,0,IF(AND(ISNUMBER(I13),ISNUMBER(J13),J13>=-1),I13*(1+J13),""))) -> 0 | L13: =IF(C13="","",IF(5<=Parametry!$G$7,G13,IF(ISNUMBER(K13),H13+K13,""))) -> 18000 | M13: =IF(AND(C13<>"",ISNUMBER(L13)),L13-F13,"") -> 0 | N13: =IF(C13="",0,IF(ISNUMBER(L13),0,1)) -> 0
C14: =IF(Plan!C9="","",Plan!C9) -> IT01 | D14: =IF(C14="","",Plan!D9) -> Licencje stanowiskowe | E14: =IF(OR(C14="",Parametry!$G$6=""),"",DATE(Parametry!$G$6,6,1)) -> 46539 | F14: =IF(C14="","",Plan!P9) -> 18000 | G14: =IF(C14="","",SUMIFS(ERP!$I$9:$I$1008,ERP!$L$9:$L$1008,C14,ERP!$N$9:$N$1008,1,ERP!$M$9:$M$1008,6)) -> 18000 | H14: =IF(C14="","",IF(6<=Parametry!$G$7,0,SUMIFS(Umowy!$N$9:$N$108,Umowy!$D$9:$D$108,C14,Umowy!$O$9:$O$108,6))) -> 0 | I14: =IF(C14="","",IF(6<=Parametry!$G$7,0,IF(COUNTIFS(Prognoza!$C$9:$C$38,C14)=1,IF(ISBLANK(INDEX(Prognoza!$K$9:$V$38,MATCH($C14,Prognoza!$C$9:$C$38,0),6)),"",IF(ISNUMBER(INDEX(Prognoza!$K$9:$V$38,MATCH($C14,Prognoza!$C$9:$C$38,0),6)),INDEX(Prognoza!$K$9:$V$38,MATCH($C14,Prognoza!$C$9:$C$38,0),6),"")),""))) -> 0 | J14: =IF(C14="","",IF(Plan!F9="Run",IF(ISNUMBER(INDEX(Parametry!$H$18:$S$18,1,6)),INDEX(Parametry!$H$18:$S$18,1,6),""),IF(ISNUMBER(INDEX(Parametry!$H$24:$S$24,1,6)),INDEX(Parametry!$H$24:$S$24,1,6),""))) -> 0 | K14: =IF(C14="","",IF(6<=Parametry!$G$7,0,IF(AND(ISNUMBER(I14),ISNUMBER(J14),J14>=-1),I14*(1+J14),""))) -> 0 | L14: =IF(C14="","",IF(6<=Parametry!$G$7,G14,IF(ISNUMBER(K14),H14+K14,""))) -> 18000 | M14: =IF(AND(C14<>"",ISNUMBER(L14)),L14-F14,"") -> 0 | N14: =IF(C14="",0,IF(ISNUMBER(L14),0,1)) -> 0
C15: =IF(Plan!C9="","",Plan!C9) -> IT01 | D15: =IF(C15="","",Plan!D9) -> Licencje stanowiskowe | E15: =IF(OR(C15="",Parametry!$G$6=""),"",DATE(Parametry!$G$6,7,1)) -> 46569 | F15: =IF(C15="","",Plan!Q9) -> 18000 | G15: =IF(C15="","",SUMIFS(ERP!$I$9:$I$1008,ERP!$L$9:$L$1008,C15,ERP!$N$9:$N$1008,1,ERP!$M$9:$M$1008,7)) -> 0 | H15: =IF(C15="","",IF(7<=Parametry!$G$7,0,SUMIFS(Umowy!$N$9:$N$108,Umowy!$D$9:$D$108,C15,Umowy!$O$9:$O$108,7))) -> 18000 | I15: =IF(C15="","",IF(7<=Parametry!$G$7,0,IF(COUNTIFS(Prognoza!$C$9:$C$38,C15)=1,IF(ISBLANK(INDEX(Prognoza!$K$9:$V$38,MATCH($C15,Prognoza!$C$9:$C$38,0),7)),"",IF(ISNUMBER(INDEX(Prognoza!$K$9:$V$38,MATCH($C15,Prognoza!$C$9:$C$38,0),7)),INDEX(Prognoza!$K$9:$V$38,MATCH($C15,Prognoza!$C$9:$C$38,0),7),"")),""))) -> 0 | J15: =IF(C15="","",IF(Plan!F9="Run",IF(ISNUMBER(INDEX(Parametry!$H$18:$S$18,1,7)),INDEX(Parametry!$H$18:$S$18,1,7),""),IF(ISNUMBER(INDEX(Parametry!$H$24:$S$24,1,7)),INDEX(Parametry!$H$24:$S$24,1,7),""))) -> 0 | K15: =IF(C15="","",IF(7<=Parametry!$G$7,0,IF(AND(ISNUMBER(I15),ISNUMBER(J15),J15>=-1),I15*(1+J15),""))) -> 0 | L15: =IF(C15="","",IF(7<=Parametry!$G$7,G15,IF(ISNUMBER(K15),H15+K15,""))) -> 18000 | M15: =IF(AND(C15<>"",ISNUMBER(L15)),L15-F15,"") -> 0 | N15: =IF(C15="",0,IF(ISNUMBER(L15),0,1)) -> 0
C16: =IF(Plan!C9="","",Plan!C9) -> IT01 | D16: =IF(C16="","",Plan!D9) -> Licencje stanowiskowe | E16: =IF(OR(C16="",Parametry!$G$6=""),"",DATE(Parametry!$G$6,8,1)) -> 46600 | F16: =IF(C16="","",Plan!R9) -> 18000 | G16: =IF(C16="","",SUMIFS(ERP!$I$9:$I$1008,ERP!$L$9:$L$1008,C16,ERP!$N$9:$N$1008,1,ERP!$M$9:$M$1008,8)) -> 0 | H16: =IF(C16="","",IF(8<=Parametry!$G$7,0,SUMIFS(Umowy!$N$9:$N$108,Umowy!$D$9:$D$108,C16,Umowy!$O$9:$O$108,8))) -> 18000 | I16: =IF(C16="","",IF(8<=Parametry!$G$7,0,IF(COUNTIFS(Prognoza!$C$9:$C$38,C16)=1,IF(ISBLANK(INDEX(Prognoza!$K$9:$V$38,MATCH($C16,Prognoza!$C$9:$C$38,0),8)),"",IF(ISNUMBER(INDEX(Prognoza!$K$9:$V$38,MATCH($C16,Prognoza!$C$9:$C$38,0),8)),INDEX(Prognoza!$K$9:$V$38,MATCH($C16,Prognoza!$C$9:$C$38,0),8),"")),""))) -> 0 | J16: =IF(C16="","",IF(Plan!F9="Run",IF(ISNUMBER(INDEX(Parametry!$H$18:$S$18,1,8)),INDEX(Parametry!$H$18:$S$18,1,8),""),IF(ISNUMBER(INDEX(Parametry!$H$24:$S$24,1,8)),INDEX(Parametry!$H$24:$S$24,1,8),""))) -> 0 | K16: =IF(C16="","",IF(8<=Parametry!$G$7,0,IF(AND(ISNUMBER(I16),ISNUMBER(J16),J16>=-1),I16*(1+J16),""))) -> 0 | L16: =IF(C16="","",IF(8<=Parametry!$G$7,G16,IF(ISNUMBER(K16),H16+K16,""))) -> 18000 | M16: =IF(AND(C16<>"",ISNUMBER(L16)),L16-F16,"") -> 0 | N16: =IF(C16="",0,IF(ISNUMBER(L16),0,1)) -> 0
C17: =IF(Plan!C9="","",Plan!C9) -> IT01 | D17: =IF(C17="","",Plan!D9) -> Licencje stanowiskowe | E17: =IF(OR(C17="",Parametry!$G$6=""),"",DATE(Parametry!$G$6,9,1)) -> 46631 | F17: =IF(C17="","",Plan!S9) -> 18000 | G17: =IF(C17="","",SUMIFS(ERP!$I$9:$I$1008,ERP!$L$9:$L$1008,C17,ERP!$N$9:$N$1008,1,ERP!$M$9:$M$1008,9)) -> 0 | H17: =IF(C17="","",IF(9<=Parametry!$G$7,0,SUMIFS(Umowy!$N$9:$N$108,Umowy!$D$9:$D$108,C17,Umowy!$O$9:$O$108,9))) -> 18000 | I17: =IF(C17="","",IF(9<=Parametry!$G$7,0,IF(COUNTIFS(Prognoza!$C$9:$C$38,C17)=1,IF(ISBLANK(INDEX(Prognoza!$K$9:$V$38,MATCH($C17,Prognoza!$C$9:$C$38,0),9)),"",IF(ISNUMBER(INDEX(Prognoza!$K$9:$V$38,MATCH($C17,Prognoza!$C$9:$C$38,0),9)),INDEX(Prognoza!$K$9:$V$38,MATCH($C17,Prognoza!$C$9:$C$38,0),9),"")),""))) -> 0 | J17: =IF(C17="","",IF(Plan!F9="Run",IF(ISNUMBER(INDEX(Parametry!$H$18:$S$18,1,9)),INDEX(Parametry!$H$18:$S$18,1,9),""),IF(ISNUMBER(INDEX(Parametry!$H$24:$S$24,1,9)),INDEX(Parametry!$H$24:$S$24,1,9),""))) -> 0 | K17: =IF(C17="","",IF(9<=Parametry!$G$7,0,IF(AND(ISNUMBER(I17),ISNUMBER(J17),J17>=-1),I17*(1+J17),""))) -> 0 | L17: =IF(C17="","",IF(9<=Parametry!$G$7,G17,IF(ISNUMBER(K17),H17+K17,""))) -> 18000 | M17: =IF(AND(C17<>"",ISNUMBER(L17)),L17-F17,"") -> 0 | N17: =IF(C17="",0,IF(ISNUMBER(L17),0,1)) -> 0
C18: =IF(Plan!C9="","",Plan!C9) -> IT01 | D18: =IF(C18="","",Plan!D9) -> Licencje stanowiskowe | E18: =IF(OR(C18="",Parametry!$G$6=""),"",DATE(Parametry!$G$6,10,1)) -> 46661 | F18: =IF(C18="","",Plan!T9) -> 18000 | G18: =IF(C18="","",SUMIFS(ERP!$I$9:$I$1008,ERP!$L$9:$L$1008,C18,ERP!$N$9:$N$1008,1,ERP!$M$9:$M$1008,10)) -> 0 | H18: =IF(C18="","",IF(10<=Parametry!$G$7,0,SUMIFS(Umowy!$N$9:$N$108,Umowy!$D$9:$D$108,C18,Umowy!$O$9:$O$108,10))) -> 18000 | I18: =IF(C18="","",IF(10<=Parametry!$G$7,0,IF(COUNTIFS(Prognoza!$C$9:$C$38,C18)=1,IF(ISBLANK(INDEX(Prognoza!$K$9:$V$38,MATCH($C18,Prognoza!$C$9:$C$38,0),10)),"",IF(ISNUMBER(INDEX(Prognoza!$K$9:$V$38,MATCH($C18,Prognoza!$C$9:$C$38,0),10)),INDEX(Prognoza!$K$9:$V$38,MATCH($C18,Prognoza!$C$9:$C$38,0),10),"")),""))) -> 0 | J18: =IF(C18="","",IF(Plan!F9="Run",IF(ISNUMBER(INDEX(Parametry!$H$18:$S$18,1,10)),INDEX(Parametry!$H$18:$S$18,1,10),""),IF(ISNUMBER(INDEX(Parametry!$H$24:$S$24,1,10)),INDEX(Parametry!$H$24:$S$24,1,10),""))) -> 0 | K18: =IF(C18="","",IF(10<=Parametry!$G$7,0,IF(AND(ISNUMBER(I18),ISNUMBER(J18),J18>=-1),I18*(1+J18),""))) -> 0 | L18: =IF(C18="","",IF(10<=Parametry!$G$7,G18,IF(ISNUMBER(K18),H18+K18,""))) -> 18000 | M18: =IF(AND(C18<>"",ISNUMBER(L18)),L18-F18,"") -> 0 | N18: =IF(C18="",0,IF(ISNUMBER(L18),0,1)) -> 0
C19: =IF(Plan!C9="","",Plan!C9) -> IT01 | D19: =IF(C19="","",Plan!D9) -> Licencje stanowiskowe | E19: =IF(OR(C19="",Parametry!$G$6=""),"",DATE(Parametry!$G$6,11,1)) -> 46692 | F19: =IF(C19="","",Plan!U9) -> 18000 | G19: =IF(C19="","",SUMIFS(ERP!$I$9:$I$1008,ERP!$L$9:$L$1008,C19,ERP!$N$9:$N$1008,1,ERP!$M$9:$M$1008,11)) -> 0 | H19: =IF(C19="","",IF(11<=Parametry!$G$7,0,SUMIFS(Umowy!$N$9:$N$108,Umowy!$D$9:$D$108,C19,Umowy!$O$9:$O$108,11))) -> 18000 | I19: =IF(C19="","",IF(11<=Parametry!$G$7,0,IF(COUNTIFS(Prognoza!$C$9:$C$38,C19)=1,IF(ISBLANK(INDEX(Prognoza!$K$9:$V$38,MATCH($C19,Prognoza!$C$9:$C$38,0),11)),"",IF(ISNUMBER(INDEX(Prognoza!$K$9:$V$38,MATCH($C19,Prognoza!$C$9:$C$38,0),11)),INDEX(Prognoza!$K$9:$V$38,MATCH($C19,Prognoza!$C$9:$C$38,0),11),"")),""))) -> 0 | J19: =IF(C19="","",IF(Plan!F9="Run",IF(ISNUMBER(INDEX(Parametry!$H$18:$S$18,1,11)),INDEX(Parametry!$H$18:$S$18,1,11),""),IF(ISNUMBER(INDEX(Parametry!$H$24:$S$24,1,11)),INDEX(Parametry!$H$24:$S$24,1,11),""))) -> 0 | K19: =IF(C19="","",IF(11<=Parametry!$G$7,0,IF(AND(ISNUMBER(I19),ISNUMBER(J19),J19>=-1),I19*(1+J19),""))) -> 0 | L19: =IF(C19="","",IF(11<=Parametry!$G$7,G19,IF(ISNUMBER(K19),H19+K19,""))) -> 18000 | M19: =IF(AND(C19<>"",ISNUMBER(L19)),L19-F19,"") -> 0 | N19: =IF(C19="",0,IF(ISNUMBER(L19),0,1)) -> 0
C20: =IF(Plan!C9="","",Plan!C9) -> IT01 | D20: =IF(C20="","",Plan!D9) -> Licencje stanowiskowe | E20: =IF(OR(C20="",Parametry!$G$6=""),"",DATE(Parametry!$G$6,12,1)) -> 46722 | F20: =IF(C20="","",Plan!V9) -> 18000 | G20: =IF(C20="","",SUMIFS(ERP!$I$9:$I$1008,ERP!$L$9:$L$1008,C20,ERP!$N$9:$N$1008,1,ERP!$M$9:$M$1008,12)) -> 0 | H20: =IF(C20="","",IF(12<=Parametry!$G$7,0,SUMIFS(Umowy!$N$9:$N$108,Umowy!$D$9:$D$108,C20,Umowy!$O$9:$O$108,12))) -> 18000 | I20: =IF(C20="","",IF(12<=Parametry!$G$7,0,IF(COUNTIFS(Prognoza!$C$9:$C$38,C20)=1,IF(ISBLANK(INDEX(Prognoza!$K$9:$V$38,MATCH($C20,Prognoza!$C$9:$C$38,0),12)),"",IF(ISNUMBER(INDEX(Prognoza!$K$9:$V$38,MATCH($C20,Prognoza!$C$9:$C$38,0),12)),INDEX(Prognoza!$K$9:$V$38,MATCH($C20,Prognoza!$C$9:$C$38,0),12),"")),""))) -> 0 | J20: =IF(C20="","",IF(Plan!F9="Run",IF(ISNUMBER(INDEX(Parametry!$H$18:$S$18,1,12)),INDEX(Parametry!$H$18:$S$18,1,12),""),IF(ISNUMBER(INDEX(Parametry!$H$24:$S$24,1,12)),INDEX(Parametry!$H$24:$S$24,1,12),""))) -> 0 | K20: =IF(C20="","",IF(12<=Parametry!$G$7,0,IF(AND(ISNUMBER(I20),ISNUMBER(J20),J20>=-1),I20*(1+J20),""))) -> 0 | L20: =IF(C20="","",IF(12<=Parametry!$G$7,G20,IF(ISNUMBER(K20),H20+K20,""))) -> 18000 | M20: =IF(AND(C20<>"",ISNUMBER(L20)),L20-F20,"") -> 0 | N20: =IF(C20="",0,IF(ISNUMBER(L20),0,1)) -> 0
C21: =IF(Plan!C10="","",Plan!C10) -> IT02 | D21: =IF(C21="","",Plan!D10) -> Utrzymanie ERP | E21: =IF(OR(C21="",Parametry!$G$6=""),"",DATE(Parametry!$G$6,1,1)) -> 46388 | F21: =IF(C21="","",Plan!K10) -> 144000 | G21: =IF(C21="","",SUMIFS(ERP!$I$9:$I$1008,ERP!$L$9:$L$1008,C21,ERP!$N$9:$N$1008,1,ERP!$M$9:$M$1008,1)) -> 120000 | H21: =IF(C21="","",IF(1<=Parametry!$G$7,0,SUMIFS(Umowy!$N$9:$N$108,Umowy!$D$9:$D$108,C21,Umowy!$O$9:$O$108,1))) -> 0 | I21: =IF(C21="","",IF(1<=Parametry!$G$7,0,IF(COUNTIFS(Prognoza!$C$9:$C$38,C21)=1,IF(ISBLANK(INDEX(Prognoza!$K$9:$V$38,MATCH($C21,Prognoza!$C$9:$C$38,0),1)),"",IF(ISNUMBER(INDEX(Prognoza!$K$9:$V$38,MATCH($C21,Prognoza!$C$9:$C$38,0),1)),INDEX(Prognoza!$K$9:$V$38,MATCH($C21,Prognoza!$C$9:$C$38,0),1),"")),""))) -> 0 | J21: =IF(C21="","",IF(Plan!F10="Run",IF(ISNUMBER(INDEX(Parametry!$H$18:$S$18,1,1)),INDEX(Parametry!$H$18:$S$18,1,1),""),IF(ISNUMBER(INDEX(Parametry!$H$24:$S$24,1,1)),INDEX(Parametry!$H$24:$S$24,1,1),""))) -> 0 | K21: =IF(C21="","",IF(1<=Parametry!$G$7,0,IF(AND(ISNUMBER(I21),ISNUMBER(J21),J21>=-1),I21*(1+J21),""))) -> 0 | L21: =IF(C21="","",IF(1<=Parametry!$G$7,G21,IF(ISNUMBER(K21),H21+K21,""))) -> 120000 | M21: =IF(AND(C21<>"",ISNUMBER(L21)),L21-F21,"") -> -24000 | N21: =IF(C21="",0,IF(ISNUMBER(L21),0,1)) -> 0
C22: =IF(Plan!C10="","",Plan!C10) -> IT02 | D22: =IF(C22="","",Plan!D10) -> Utrzymanie ERP | E22: =IF(OR(C22="",Parametry!$G$6=""),"",DATE(Parametry!$G$6,2,1)) -> 46419 | F22: =IF(C22="","",Plan!L10) -> 0 | G22: =IF(C22="","",SUMIFS(ERP!$I$9:$I$1008,ERP!$L$9:$L$1008,C22,ERP!$N$9:$N$1008,1,ERP!$M$9:$M$1008,2)) -> 0 | H22: =IF(C22="","",IF(2<=Parametry!$G$7,0,SUMIFS(Umowy!$N$9:$N$108,Umowy!$D$9:$D$108,C22,Umowy!$O$9:$O$108,2))) -> 0 | I22: =IF(C22="","",IF(2<=Parametry!$G$7,0,IF(COUNTIFS(Prognoza!$C$9:$C$38,C22)=1,IF(ISBLANK(INDEX(Prognoza!$K$9:$V$38,MATCH($C22,Prognoza!$C$9:$C$38,0),2)),"",IF(ISNUMBER(INDEX(Prognoza!$K$9:$V$38,MATCH($C22,Prognoza!$C$9:$C$38,0),2)),INDEX(Prognoza!$K$9:$V$38,MATCH($C22,Prognoza!$C$9:$C$38,0),2),"")),""))) -> 0 | J22: =IF(C22="","",IF(Plan!F10="Run",IF(ISNUMBER(INDEX(Parametry!$H$18:$S$18,1,2)),INDEX(Parametry!$H$18:$S$18,1,2),""),IF(ISNUMBER(INDEX(Parametry!$H$24:$S$24,1,2)),INDEX(Parametry!$H$24:$S$24,1,2),""))) -> 0 | K22: =IF(C22="","",IF(2<=Parametry!$G$7,0,IF(AND(ISNUMBER(I22),ISNUMBER(J22),J22>=-1),I22*(1+J22),""))) -> 0 | L22: =IF(C22="","",IF(2<=Parametry!$G$7,G22,IF(ISNUMBER(K22),H22+K22,""))) -> 0 | M22: =IF(AND(C22<>"",ISNUMBER(L22)),L22-F22,"") -> 0 | N22: =IF(C22="",0,IF(ISNUMBER(L22),0,1)) -> 0
C23: =IF(Plan!C10="","",Plan!C10) -> IT02 | D23: =IF(C23="","",Plan!D10) -> Utrzymanie ERP | E23: =IF(OR(C23="",Parametry!$G$6=""),"",DATE(Parametry!$G$6,3,1)) -> 46447 | F23: =IF(C23="","",Plan!M10) -> 0 | G23: =IF(C23="","",SUMIFS(ERP!$I$9:$I$1008,ERP!$L$9:$L$1008,C23,ERP!$N$9:$N$1008,1,ERP!$M$9:$M$1008,3)) -> 0 | H23: =IF(C23="","",IF(3<=Parametry!$G$7,0,SUMIFS(Umowy!$N$9:$N$108,Umowy!$D$9:$D$108,C23,Umowy!$O$9:$O$108,3))) -> 0 | I23: =IF(C23="","",IF(3<=Parametry!$G$7,0,IF(COUNTIFS(Prognoza!$C$9:$C$38,C23)=1,IF(ISBLANK(INDEX(Prognoza!$K$9:$V$38,MATCH($C23,Prognoza!$C$9:$C$38,0),3)),"",IF(ISNUMBER(INDEX(Prognoza!$K$9:$V$38,MATCH($C23,Prognoza!$C$9:$C$38,0),3)),INDEX(Prognoza!$K$9:$V$38,MATCH($C23,Prognoza!$C$9:$C$38,0),3),"")),""))) -> 0 | J23: =IF(C23="","",IF(Plan!F10="Run",IF(ISNUMBER(INDEX(Parametry!$H$18:$S$18,1,3)),INDEX(Parametry!$H$18:$S$18,1,3),""),IF(ISNUMBER(INDEX(Parametry!$H$24:$S$24,1,3)),INDEX(Parametry!$H$24:$S$24,1,3),""))) -> 0 | K23: =IF(C23="","",IF(3<=Parametry!$G$7,0,IF(AND(ISNUMBER(I23),ISNUMBER(J23),J23>=-1),I23*(1+J23),""))) -> 0 | L23: =IF(C23="","",IF(3<=Parametry!$G$7,G23,IF(ISNUMBER(K23),H23+K23,""))) -> 0 | M23: =IF(AND(C23<>"",ISNUMBER(L23)),L23-F23,"") -> 0 | N23: =IF(C23="",0,IF(ISNUMBER(L23),0,1)) -> 0
C24: =IF(Plan!C10="","",Plan!C10) -> IT02 | D24: =IF(C24="","",Plan!D10) -> Utrzymanie ERP | E24: =IF(OR(C24="",Parametry!$G$6=""),"",DATE(Parametry!$G$6,4,1)) -> 46478 | F24: =IF(C24="","",Plan!N10) -> 0 | G24: =IF(C24="","",SUMIFS(ERP!$I$9:$I$1008,ERP!$L$9:$L$1008,C24,ERP!$N$9:$N$1008,1,ERP!$M$9:$M$1008,4)) -> 0 | H24: =IF(C24="","",IF(4<=Parametry!$G$7,0,SUMIFS(Umowy!$N$9:$N$108,Umowy!$D$9:$D$108,C24,Umowy!$O$9:$O$108,4))) -> 0 | I24: =IF(C24="","",IF(4<=Parametry!$G$7,0,IF(COUNTIFS(Prognoza!$C$9:$C$38,C24)=1,IF(ISBLANK(INDEX(Prognoza!$K$9:$V$38,MATCH($C24,Prognoza!$C$9:$C$38,0),4)),"",IF(ISNUMBER(INDEX(Prognoza!$K$9:$V$38,MATCH($C24,Prognoza!$C$9:$C$38,0),4)),INDEX(Prognoza!$K$9:$V$38,MATCH($C24,Prognoza!$C$9:$C$38,0),4),"")),""))) -> 0 | J24: =IF(C24="","",IF(Plan!F10="Run",IF(ISNUMBER(INDEX(Parametry!$H$18:$S$18,1,4)),INDEX(Parametry!$H$18:$S$18,1,4),""),IF(ISNUMBER(INDEX(Parametry!$H$24:$S$24,1,4)),INDEX(Parametry!$H$24:$S$24,1,4),""))) -> 0 | K24: =IF(C24="","",IF(4<=Parametry!$G$7,0,IF(AND(ISNUMBER(I24),ISNUMBER(J24),J24>=-1),I24*(1+J24),""))) -> 0 | L24: =IF(C24="","",IF(4<=Parametry!$G$7,G24,IF(ISNUMBER(K24),H24+K24,""))) -> 0 | M24: =IF(AND(C24<>"",ISNUMBER(L24)),L24-F24,"") -> 0 | N24: =IF(C24="",0,IF(ISNUMBER(L24),0,1)) -> 0
C25: =IF(Plan!C10="","",Plan!C10) -> IT02 | D25: =IF(C25="","",Plan!D10) -> Utrzymanie ERP | E25: =IF(OR(C25="",Parametry!$G$6=""),"",DATE(Parametry!$G$6,5,1)) -> 46508 | F25: =IF(C25="","",Plan!O10) -> 0 | G25: =IF(C25="","",SUMIFS(ERP!$I$9:$I$1008,ERP!$L$9:$L$1008,C25,ERP!$N$9:$N$1008,1,ERP!$M$9:$M$1008,5)) -> 0 | H25: =IF(C25="","",IF(5<=Parametry!$G$7,0,SUMIFS(Umowy!$N$9:$N$108,Umowy!$D$9:$D$108,C25,Umowy!$O$9:$O$108,5))) -> 0 | I25: =IF(C25="","",IF(5<=Parametry!$G$7,0,IF(COUNTIFS(Prognoza!$C$9:$C$38,C25)=1,IF(ISBLANK(INDEX(Prognoza!$K$9:$V$38,MATCH($C25,Prognoza!$C$9:$C$38,0),5)),"",IF(ISNUMBER(INDEX(Prognoza!$K$9:$V$38,MATCH($C25,Prognoza!$C$9:$C$38,0),5)),INDEX(Prognoza!$K$9:$V$38,MATCH($C25,Prognoza!$C$9:$C$38,0),5),"")),""))) -> 0 | J25: =IF(C25="","",IF(Plan!F10="Run",IF(ISNUMBER(INDEX(Parametry!$H$18:$S$18,1,5)),INDEX(Parametry!$H$18:$S$18,1,5),""),IF(ISNUMBER(INDEX(Parametry!$H$24:$S$24,1,5)),INDEX(Parametry!$H$24:$S$24,1,5),""))) -> 0 | K25: =IF(C25="","",IF(5<=Parametry!$G$7,0,IF(AND(ISNUMBER(I25),ISNUMBER(J25),J25>=-1),I25*(1+J25),""))) -> 0 | L25: =IF(C25="","",IF(5<=Parametry!$G$7,G25,IF(ISNUMBER(K25),H25+K25,""))) -> 0 | M25: =IF(AND(C25<>"",ISNUMBER(L25)),L25-F25,"") -> 0 | N25: =IF(C25="",0,IF(ISNUMBER(L25),0,1)) -> 0
C26: =IF(Plan!C10="","",Plan!C10) -> IT02 | D26: =IF(C26="","",Plan!D10) -> Utrzymanie ERP | E26: =IF(OR(C26="",Parametry!$G$6=""),"",DATE(Parametry!$G$6,6,1)) -> 46539 | F26: =IF(C26="","",Plan!P10) -> 0 | G26: =IF(C26="","",SUMIFS(ERP!$I$9:$I$1008,ERP!$L$9:$L$1008,C26,ERP!$N$9:$N$1008,1,ERP!$M$9:$M$1008,6)) -> -2000 | H26: =IF(C26="","",IF(6<=Parametry!$G$7,0,SUMIFS(Umowy!$N$9:$N$108,Umowy!$D$9:$D$108,C26,Umowy!$O$9:$O$108,6))) -> 0 | I26: =IF(C26="","",IF(6<=Parametry!$G$7,0,IF(COUNTIFS(Prognoza!$C$9:$C$38,C26)=1,IF(ISBLANK(INDEX(Prognoza!$K$9:$V$38,MATCH($C26,Prognoza!$C$9:$C$38,0),6)),"",IF(ISNUMBER(INDEX(Prognoza!$K$9:$V$38,MATCH($C26,Prognoza!$C$9:$C$38,0),6)),INDEX(Prognoza!$K$9:$V$38,MATCH($C26,Prognoza!$C$9:$C$38,0),6),"")),""))) -> 0 | J26: =IF(C26="","",IF(Plan!F10="Run",IF(ISNUMBER(INDEX(Parametry!$H$18:$S$18,1,6)),INDEX(Parametry!$H$18:$S$18,1,6),""),IF(ISNUMBER(INDEX(Parametry!$H$24:$S$24,1,6)),INDEX(Parametry!$H$24:$S$24,1,6),""))) -> 0 | K26: =IF(C26="","",IF(6<=Parametry!$G$7,0,IF(AND(ISNUMBER(I26),ISNUMBER(J26),J26>=-1),I26*(1+J26),""))) -> 0 | L26: =IF(C26="","",IF(6<=Parametry!$G$7,G26,IF(ISNUMBER(K26),H26+K26,""))) -> -2000 | M26: =IF(AND(C26<>"",ISNUMBER(L26)),L26-F26,"") -> -2000 | N26: =IF(C26="",0,IF(ISNUMBER(L26),0,1)) -> 0
C27: =IF(Plan!C10="","",Plan!C10) -> IT02 | D27: =IF(C27="","",Plan!D10) -> Utrzymanie ERP | E27: =IF(OR(C27="",Parametry!$G$6=""),"",DATE(Parametry!$G$6,7,1)) -> 46569 | F27: =IF(C27="","",Plan!Q10) -> 0 | G27: =IF(C27="","",SUMIFS(ERP!$I$9:$I$1008,ERP!$L$9:$L$1008,C27,ERP!$N$9:$N$1008,1,ERP!$M$9:$M$1008,7)) -> 0 | H27: =IF(C27="","",IF(7<=Parametry!$G$7,0,SUMIFS(Umowy!$N$9:$N$108,Umowy!$D$9:$D$108,C27,Umowy!$O$9:$O$108,7))) -> 26000 | I27: =IF(C27="","",IF(7<=Parametry!$G$7,0,IF(COUNTIFS(Prognoza!$C$9:$C$38,C27)=1,IF(ISBLANK(INDEX(Prognoza!$K$9:$V$38,MATCH($C27,Prognoza!$C$9:$C$38,0),7)),"",IF(ISNUMBER(INDEX(Prognoza!$K$9:$V$38,MATCH($C27,Prognoza!$C$9:$C$38,0),7)),INDEX(Prognoza!$K$9:$V$38,MATCH($C27,Prognoza!$C$9:$C$38,0),7),"")),""))) -> 0 | J27: =IF(C27="","",IF(Plan!F10="Run",IF(ISNUMBER(INDEX(Parametry!$H$18:$S$18,1,7)),INDEX(Parametry!$H$18:$S$18,1,7),""),IF(ISNUMBER(INDEX(Parametry!$H$24:$S$24,1,7)),INDEX(Parametry!$H$24:$S$24,1,7),""))) -> 0 | K27: =IF(C27="","",IF(7<=Parametry!$G$7,0,IF(AND(ISNUMBER(I27),ISNUMBER(J27),J27>=-1),I27*(1+J27),""))) -> 0 | L27: =IF(C27="","",IF(7<=Parametry!$G$7,G27,IF(ISNUMBER(K27),H27+K27,""))) -> 26000 | M27: =IF(AND(C27<>"",ISNUMBER(L27)),L27-F27,"") -> 26000 | N27: =IF(C27="",0,IF(ISNUMBER(L27),0,1)) -> 0
C28: =IF(Plan!C10="","",Plan!C10) -> IT02 | D28: =IF(C28="","",Plan!D10) -> Utrzymanie ERP | E28: =IF(OR(C28="",Parametry!$G$6=""),"",DATE(Parametry!$G$6,8,1)) -> 46600 | F28: =IF(C28="","",Plan!R10) -> 0 | G28: =IF(C28="","",SUMIFS(ERP!$I$9:$I$1008,ERP!$L$9:$L$1008,C28,ERP!$N$9:$N$1008,1,ERP!$M$9:$M$1008,8)) -> 0 | H28: =IF(C28="","",IF(8<=Parametry!$G$7,0,SUMIFS(Umowy!$N$9:$N$108,Umowy!$D$9:$D$108,C28,Umowy!$O$9:$O$108,8))) -> 0 | I28: =IF(C28="","",IF(8<=Parametry!$G$7,0,IF(COUNTIFS(Prognoza!$C$9:$C$38,C28)=1,IF(ISBLANK(INDEX(Prognoza!$K$9:$V$38,MATCH($C28,Prognoza!$C$9:$C$38,0),8)),"",IF(ISNUMBER(INDEX(Prognoza!$K$9:$V$38,MATCH($C28,Prognoza!$C$9:$C$38,0),8)),INDEX(Prognoza!$K$9:$V$38,MATCH($C28,Prognoza!$C$9:$C$38,0),8),"")),""))) -> 0 | J28: =IF(C28="","",IF(Plan!F10="Run",IF(ISNUMBER(INDEX(Parametry!$H$18:$S$18,1,8)),INDEX(Parametry!$H$18:$S$18,1,8),""),IF(ISNUMBER(INDEX(Parametry!$H$24:$S$24,1,8)),INDEX(Parametry!$H$24:$S$24,1,8),""))) -> 0 | K28: =IF(C28="","",IF(8<=Parametry!$G$7,0,IF(AND(ISNUMBER(I28),ISNUMBER(J28),J28>=-1),I28*(1+J28),""))) -> 0 | L28: =IF(C28="","",IF(8<=Parametry!$G$7,G28,IF(ISNUMBER(K28),H28+K28,""))) -> 0 | M28: =IF(AND(C28<>"",ISNUMBER(L28)),L28-F28,"") -> 0 | N28: =IF(C28="",0,IF(ISNUMBER(L28),0,1)) -> 0
C29: =IF(Plan!C10="","",Plan!C10) -> IT02 | D29: =IF(C29="","",Plan!D10) -> Utrzymanie ERP | E29: =IF(OR(C29="",Parametry!$G$6=""),"",DATE(Parametry!$G$6,9,1)) -> 46631 | F29: =IF(C29="","",Plan!S10) -> 0 | G29: =IF(C29="","",SUMIFS(ERP!$I$9:$I$1008,ERP!$L$9:$L$1008,C29,ERP!$N$9:$N$1008,1,ERP!$M$9:$M$1008,9)) -> 0 | H29: =IF(C29="","",IF(9<=Parametry!$G$7,0,SUMIFS(Umowy!$N$9:$N$108,Umowy!$D$9:$D$108,C29,Umowy!$O$9:$O$108,9))) -> 0 | I29: =IF(C29="","",IF(9<=Parametry!$G$7,0,IF(COUNTIFS(Prognoza!$C$9:$C$38,C29)=1,IF(ISBLANK(INDEX(Prognoza!$K$9:$V$38,MATCH($C29,Prognoza!$C$9:$C$38,0),9)),"",IF(ISNUMBER(INDEX(Prognoza!$K$9:$V$38,MATCH($C29,Prognoza!$C$9:$C$38,0),9)),INDEX(Prognoza!$K$9:$V$38,MATCH($C29,Prognoza!$C$9:$C$38,0),9),"")),""))) -> 0 | J29: =IF(C29="","",IF(Plan!F10="Run",IF(ISNUMBER(INDEX(Parametry!$H$18:$S$18,1,9)),INDEX(Parametry!$H$18:$S$18,1,9),""),IF(ISNUMBER(INDEX(Parametry!$H$24:$S$24,1,9)),INDEX(Parametry!$H$24:$S$24,1,9),""))) -> 0 | K29: =IF(C29="","",IF(9<=Parametry!$G$7,0,IF(AND(ISNUMBER(I29),ISNUMBER(J29),J29>=-1),I29*(1+J29),""))) -> 0 | L29: =IF(C29="","",IF(9<=Parametry!$G$7,G29,IF(ISNUMBER(K29),H29+K29,""))) -> 0 | M29: =IF(AND(C29<>"",ISNUMBER(L29)),L29-F29,"") -> 0 | N29: =IF(C29="",0,IF(ISNUMBER(L29),0,1)) -> 0
C30: =IF(Plan!C10="","",Plan!C10) -> IT02 | D30: =IF(C30="","",Plan!D10) -> Utrzymanie ERP | E30: =IF(OR(C30="",Parametry!$G$6=""),"",DATE(Parametry!$G$6,10,1)) -> 46661 | F30: =IF(C30="","",Plan!T10) -> 0 | G30: =IF(C30="","",SUMIFS(ERP!$I$9:$I$1008,ERP!$L$9:$L$1008,C30,ERP!$N$9:$N$1008,1,ERP!$M$9:$M$1008,10)) -> 0 | H30: =IF(C30="","",IF(10<=Parametry!$G$7,0,SUMIFS(Umowy!$N$9:$N$108,Umowy!$D$9:$D$108,C30,Umowy!$O$9:$O$108,10))) -> 0 | I30: =IF(C30="","",IF(10<=Parametry!$G$7,0,IF(COUNTIFS(Prognoza!$C$9:$C$38,C30)=1,IF(ISBLANK(INDEX(Prognoza!$K$9:$V$38,MATCH($C30,Prognoza!$C$9:$C$38,0),10)),"",IF(ISNUMBER(INDEX(Prognoza!$K$9:$V$38,MATCH($C30,Prognoza!$C$9:$C$38,0),10)),INDEX(Prognoza!$K$9:$V$38,MATCH($C30,Prognoza!$C$9:$C$38,0),10),"")),""))) -> 0 | J30: =IF(C30="","",IF(Plan!F10="Run",IF(ISNUMBER(INDEX(Parametry!$H$18:$S$18,1,10)),INDEX(Parametry!$H$18:$S$18,1,10),""),IF(ISNUMBER(INDEX(Parametry!$H$24:$S$24,1,10)),INDEX(Parametry!$H$24:$S$24,1,10),""))) -> 0 | K30: =IF(C30="","",IF(10<=Parametry!$G$7,0,IF(AND(ISNUMBER(I30),ISNUMBER(J30),J30>=-1),I30*(1+J30),""))) -> 0 | L30: =IF(C30="","",IF(10<=Parametry!$G$7,G30,IF(ISNUMBER(K30),H30+K30,""))) -> 0 | M30: =IF(AND(C30<>"",ISNUMBER(L30)),L30-F30,"") -> 0 | N30: =IF(C30="",0,IF(ISNUMBER(L30),0,1)) -> 0
C31: =IF(Plan!C10="","",Plan!C10) -> IT02 | D31: =IF(C31="","",Plan!D10) -> Utrzymanie ERP | E31: =IF(OR(C31="",Parametry!$G$6=""),"",DATE(Parametry!$G$6,11,1)) -> 46692 | F31: =IF(C31="","",Plan!U10) -> 0 | G31: =IF(C31="","",SUMIFS(ERP!$I$9:$I$1008,ERP!$L$9:$L$1008,C31,ERP!$N$9:$N$1008,1,ERP!$M$9:$M$1008,11)) -> 0 | H31: =IF(C31="","",IF(11<=Parametry!$G$7,0,SUMIFS(Umowy!$N$9:$N$108,Umowy!$D$9:$D$108,C31,Umowy!$O$9:$O$108,11))) -> 0 | I31: =IF(C31="","",IF(11<=Parametry!$G$7,0,IF(COUNTIFS(Prognoza!$C$9:$C$38,C31)=1,IF(ISBLANK(INDEX(Prognoza!$K$9:$V$38,MATCH($C31,Prognoza!$C$9:$C$38,0),11)),"",IF(ISNUMBER(INDEX(Prognoza!$K$9:$V$38,MATCH($C31,Prognoza!$C$9:$C$38,0),11)),INDEX(Prognoza!$K$9:$V$38,MATCH($C31,Prognoza!$C$9:$C$38,0),11),"")),""))) -> 0 | J31: =IF(C31="","",IF(Plan!F10="Run",IF(ISNUMBER(INDEX(Parametry!$H$18:$S$18,1,11)),INDEX(Parametry!$H$18:$S$18,1,11),""),IF(ISNUMBER(INDEX(Parametry!$H$24:$S$24,1,11)),INDEX(Parametry!$H$24:$S$24,1,11),""))) -> 0 | K31: =IF(C31="","",IF(11<=Parametry!$G$7,0,IF(AND(ISNUMBER(I31),ISNUMBER(J31),J31>=-1),I31*(1+J31),""))) -> 0 | L31: =IF(C31="","",IF(11<=Parametry!$G$7,G31,IF(ISNUMBER(K31),H31+K31,""))) -> 0 | M31: =IF(AND(C31<>"",ISNUMBER(L31)),L31-F31,"") -> 0 | N31: =IF(C31="",0,IF(ISNUMBER(L31),0,1)) -> 0
C32: =IF(Plan!C10="","",Plan!C10) -> IT02 | D32: =IF(C32="","",Plan!D10) -> Utrzymanie ERP | E32: =IF(OR(C32="",Parametry!$G$6=""),"",DATE(Parametry!$G$6,12,1)) -> 46722 | F32: =IF(C32="","",Plan!V10) -> 0 | G32: =IF(C32="","",SUMIFS(ERP!$I$9:$I$1008,ERP!$L$9:$L$1008,C32,ERP!$N$9:$N$1008,1,ERP!$M$9:$M$1008,12)) -> 0 | H32: =IF(C32="","",IF(12<=Parametry!$G$7,0,SUMIFS(Umowy!$N$9:$N$108,Umowy!$D$9:$D$108,C32,Umowy!$O$9:$O$108,12))) -> 0 | I32: =IF(C32="","",IF(12<=Parametry!$G$7,0,IF(COUNTIFS(Prognoza!$C$9:$C$38,C32)=1,IF(ISBLANK(INDEX(Prognoza!$K$9:$V$38,MATCH($C32,Prognoza!$C$9:$C$38,0),12)),"",IF(ISNUMBER(INDEX(Prognoza!$K$9:$V$38,MATCH($C32,Prognoza!$C$9:$C$38,0),12)),INDEX(Prognoza!$K$9:$V$38,MATCH($C32,Prognoza!$C$9:$C$38,0),12),"")),""))) -> 0 | J32: =IF(C32="","",IF(Plan!F10="Run",IF(ISNUMBER(INDEX(Parametry!$H$18:$S$18,1,12)),INDEX(Parametry!$H$18:$S$18,1,12),""),IF(ISNUMBER(INDEX(Parametry!$H$24:$S$24,1,12)),INDEX(Parametry!$H$24:$S$24,1,12),""))) -> 0 | K32: =IF(C32="","",IF(12<=Parametry!$G$7,0,IF(AND(ISNUMBER(I32),ISNUMBER(J32),J32>=-1),I32*(1+J32),""))) -> 0 | L32: =IF(C32="","",IF(12<=Parametry!$G$7,G32,IF(ISNUMBER(K32),H32+K32,""))) -> 0 | M32: =IF(AND(C32<>"",ISNUMBER(L32)),L32-F32,"") -> 0 | N32: =IF(C32="",0,IF(ISNUMBER(L32),0,1)) -> 0
C33: =IF(Plan!C11="","",Plan!C11) -> IT03 | D33: =IF(C33="","",Plan!D11) -> Backup i odtwarzanie | E33: =IF(OR(C33="",Parametry!$G$6=""),"",DATE(Parametry!$G$6,1,1)) -> 46388 | F33: =IF(C33="","",Plan!K11) -> 3000 | G33: =IF(C33="","",SUMIFS(ERP!$I$9:$I$1008,ERP!$L$9:$L$1008,C33,ERP!$N$9:$N$1008,1,ERP!$M$9:$M$1008,1)) -> 3000 | H33: =IF(C33="","",IF(1<=Parametry!$G$7,0,SUMIFS(Umowy!$N$9:$N$108,Umowy!$D$9:$D$108,C33,Umowy!$O$9:$O$108,1))) -> 0 | I33: =IF(C33="","",IF(1<=Parametry!$G$7,0,IF(COUNTIFS(Prognoza!$C$9:$C$38,C33)=1,IF(ISBLANK(INDEX(Prognoza!$K$9:$V$38,MATCH($C33,Prognoza!$C$9:$C$38,0),1)),"",IF(ISNUMBER(INDEX(Prognoza!$K$9:$V$38,MATCH($C33,Prognoza!$C$9:$C$38,0),1)),INDEX(Prognoza!$K$9:$V$38,MATCH($C33,Prognoza!$C$9:$C$38,0),1),"")),""))) -> 0 | J33: =IF(C33="","",IF(Plan!F11="Run",IF(ISNUMBER(INDEX(Parametry!$H$18:$S$18,1,1)),INDEX(Parametry!$H$18:$S$18,1,1),""),IF(ISNUMBER(INDEX(Parametry!$H$24:$S$24,1,1)),INDEX(Parametry!$H$24:$S$24,1,1),""))) -> 0 | K33: =IF(C33="","",IF(1<=Parametry!$G$7,0,IF(AND(ISNUMBER(I33),ISNUMBER(J33),J33>=-1),I33*(1+J33),""))) -> 0 | L33: =IF(C33="","",IF(1<=Parametry!$G$7,G33,IF(ISNUMBER(K33),H33+K33,""))) -> 3000 | M33: =IF(AND(C33<>"",ISNUMBER(L33)),L33-F33,"") -> 0 | N33: =IF(C33="",0,IF(ISNUMBER(L33),0,1)) -> 0
C34: =IF(Plan!C11="","",Plan!C11) -> IT03 | D34: =IF(C34="","",Plan!D11) -> Backup i odtwarzanie | E34: =IF(OR(C34="",Parametry!$G$6=""),"",DATE(Parametry!$G$6,2,1)) -> 46419 | F34: =IF(C34="","",Plan!L11) -> 3000 | G34: =IF(C34="","",SUMIFS(ERP!$I$9:$I$1008,ERP!$L$9:$L$1008,C34,ERP!$N$9:$N$1008,1,ERP!$M$9:$M$1008,2)) -> 3000 | H34: =IF(C34="","",IF(2<=Parametry!$G$7,0,SUMIFS(Umowy!$N$9:$N$108,Umowy!$D$9:$D$108,C34,Umowy!$O$9:$O$108,2))) -> 0 | I34: =IF(C34="","",IF(2<=Parametry!$G$7,0,IF(COUNTIFS(Prognoza!$C$9:$C$38,C34)=1,IF(ISBLANK(INDEX(Prognoza!$K$9:$V$38,MATCH($C34,Prognoza!$C$9:$C$38,0),2)),"",IF(ISNUMBER(INDEX(Prognoza!$K$9:$V$38,MATCH($C34,Prognoza!$C$9:$C$38,0),2)),INDEX(Prognoza!$K$9:$V$38,MATCH($C34,Prognoza!$C$9:$C$38,0),2),"")),""))) -> 0 | J34: =IF(C34="","",IF(Plan!F11="Run",IF(ISNUMBER(INDEX(Parametry!$H$18:$S$18,1,2)),INDEX(Parametry!$H$18:$S$18,1,2),""),IF(ISNUMBER(INDEX(Parametry!$H$24:$S$24,1,2)),INDEX(Parametry!$H$24:$S$24,1,2),""))) -> 0 | K34: =IF(C34="","",IF(2<=Parametry!$G$7,0,IF(AND(ISNUMBER(I34),ISNUMBER(J34),J34>=-1),I34*(1+J34),""))) -> 0 | L34: =IF(C34="","",IF(2<=Parametry!$G$7,G34,IF(ISNUMBER(K34),H34+K34,""))) -> 3000 | M34: =IF(AND(C34<>"",ISNUMBER(L34)),L34-F34,"") -> 0 | N34: =IF(C34="",0,IF(ISNUMBER(L34),0,1)) -> 0
C35: =IF(Plan!C11="","",Plan!C11) -> IT03 | D35: =IF(C35="","",Plan!D11) -> Backup i odtwarzanie | E35: =IF(OR(C35="",Parametry!$G$6=""),"",DATE(Parametry!$G$6,3,1)) -> 46447 | F35: =IF(C35="","",Plan!M11) -> 3000 | G35: =IF(C35="","",SUMIFS(ERP!$I$9:$I$1008,ERP!$L$9:$L$1008,C35,ERP!$N$9:$N$1008,1,ERP!$M$9:$M$1008,3)) -> 3000 | H35: =IF(C35="","",IF(3<=Parametry!$G$7,0,SUMIFS(Umowy!$N$9:$N$108,Umowy!$D$9:$D$108,C35,Umowy!$O$9:$O$108,3))) -> 0 | I35: =IF(C35="","",IF(3<=Parametry!$G$7,0,IF(COUNTIFS(Prognoza!$C$9:$C$38,C35)=1,IF(ISBLANK(INDEX(Prognoza!$K$9:$V$38,MATCH($C35,Prognoza!$C$9:$C$38,0),3)),"",IF(ISNUMBER(INDEX(Prognoza!$K$9:$V$38,MATCH($C35,Prognoza!$C$9:$C$38,0),3)),INDEX(Prognoza!$K$9:$V$38,MATCH($C35,Prognoza!$C$9:$C$38,0),3),"")),""))) -> 0 | J35: =IF(C35="","",IF(Plan!F11="Run",IF(ISNUMBER(INDEX(Parametry!$H$18:$S$18,1,3)),INDEX(Parametry!$H$18:$S$18,1,3),""),IF(ISNUMBER(INDEX(Parametry!$H$24:$S$24,1,3)),INDEX(Parametry!$H$24:$S$24,1,3),""))) -> 0 | K35: =IF(C35="","",IF(3<=Parametry!$G$7,0,IF(AND(ISNUMBER(I35),ISNUMBER(J35),J35>=-1),I35*(1+J35),""))) -> 0 | L35: =IF(C35="","",IF(3<=Parametry!$G$7,G35,IF(ISNUMBER(K35),H35+K35,""))) -> 3000 | M35: =IF(AND(C35<>"",ISNUMBER(L35)),L35-F35,"") -> 0 | N35: =IF(C35="",0,IF(ISNUMBER(L35),0,1)) -> 0
C36: =IF(Plan!C11="","",Plan!C11) -> IT03 | D36: =IF(C36="","",Plan!D11) -> Backup i odtwarzanie | E36: =IF(OR(C36="",Parametry!$G$6=""),"",DATE(Parametry!$G$6,4,1)) -> 46478 | F36: =IF(C36="","",Plan!N11) -> 3000 | G36: =IF(C36="","",SUMIFS(ERP!$I$9:$I$1008,ERP!$L$9:$L$1008,C36,ERP!$N$9:$N$1008,1,ERP!$M$9:$M$1008,4)) -> 3000 | H36: =IF(C36="","",IF(4<=Parametry!$G$7,0,SUMIFS(Umowy!$N$9:$N$108,Umowy!$D$9:$D$108,C36,Umowy!$O$9:$O$108,4))) -> 0 | I36: =IF(C36="","",IF(4<=Parametry!$G$7,0,IF(COUNTIFS(Prognoza!$C$9:$C$38,C36)=1,IF(ISBLANK(INDEX(Prognoza!$K$9:$V$38,MATCH($C36,Prognoza!$C$9:$C$38,0),4)),"",IF(ISNUMBER(INDEX(Prognoza!$K$9:$V$38,MATCH($C36,Prognoza!$C$9:$C$38,0),4)),INDEX(Prognoza!$K$9:$V$38,MATCH($C36,Prognoza!$C$9:$C$38,0),4),"")),""))) -> 0 | J36: =IF(C36="","",IF(Plan!F11="Run",IF(ISNUMBER(INDEX(Parametry!$H$18:$S$18,1,4)),INDEX(Parametry!$H$18:$S$18,1,4),""),IF(ISNUMBER(INDEX(Parametry!$H$24:$S$24,1,4)),INDEX(Parametry!$H$24:$S$24,1,4),""))) -> 0 | K36: =IF(C36="","",IF(4<=Parametry!$G$7,0,IF(AND(ISNUMBER(I36),ISNUMBER(J36),J36>=-1),I36*(1+J36),""))) -> 0 | L36: =IF(C36="","",IF(4<=Parametry!$G$7,G36,IF(ISNUMBER(K36),H36+K36,""))) -> 3000 | M36: =IF(AND(C36<>"",ISNUMBER(L36)),L36-F36,"") -> 0 | N36: =IF(C36="",0,IF(ISNUMBER(L36),0,1)) -> 0
C37: =IF(Plan!C11="","",Plan!C11) -> IT03 | D37: =IF(C37="","",Plan!D11) -> Backup i odtwarzanie | E37: =IF(OR(C37="",Parametry!$G$6=""),"",DATE(Parametry!$G$6,5,1)) -> 46508 | F37: =IF(C37="","",Plan!O11) -> 3000 | G37: =IF(C37="","",SUMIFS(ERP!$I$9:$I$1008,ERP!$L$9:$L$1008,C37,ERP!$N$9:$N$1008,1,ERP!$M$9:$M$1008,5)) -> 3000 | H37: =IF(C37="","",IF(5<=Parametry!$G$7,0,SUMIFS(Umowy!$N$9:$N$108,Umowy!$D$9:$D$108,C37,Umowy!$O$9:$O$108,5))) -> 0 | I37: =IF(C37="","",IF(5<=Parametry!$G$7,0,IF(COUNTIFS(Prognoza!$C$9:$C$38,C37)=1,IF(ISBLANK(INDEX(Prognoza!$K$9:$V$38,MATCH($C37,Prognoza!$C$9:$C$38,0),5)),"",IF(ISNUMBER(INDEX(Prognoza!$K$9:$V$38,MATCH($C37,Prognoza!$C$9:$C$38,0),5)),INDEX(Prognoza!$K$9:$V$38,MATCH($C37,Prognoza!$C$9:$C$38,0),5),"")),""))) -> 0 | J37: =IF(C37="","",IF(Plan!F11="Run",IF(ISNUMBER(INDEX(Parametry!$H$18:$S$18,1,5)),INDEX(Parametry!$H$18:$S$18,1,5),""),IF(ISNUMBER(INDEX(Parametry!$H$24:$S$24,1,5)),INDEX(Parametry!$H$24:$S$24,1,5),""))) -> 0 | K37: =IF(C37="","",IF(5<=Parametry!$G$7,0,IF(AND(ISNUMBER(I37),ISNUMBER(J37),J37>=-1),I37*(1+J37),""))) -> 0 | L37: =IF(C37="","",IF(5<=Parametry!$G$7,G37,IF(ISNUMBER(K37),H37+K37,""))) -> 3000 | M37: =IF(AND(C37<>"",ISNUMBER(L37)),L37-F37,"") -> 0 | N37: =IF(C37="",0,IF(ISNUMBER(L37),0,1)) -> 0
C38: =IF(Plan!C11="","",Plan!C11) -> IT03 | D38: =IF(C38="","",Plan!D11) -> Backup i odtwarzanie | E38: =IF(OR(C38="",Parametry!$G$6=""),"",DATE(Parametry!$G$6,6,1)) -> 46539 | F38: =IF(C38="","",Plan!P11) -> 3000 | G38: =IF(C38="","",SUMIFS(ERP!$I$9:$I$1008,ERP!$L$9:$L$1008,C38,ERP!$N$9:$N$1008,1,ERP!$M$9:$M$1008,6)) -> 3000 | H38: =IF(C38="","",IF(6<=Parametry!$G$7,0,SUMIFS(Umowy!$N$9:$N$108,Umowy!$D$9:$D$108,C38,Umowy!$O$9:$O$108,6))) -> 0 | I38: =IF(C38="","",IF(6<=Parametry!$G$7,0,IF(COUNTIFS(Prognoza!$C$9:$C$38,C38)=1,IF(ISBLANK(INDEX(Prognoza!$K$9:$V$38,MATCH($C38,Prognoza!$C$9:$C$38,0),6)),"",IF(ISNUMBER(INDEX(Prognoza!$K$9:$V$38,MATCH($C38,Prognoza!$C$9:$C$38,0),6)),INDEX(Prognoza!$K$9:$V$38,MATCH($C38,Prognoza!$C$9:$C$38,0),6),"")),""))) -> 0 | J38: =IF(C38="","",IF(Plan!F11="Run",IF(ISNUMBER(INDEX(Parametry!$H$18:$S$18,1,6)),INDEX(Parametry!$H$18:$S$18,1,6),""),IF(ISNUMBER(INDEX(Parametry!$H$24:$S$24,1,6)),INDEX(Parametry!$H$24:$S$24,1,6),""))) -> 0 | K38: =IF(C38="","",IF(6<=Parametry!$G$7,0,IF(AND(ISNUMBER(I38),ISNUMBER(J38),J38>=-1),I38*(1+J38),""))) -> 0 | L38: =IF(C38="","",IF(6<=Parametry!$G$7,G38,IF(ISNUMBER(K38),H38+K38,""))) -> 3000 | M38: =IF(AND(C38<>"",ISNUMBER(L38)),L38-F38,"") -> 0 | N38: =IF(C38="",0,IF(ISNUMBER(L38),0,1)) -> 0
C39: =IF(Plan!C11="","",Plan!C11) -> IT03 | D39: =IF(C39="","",Plan!D11) -> Backup i odtwarzanie | E39: =IF(OR(C39="",Parametry!$G$6=""),"",DATE(Parametry!$G$6,7,1)) -> 46569 | F39: =IF(C39="","",Plan!Q11) -> 3000 | G39: =IF(C39="","",SUMIFS(ERP!$I$9:$I$1008,ERP!$L$9:$L$1008,C39,ERP!$N$9:$N$1008,1,ERP!$M$9:$M$1008,7)) -> 0 | H39: =IF(C39="","",IF(7<=Parametry!$G$7,0,SUMIFS(Umowy!$N$9:$N$108,Umowy!$D$9:$D$108,C39,Umowy!$O$9:$O$108,7))) -> 3000 | I39: =IF(C39="","",IF(7<=Parametry!$G$7,0,IF(COUNTIFS(Prognoza!$C$9:$C$38,C39)=1,IF(ISBLANK(INDEX(Prognoza!$K$9:$V$38,MATCH($C39,Prognoza!$C$9:$C$38,0),7)),"",IF(ISNUMBER(INDEX(Prognoza!$K$9:$V$38,MATCH($C39,Prognoza!$C$9:$C$38,0),7)),INDEX(Prognoza!$K$9:$V$38,MATCH($C39,Prognoza!$C$9:$C$38,0),7),"")),""))) -> 0 | J39: =IF(C39="","",IF(Plan!F11="Run",IF(ISNUMBER(INDEX(Parametry!$H$18:$S$18,1,7)),INDEX(Parametry!$H$18:$S$18,1,7),""),IF(ISNUMBER(INDEX(Parametry!$H$24:$S$24,1,7)),INDEX(Parametry!$H$24:$S$24,1,7),""))) -> 0 | K39: =IF(C39="","",IF(7<=Parametry!$G$7,0,IF(AND(ISNUMBER(I39),ISNUMBER(J39),J39>=-1),I39*(1+J39),""))) -> 0 | L39: =IF(C39="","",IF(7<=Parametry!$G$7,G39,IF(ISNUMBER(K39),H39+K39,""))) -> 3000 | M39: =IF(AND(C39<>"",ISNUMBER(L39)),L39-F39,"") -> 0 | N39: =IF(C39="",0,IF(ISNUMBER(L39),0,1)) -> 0
C40: =IF(Plan!C11="","",Plan!C11) -> IT03 | D40: =IF(C40="","",Plan!D11) -> Backup i odtwarzanie | E40: =IF(OR(C40="",Parametry!$G$6=""),"",DATE(Parametry!$G$6,8,1)) -> 46600 | F40: =IF(C40="","",Plan!R11) -> 3000 | G40: =IF(C40="","",SUMIFS(ERP!$I$9:$I$1008,ERP!$L$9:$L$1008,C40,ERP!$N$9:$N$1008,1,ERP!$M$9:$M$1008,8)) -> 0 | H40: =IF(C40="","",IF(8<=Parametry!$G$7,0,SUMIFS(Umowy!$N$9:$N$108,Umowy!$D$9:$D$108,C40,Umowy!$O$9:$O$108,8))) -> 3000 | I40: =IF(C40="","",IF(8<=Parametry!$G$7,0,IF(COUNTIFS(Prognoza!$C$9:$C$38,C40)=1,IF(ISBLANK(INDEX(Prognoza!$K$9:$V$38,MATCH($C40,Prognoza!$C$9:$C$38,0),8)),"",IF(ISNUMBER(INDEX(Prognoza!$K$9:$V$38,MATCH($C40,Prognoza!$C$9:$C$38,0),8)),INDEX(Prognoza!$K$9:$V$38,MATCH($C40,Prognoza!$C$9:$C$38,0),8),"")),""))) -> 0 | J40: =IF(C40="","",IF(Plan!F11="Run",IF(ISNUMBER(INDEX(Parametry!$H$18:$S$18,1,8)),INDEX(Parametry!$H$18:$S$18,1,8),""),IF(ISNUMBER(INDEX(Parametry!$H$24:$S$24,1,8)),INDEX(Parametry!$H$24:$S$24,1,8),""))) -> 0 | K40: =IF(C40="","",IF(8<=Parametry!$G$7,0,IF(AND(ISNUMBER(I40),ISNUMBER(J40),J40>=-1),I40*(1+J40),""))) -> 0 | L40: =IF(C40="","",IF(8<=Parametry!$G$7,G40,IF(ISNUMBER(K40),H40+K40,""))) -> 3000 | M40: =IF(AND(C40<>"",ISNUMBER(L40)),L40-F40,"") -> 0 | N40: =IF(C40="",0,IF(ISNUMBER(L40),0,1)) -> 0
C41: =IF(Plan!C11="","",Plan!C11) -> IT03 | D41: =IF(C41="","",Plan!D11) -> Backup i odtwarzanie | E41: =IF(OR(C41="",Parametry!$G$6=""),"",DATE(Parametry!$G$6,9,1)) -> 46631 | F41: =IF(C41="","",Plan!S11) -> 3000 | G41: =IF(C41="","",SUMIFS(ERP!$I$9:$I$1008,ERP!$L$9:$L$1008,C41,ERP!$N$9:$N$1008,1,ERP!$M$9:$M$1008,9)) -> 0 | H41: =IF(C41="","",IF(9<=Parametry!$G$7,0,SUMIFS(Umowy!$N$9:$N$108,Umowy!$D$9:$D$108,C41,Umowy!$O$9:$O$108,9))) -> 3000 | I41: =IF(C41="","",IF(9<=Parametry!$G$7,0,IF(COUNTIFS(Prognoza!$C$9:$C$38,C41)=1,IF(ISBLANK(INDEX(Prognoza!$K$9:$V$38,MATCH($C41,Prognoza!$C$9:$C$38,0),9)),"",IF(ISNUMBER(INDEX(Prognoza!$K$9:$V$38,MATCH($C41,Prognoza!$C$9:$C$38,0),9)),INDEX(Prognoza!$K$9:$V$38,MATCH($C41,Prognoza!$C$9:$C$38,0),9),"")),""))) -> 0 | J41: =IF(C41="","",IF(Plan!F11="Run",IF(ISNUMBER(INDEX(Parametry!$H$18:$S$18,1,9)),INDEX(Parametry!$H$18:$S$18,1,9),""),IF(ISNUMBER(INDEX(Parametry!$H$24:$S$24,1,9)),INDEX(Parametry!$H$24:$S$24,1,9),""))) -> 0 | K41: =IF(C41="","",IF(9<=Parametry!$G$7,0,IF(AND(ISNUMBER(I41),ISNUMBER(J41),J41>=-1),I41*(1+J41),""))) -> 0 | L41: =IF(C41="","",IF(9<=Parametry!$G$7,G41,IF(ISNUMBER(K41),H41+K41,""))) -> 3000 | M41: =IF(AND(C41<>"",ISNUMBER(L41)),L41-F41,"") -> 0 | N41: =IF(C41="",0,IF(ISNUMBER(L41),0,1)) -> 0
C42: =IF(Plan!C11="","",Plan!C11) -> IT03 | D42: =IF(C42="","",Plan!D11) -> Backup i odtwarzanie | E42: =IF(OR(C42="",Parametry!$G$6=""),"",DATE(Parametry!$G$6,10,1)) -> 46661 | F42: =IF(C42="","",Plan!T11) -> 3000 | G42: =IF(C42="","",SUMIFS(ERP!$I$9:$I$1008,ERP!$L$9:$L$1008,C42,ERP!$N$9:$N$1008,1,ERP!$M$9:$M$1008,10)) -> 0 | H42: =IF(C42="","",IF(10<=Parametry!$G$7,0,SUMIFS(Umowy!$N$9:$N$108,Umowy!$D$9:$D$108,C42,Umowy!$O$9:$O$108,10))) -> 3000 | I42: =IF(C42="","",IF(10<=Parametry!$G$7,0,IF(COUNTIFS(Prognoza!$C$9:$C$38,C42)=1,IF(ISBLANK(INDEX(Prognoza!$K$9:$V$38,MATCH($C42,Prognoza!$C$9:$C$38,0),10)),"",IF(ISNUMBER(INDEX(Prognoza!$K$9:$V$38,MATCH($C42,Prognoza!$C$9:$C$38,0),10)),INDEX(Prognoza!$K$9:$V$38,MATCH($C42,Prognoza!$C$9:$C$38,0),10),"")),""))) -> 0 | J42: =IF(C42="","",IF(Plan!F11="Run",IF(ISNUMBER(INDEX(Parametry!$H$18:$S$18,1,10)),INDEX(Parametry!$H$18:$S$18,1,10),""),IF(ISNUMBER(INDEX(Parametry!$H$24:$S$24,1,10)),INDEX(Parametry!$H$24:$S$24,1,10),""))) -> 0 | K42: =IF(C42="","",IF(10<=Parametry!$G$7,0,IF(AND(ISNUMBER(I42),ISNUMBER(J42),J42>=-1),I42*(1+J42),""))) -> 0 | L42: =IF(C42="","",IF(10<=Parametry!$G$7,G42,IF(ISNUMBER(K42),H42+K42,""))) -> 3000 | M42: =IF(AND(C42<>"",ISNUMBER(L42)),L42-F42,"") -> 0 | N42: =IF(C42="",0,IF(ISNUMBER(L42),0,1)) -> 0
...

Sheet Alokacja
C2: Alokacja na biznes
C3: PRZYKŁAD HIPOTETYCZNY. Dane nie opisują rzeczywistej firmy.
C4: Wariant: | D4: =Parametry!$G$9 -> Bazowy
